BEGIN:VCALENDAR
VERSION:2.0
PRODID:-//Buurtcontactpunt Zesgehuchten - ECPv6.15.20//NONSGML v1.0//EN
CALSCALE:GREGORIAN
METHOD:PUBLISH
X-WR-CALNAME:Buurtcontactpunt Zesgehuchten
X-ORIGINAL-URL:https://bcpz.nl
X-WR-CALDESC:Evenementen voor Buurtcontactpunt Zesgehuchten
REFRESH-INTERVAL;VALUE=DURATION:PT1H
X-Robots-Tag:noindex
X-PUBLISHED-TTL:PT1H
BEGIN:VTIMEZONE
TZID:Europe/Amsterdam
BEGIN:DAYLIGHT
TZOFFSETFROM:+0100
TZOFFSETTO:+0200
TZNAME:CEST
DTSTART:20200329T010000
END:DAYLIGHT
BEGIN:STANDARD
TZOFFSETFROM:+0200
TZOFFSETTO:+0100
TZNAME:CET
DTSTART:20201025T010000
END:STANDARD
BEGIN:DAYLIGHT
TZOFFSETFROM:+0100
TZOFFSETTO:+0200
TZNAME:CEST
DTSTART:20210328T010000
END:DAYLIGHT
BEGIN:STANDARD
TZOFFSETFROM:+0200
TZOFFSETTO:+0100
TZNAME:CET
DTSTART:20211031T010000
END:STANDARD
BEGIN:DAYLIGHT
TZOFFSETFROM:+0100
TZOFFSETTO:+0200
TZNAME:CEST
DTSTART:20220327T010000
END:DAYLIGHT
BEGIN:STANDARD
TZOFFSETFROM:+0200
TZOFFSETTO:+0100
TZNAME:CET
DTSTART:20221030T010000
END:STANDARD
END:VTIMEZONE
BEGIN:VEVENT
DTSTART;TZID=Europe/Amsterdam:20211117T160000
DTEND;TZID=Europe/Amsterdam:20211117T183000
DTSTAMP:20260421T035035
CREATED:20211011T153732Z
LAST-MODIFIED:20211113T102310Z
UID:167-1637164800-1637173800@bcpz.nl
SUMMARY:Samen Eten op woensdag - GAAT NIET DOOR i.v.m. coronamaatregelen
DESCRIPTION:
URL:https://bcpz.nl/event/samen-eten-op-woensdag-3/
LOCATION:Josephinehof\, Josephinehof 2A (ingang in Gildestraat)\, Geldrop\, NB\, Nederland
CATEGORIES:Samen Eten
END:VEVENT
BEGIN:VEVENT
DTSTART;TZID=Europe/Amsterdam:20211109T110000
DTEND;TZID=Europe/Amsterdam:20211109T130000
DTSTAMP:20260421T035035
CREATED:20211011T153357Z
LAST-MODIFIED:20211011T153357Z
UID:165-1636455600-1636462800@bcpz.nl
SUMMARY:Gym met lunch
DESCRIPTION:
URL:https://bcpz.nl/event/gym-met-lunch/
LOCATION:Josephinehof\, Josephinehof 2A (ingang in Gildestraat)\, Geldrop\, NB\, Nederland
CATEGORIES:Samen Gymmen
END:VEVENT
BEGIN:VEVENT
DTSTART;TZID=Europe/Amsterdam:20211102T110000
DTEND;TZID=Europe/Amsterdam:20211102T130000
DTSTAMP:20260421T035035
CREATED:20211011T141616Z
LAST-MODIFIED:20211011T152341Z
UID:149-1635850800-1635858000@bcpz.nl
SUMMARY:Gym met lunch
DESCRIPTION:
URL:https://bcpz.nl/event/samen-gym-met-lunch-4/
LOCATION:Josephinehof\, Josephinehof 2A (ingang in Gildestraat)\, Geldrop\, NB\, Nederland
CATEGORIES:Samen Gymmen
END:VEVENT
BEGIN:VEVENT
DTSTART;TZID=Europe/Amsterdam:20211101T100000
DTEND;TZID=Europe/Amsterdam:20211101T120000
DTSTAMP:20260421T035035
CREATED:20211011T140938Z
LAST-MODIFIED:20211011T152756Z
UID:146-1635760800-1635768000@bcpz.nl
SUMMARY:Inloop
DESCRIPTION:
URL:https://bcpz.nl/event/samen-koffie-met-2/
LOCATION:Josephinehof\, Josephinehof 2A (ingang in Gildestraat)\, Geldrop\, NB\, Nederland
CATEGORIES:Inloop
END:VEVENT
BEGIN:VEVENT
DTSTART;TZID=Europe/Amsterdam:20211012T110000
DTEND;TZID=Europe/Amsterdam:20211012T130000
DTSTAMP:20260421T035035
CREATED:20211011T132808Z
LAST-MODIFIED:20211011T152308Z
UID:132-1634036400-1634043600@bcpz.nl
SUMMARY:Gym met lunch
DESCRIPTION:
URL:https://bcpz.nl/event/samen-gym-met-lunch/
LOCATION:Josephinehof\, Josephinehof 2A (ingang in Gildestraat)\, Geldrop\, NB\, Nederland
CATEGORIES:Samen Gymmen
END:VEVENT
END:VCALENDAR