BEGIN:VCALENDAR
VERSION:2.0
PRODID:-//Buurtcontactpunt Zesgehuchten - ECPv6.15.20//NONSGML v1.0//EN
CALSCALE:GREGORIAN
METHOD:PUBLISH
X-WR-CALNAME:Buurtcontactpunt Zesgehuchten
X-ORIGINAL-URL:https://bcpz.nl
X-WR-CALDESC:Evenementen voor Buurtcontactpunt Zesgehuchten
REFRESH-INTERVAL;VALUE=DURATION:PT1H
X-Robots-Tag:noindex
X-PUBLISHED-TTL:PT1H
BEGIN:VTIMEZONE
TZID:Europe/Amsterdam
BEGIN:DAYLIGHT
TZOFFSETFROM:+0100
TZOFFSETTO:+0200
TZNAME:CEST
DTSTART:20240331T010000
END:DAYLIGHT
BEGIN:STANDARD
TZOFFSETFROM:+0200
TZOFFSETTO:+0100
TZNAME:CET
DTSTART:20241027T010000
END:STANDARD
BEGIN:DAYLIGHT
TZOFFSETFROM:+0100
TZOFFSETTO:+0200
TZNAME:CEST
DTSTART:20250330T010000
END:DAYLIGHT
BEGIN:STANDARD
TZOFFSETFROM:+0200
TZOFFSETTO:+0100
TZNAME:CET
DTSTART:20251026T010000
END:STANDARD
BEGIN:DAYLIGHT
TZOFFSETFROM:+0100
TZOFFSETTO:+0200
TZNAME:CEST
DTSTART:20260329T010000
END:DAYLIGHT
BEGIN:STANDARD
TZOFFSETFROM:+0200
TZOFFSETTO:+0100
TZNAME:CET
DTSTART:20261025T010000
END:STANDARD
END:VTIMEZONE
BEGIN:VEVENT
DTSTART;TZID=Europe/Amsterdam:20251103T100000
DTEND;TZID=Europe/Amsterdam:20251103T120000
DTSTAMP:20260423T064912
CREATED:20251014T164329Z
LAST-MODIFIED:20251014T164329Z
UID:1756-1762164000-1762171200@bcpz.nl
SUMMARY:Inloop met koffie en thee
DESCRIPTION:Josephinehof\, Josephinehof 2A (ingang in Gildestraat)\, Geldrop. Aanmelden hoeft niet\, kom gezellig langs. bijdrage 3 euro
URL:https://bcpz.nl/event/inloop-met-koffie-en-thee-183/
CATEGORIES:Inloop
END:VEVENT
BEGIN:VEVENT
DTSTART;TZID=Europe/Amsterdam:20251104T110000
DTEND;TZID=Europe/Amsterdam:20251104T110000
DTSTAMP:20260423T064912
CREATED:20251014T165136Z
LAST-MODIFIED:20251014T165136Z
UID:1782-1762254000-1762254000@bcpz.nl
SUMMARY:Gym met lunch
DESCRIPTION:Josephinehof\, Josephinehof 2A (ingang in Gildestraat)\, Geldrop. Als u nog niet op de lijst staat\, bel Ine tel. 06 83 89 64 91. Bijdrage € 5
URL:https://bcpz.nl/event/gym-met-lunch-194/
CATEGORIES:Samen Gymmen
END:VEVENT
BEGIN:VEVENT
DTSTART;TZID=Europe/Amsterdam:20251110T100000
DTEND;TZID=Europe/Amsterdam:20251110T120000
DTSTAMP:20260423T064912
CREATED:20251014T164404Z
LAST-MODIFIED:20251014T164404Z
UID:1758-1762768800-1762776000@bcpz.nl
SUMMARY:Inloop met koffie en thee
DESCRIPTION:Josephinehof\, Josephinehof 2A (ingang in Gildestraat)\, Geldrop. Aanmelden hoeft niet\, kom gezellig langs. bijdrage 3 euro
URL:https://bcpz.nl/event/inloop-met-koffie-en-thee-184/
CATEGORIES:Inloop
END:VEVENT
BEGIN:VEVENT
DTSTART;TZID=Europe/Amsterdam:20251111T110000
DTEND;TZID=Europe/Amsterdam:20251111T130000
DTSTAMP:20260423T064912
CREATED:20251014T165208Z
LAST-MODIFIED:20251014T165208Z
UID:1784-1762858800-1762866000@bcpz.nl
SUMMARY:Gym met lunch
DESCRIPTION:Josephinehof\, Josephinehof 2A (ingang in Gildestraat)\, Geldrop. Als u nog niet op de lijst staat\, bel Ine tel. 06 83 89 64 91. Bijdrage € 5
URL:https://bcpz.nl/event/gym-met-lunch-195/
CATEGORIES:Samen Gymmen
END:VEVENT
BEGIN:VEVENT
DTSTART;TZID=Europe/Amsterdam:20251113T160000
DTEND;TZID=Europe/Amsterdam:20251113T183000
DTSTAMP:20260423T064912
CREATED:20251014T165839Z
LAST-MODIFIED:20251014T165839Z
UID:1802-1763049600-1763058600@bcpz.nl
SUMMARY:Samen eten op donderdag
DESCRIPTION:Josephinehof\, Josephinehof 2A (ingang in Gildestraat)\, Geldrop. Als u nog niet op de lijst staat\, bel Aggie tel. 06 364 04180. Bijdrage € 7\,50
URL:https://bcpz.nl/event/samen-eten-op-donderdag-45/
CATEGORIES:Samen Eten,Samen Gymmen
END:VEVENT
BEGIN:VEVENT
DTSTART;TZID=Europe/Amsterdam:20251117T100000
DTEND;TZID=Europe/Amsterdam:20251117T120000
DTSTAMP:20260423T064912
CREATED:20251014T164437Z
LAST-MODIFIED:20251014T164437Z
UID:1760-1763373600-1763380800@bcpz.nl
SUMMARY:Inloop met koffie en thee
DESCRIPTION:Josephinehof\, Josephinehof 2A (ingang in Gildestraat)\, Geldrop. Aanmelden hoeft niet\, kom gezellig langs. bijdrage 3 euro
URL:https://bcpz.nl/event/inloop-met-koffie-en-thee-185/
CATEGORIES:Inloop
END:VEVENT
BEGIN:VEVENT
DTSTART;TZID=Europe/Amsterdam:20251118T110000
DTEND;TZID=Europe/Amsterdam:20251118T130000
DTSTAMP:20260423T064912
CREATED:20251014T165235Z
LAST-MODIFIED:20251014T165235Z
UID:1786-1763463600-1763470800@bcpz.nl
SUMMARY:Gym met lunch
DESCRIPTION:Josephinehof\, Josephinehof 2A (ingang in Gildestraat)\, Geldrop. Als u nog niet op de lijst staat\, bel Ine tel. 06 83 89 64 91. Bijdrage € 5
URL:https://bcpz.nl/event/gym-met-lunch-196/
CATEGORIES:Samen Gymmen
END:VEVENT
BEGIN:VEVENT
DTSTART;TZID=Europe/Amsterdam:20251119T160000
DTEND;TZID=Europe/Amsterdam:20251119T180000
DTSTAMP:20260423T064912
CREATED:20251014T170252Z
LAST-MODIFIED:20251014T170252Z
UID:1808-1763568000-1763575200@bcpz.nl
SUMMARY:Samen eten op woensdag
DESCRIPTION:Josephinehof\, Josephinehof 2A (ingang in Gildestraat)\, Geldrop. Als u nog niet op de lijst staat\, bel Aggie tel. 06 364 04180. Bijdrage € 7\,50
URL:https://bcpz.nl/event/samen-eten-op-woensdag-45/
CATEGORIES:Samen Eten
END:VEVENT
BEGIN:VEVENT
DTSTART;TZID=Europe/Amsterdam:20251124T100000
DTEND;TZID=Europe/Amsterdam:20251124T120000
DTSTAMP:20260423T064912
CREATED:20251014T164508Z
LAST-MODIFIED:20251014T164508Z
UID:1762-1763978400-1763985600@bcpz.nl
SUMMARY:Inloop met koffie en thee
DESCRIPTION:Josephinehof\, Josephinehof 2A (ingang in Gildestraat)\, Geldrop. Aanmelden hoeft niet\, kom gezellig langs. bijdrage 3 euro
URL:https://bcpz.nl/event/inloop-met-koffie-en-thee-186/
CATEGORIES:Inloop
END:VEVENT
BEGIN:VEVENT
DTSTART;TZID=Europe/Amsterdam:20251125T110000
DTEND;TZID=Europe/Amsterdam:20251125T130000
DTSTAMP:20260423T064912
CREATED:20251014T165302Z
LAST-MODIFIED:20251014T165302Z
UID:1788-1764068400-1764075600@bcpz.nl
SUMMARY:Gym met lunch
DESCRIPTION:Josephinehof\, Josephinehof 2A (ingang in Gildestraat)\, Geldrop. Als u nog niet op de lijst staat\, bel Ine tel. 06 83 89 64 91. Bijdrage € 5
URL:https://bcpz.nl/event/gym-met-lunch-197/
CATEGORIES:Samen Gymmen
END:VEVENT
BEGIN:VEVENT
DTSTART;TZID=Europe/Amsterdam:20251125T200000
DTEND;TZID=Europe/Amsterdam:20251125T220000
DTSTAMP:20260423T064912
CREATED:20250331T113456Z
LAST-MODIFIED:20250331T113456Z
UID:1628-1764100800-1764108000@bcpz.nl
SUMMARY:bestuursvergadering Belangenvereniging Zesgehuchten
DESCRIPTION:
URL:https://bcpz.nl/event/bestuursvergadering-belangenvereniging-zesgehuchten-12/
LOCATION:Josephinehof\, Josephinehof 2A (ingang in Gildestraat)\, Geldrop\, NB\, Nederland
END:VEVENT
BEGIN:VEVENT
DTSTART;TZID=Europe/Amsterdam:20251126T140000
DTEND;TZID=Europe/Amsterdam:20251126T160000
DTSTAMP:20260423T064912
CREATED:20251113T123447Z
LAST-MODIFIED:20251113T123545Z
UID:1823-1764165600-1764172800@bcpz.nl
SUMMARY:Sinterklaasliedjes BINGO met leuke prijsjes!
DESCRIPTION:Natuurlijk is er gratis koffie en thee en de mogelijkheid om tegen betaling een drankje te bestellen. Josephinehof\, Josephinehof 2A (ingang in Gildestraat)\, Geldrop. \n\n\n\nTijd: 14.00 tot ongeveer 16.00 uur Kosten 5 euro \nOpgeven bij Aggie (liefst voor 20 november) mobiel 06 36 40 41 80 \n \n 
URL:https://bcpz.nl/event/sinterklaasliedjes-bingo-met-leuke-prijsjes/
CATEGORIES:Extra activiteiten
END:VEVENT
END:VCALENDAR