BEGIN:VCALENDAR
VERSION:2.0
PRODID:-//Buurtcontactpunt Zesgehuchten - ECPv6.15.20//NONSGML v1.0//EN
CALSCALE:GREGORIAN
METHOD:PUBLISH
X-WR-CALNAME:Buurtcontactpunt Zesgehuchten
X-ORIGINAL-URL:https://bcpz.nl
X-WR-CALDESC:Evenementen voor Buurtcontactpunt Zesgehuchten
REFRESH-INTERVAL;VALUE=DURATION:PT1H
X-Robots-Tag:noindex
X-PUBLISHED-TTL:PT1H
BEGIN:VTIMEZONE
TZID:Europe/Amsterdam
BEGIN:DAYLIGHT
TZOFFSETFROM:+0100
TZOFFSETTO:+0200
TZNAME:CEST
DTSTART:20240331T010000
END:DAYLIGHT
BEGIN:STANDARD
TZOFFSETFROM:+0200
TZOFFSETTO:+0100
TZNAME:CET
DTSTART:20241027T010000
END:STANDARD
BEGIN:DAYLIGHT
TZOFFSETFROM:+0100
TZOFFSETTO:+0200
TZNAME:CEST
DTSTART:20250330T010000
END:DAYLIGHT
BEGIN:STANDARD
TZOFFSETFROM:+0200
TZOFFSETTO:+0100
TZNAME:CET
DTSTART:20251026T010000
END:STANDARD
BEGIN:DAYLIGHT
TZOFFSETFROM:+0100
TZOFFSETTO:+0200
TZNAME:CEST
DTSTART:20260329T010000
END:DAYLIGHT
BEGIN:STANDARD
TZOFFSETFROM:+0200
TZOFFSETTO:+0100
TZNAME:CET
DTSTART:20261025T010000
END:STANDARD
END:VTIMEZONE
BEGIN:VEVENT
DTSTART;TZID=Europe/Amsterdam:20251103T100000
DTEND;TZID=Europe/Amsterdam:20251103T120000
DTSTAMP:20260421T222033
CREATED:20251014T164329Z
LAST-MODIFIED:20251014T164329Z
UID:1756-1762164000-1762171200@bcpz.nl
SUMMARY:Inloop met koffie en thee
DESCRIPTION:Josephinehof\, Josephinehof 2A (ingang in Gildestraat)\, Geldrop. Aanmelden hoeft niet\, kom gezellig langs. bijdrage 3 euro
URL:https://bcpz.nl/event/inloop-met-koffie-en-thee-183/
CATEGORIES:Inloop
END:VEVENT
BEGIN:VEVENT
DTSTART;TZID=Europe/Amsterdam:20251028T200000
DTEND;TZID=Europe/Amsterdam:20251028T220000
DTSTAMP:20260421T222033
CREATED:20250331T113311Z
LAST-MODIFIED:20250331T113311Z
UID:1626-1761681600-1761688800@bcpz.nl
SUMMARY:bestuursvergadering Belangenvereniging Zesgehuchten
DESCRIPTION:
URL:https://bcpz.nl/event/bestuursvergadering-belangenvereniging-zesgehuchten-11/
LOCATION:Josephinehof\, Josephinehof 2A (ingang in Gildestraat)\, Geldrop\, NB\, Nederland
END:VEVENT
BEGIN:VEVENT
DTSTART;TZID=Europe/Amsterdam:20251028T110000
DTEND;TZID=Europe/Amsterdam:20251028T130000
DTSTAMP:20260421T222033
CREATED:20251014T165056Z
LAST-MODIFIED:20251014T165056Z
UID:1780-1761649200-1761656400@bcpz.nl
SUMMARY:Gym met lunch
DESCRIPTION:Josephinehof\, Josephinehof 2A (ingang in Gildestraat)\, Geldrop. Als u nog niet op de lijst staat\, bel Ine tel. 06 83 89 64 91. Bijdrage € 5
URL:https://bcpz.nl/event/gym-met-lunch-193/
CATEGORIES:Samen Gymmen
END:VEVENT
BEGIN:VEVENT
DTSTART;TZID=Europe/Amsterdam:20251027T100000
DTEND;TZID=Europe/Amsterdam:20251027T120000
DTSTAMP:20260421T222033
CREATED:20251014T164254Z
LAST-MODIFIED:20251014T164254Z
UID:1754-1761559200-1761566400@bcpz.nl
SUMMARY:Inloop met koffie en thee
DESCRIPTION:Josephinehof\, Josephinehof 2A (ingang in Gildestraat)\, Geldrop. Aanmelden hoeft niet\, kom gezellig langs. bijdrage 3 euro
URL:https://bcpz.nl/event/inloop-met-koffie-en-thee-182/
CATEGORIES:Inloop
END:VEVENT
BEGIN:VEVENT
DTSTART;TZID=Europe/Amsterdam:20251023T140000
DTEND;TZID=Europe/Amsterdam:20251023T160000
DTSTAMP:20260421T222033
CREATED:20251019T152403Z
LAST-MODIFIED:20251019T153239Z
UID:1814-1761228000-1761235200@bcpz.nl
SUMMARY:Informatiemiddag: tips van de politie over oplichting bij ouderen
DESCRIPTION:We schenken een kopje thee of koffie met iets lekkers erbij. \nKosten 3 euro \nJosephinehof\, Josephinehof 2A (ingang in Gildestraat)\, Geldrop. \nOpgeven bij Aggie (liefst voor 20 oktober) mobiel 06 36 40 41 80
URL:https://bcpz.nl/event/informatiemiddag-tips-van-de-politie-over-oplichting-bij-ouderen/
CATEGORIES:Extra activiteiten
END:VEVENT
BEGIN:VEVENT
DTSTART;TZID=Europe/Amsterdam:20251021T110000
DTEND;TZID=Europe/Amsterdam:20251021T130000
DTSTAMP:20260421T222033
CREATED:20251014T165031Z
LAST-MODIFIED:20251014T165031Z
UID:1778-1761044400-1761051600@bcpz.nl
SUMMARY:Gym met lunch
DESCRIPTION:Josephinehof\, Josephinehof 2A (ingang in Gildestraat)\, Geldrop. Als u nog niet op de lijst staat\, bel Ine tel. 06 83 89 64 91. Bijdrage € 5
URL:https://bcpz.nl/event/gym-met-lunch-192/
CATEGORIES:Samen Gymmen
END:VEVENT
BEGIN:VEVENT
DTSTART;TZID=Europe/Amsterdam:20251020T143000
DTEND;TZID=Europe/Amsterdam:20251020T163000
DTSTAMP:20260421T222033
CREATED:20250331T124331Z
LAST-MODIFIED:20250331T124331Z
UID:1639-1760970600-1760977800@bcpz.nl
SUMMARY:Bestuursvergadering Buurtcontactpunt Zesgehuchten
DESCRIPTION:
URL:https://bcpz.nl/event/bestuursvergadering-buurtcontactpunt-zesgehuchten-4/
LOCATION:Josephinehof\, Josephinehof 2A (ingang in Gildestraat)\, Geldrop\, NB\, Nederland
END:VEVENT
BEGIN:VEVENT
DTSTART;TZID=Europe/Amsterdam:20251020T100000
DTEND;TZID=Europe/Amsterdam:20251020T120000
DTSTAMP:20260421T222033
CREATED:20251014T164218Z
LAST-MODIFIED:20251014T164218Z
UID:1752-1760954400-1760961600@bcpz.nl
SUMMARY:Inloop met koffie en thee
DESCRIPTION:Josephinehof\, Josephinehof 2A (ingang in Gildestraat)\, Geldrop. Aanmelden hoeft niet\, kom gezellig langs. bijdrage 3 euro
URL:https://bcpz.nl/event/inloop-met-koffie-en-thee-181/
CATEGORIES:Inloop
END:VEVENT
BEGIN:VEVENT
DTSTART;TZID=Europe/Amsterdam:20251015T160000
DTEND;TZID=Europe/Amsterdam:20251015T183000
DTSTAMP:20260421T222033
CREATED:20251014T170213Z
LAST-MODIFIED:20251014T170213Z
UID:1806-1760544000-1760553000@bcpz.nl
SUMMARY:Samen eten op woensdag
DESCRIPTION:Josephinehof\, Josephinehof 2A (ingang in Gildestraat)\, Geldrop. Als u nog niet op de lijst staat\, bel Aggie tel. 06 364 04180. Bijdrage € 7\,50
URL:https://bcpz.nl/event/samen-eten-op-woensdag-44/
CATEGORIES:Samen Eten
END:VEVENT
BEGIN:VEVENT
DTSTART;TZID=Europe/Amsterdam:20251014T110000
DTEND;TZID=Europe/Amsterdam:20251014T130000
DTSTAMP:20260421T222033
CREATED:20251014T165001Z
LAST-MODIFIED:20251014T165001Z
UID:1776-1760439600-1760446800@bcpz.nl
SUMMARY:Gym met lunch
DESCRIPTION:Josephinehof\, Josephinehof 2A (ingang in Gildestraat)\, Geldrop. Als u nog niet op de lijst staat\, bel Ine tel. 06 83 89 64 91. Bijdrage € 5
URL:https://bcpz.nl/event/gym-met-lunch-191/
CATEGORIES:Samen Gymmen
END:VEVENT
BEGIN:VEVENT
DTSTART;TZID=Europe/Amsterdam:20251013T100000
DTEND;TZID=Europe/Amsterdam:20251013T120000
DTSTAMP:20260421T222033
CREATED:20251014T164138Z
LAST-MODIFIED:20251014T164138Z
UID:1750-1760349600-1760356800@bcpz.nl
SUMMARY:Inloop met koffie en thee
DESCRIPTION:Josephinehof\, Josephinehof 2A (ingang in Gildestraat)\, Geldrop. Aanmelden hoeft niet\, kom gezellig langs. bijdrage 3 euro
URL:https://bcpz.nl/event/inloop-met-koffie-en-thee-180/
CATEGORIES:Inloop
END:VEVENT
BEGIN:VEVENT
DTSTART;TZID=Europe/Amsterdam:20251009T160000
DTEND;TZID=Europe/Amsterdam:20251009T183000
DTSTAMP:20260421T222033
CREATED:20251014T165803Z
LAST-MODIFIED:20251014T165803Z
UID:1800-1760025600-1760034600@bcpz.nl
SUMMARY:Samen eten op donderdag
DESCRIPTION:Josephinehof\, Josephinehof 2A (ingang in Gildestraat)\, Geldrop. Als u nog niet op de lijst staat\, bel Aggie tel. 06 364 04180. Bijdrage € 7\,50
URL:https://bcpz.nl/event/samen-eten-op-donderdag-44/
CATEGORIES:Samen Eten
END:VEVENT
BEGIN:VEVENT
DTSTART;TZID=Europe/Amsterdam:20251007T110000
DTEND;TZID=Europe/Amsterdam:20251007T130000
DTSTAMP:20260421T222033
CREATED:20251014T164928Z
LAST-MODIFIED:20251014T164928Z
UID:1774-1759834800-1759842000@bcpz.nl
SUMMARY:Gym met lunch
DESCRIPTION:Josephinehof\, Josephinehof 2A (ingang in Gildestraat)\, Geldrop. Als u nog niet op de lijst staat\, bel Ine tel. 06 83 89 64 91. Bijdrage € 5
URL:https://bcpz.nl/event/gym-met-lunch-190/
CATEGORIES:Samen Gymmen
END:VEVENT
BEGIN:VEVENT
DTSTART;TZID=Europe/Amsterdam:20251006T100000
DTEND;TZID=Europe/Amsterdam:20251006T120000
DTSTAMP:20260421T222033
CREATED:20251014T164057Z
LAST-MODIFIED:20251014T164057Z
UID:1748-1759744800-1759752000@bcpz.nl
SUMMARY:Inloop met koffie en thee
DESCRIPTION:Josephinehof\, Josephinehof 2A (ingang in Gildestraat)\, Geldrop. Aanmelden hoeft niet\, kom gezellig langs. bijdrage 3 euro
URL:https://bcpz.nl/event/inloop-met-koffie-en-thee-179/
CATEGORIES:Inloop
END:VEVENT
BEGIN:VEVENT
DTSTART;TZID=Europe/Amsterdam:20250930T200000
DTEND;TZID=Europe/Amsterdam:20250930T220000
DTSTAMP:20260421T222033
CREATED:20250331T113117Z
LAST-MODIFIED:20250331T113117Z
UID:1624-1759262400-1759269600@bcpz.nl
SUMMARY:bestuursvergadering Belangenvereniging Zesgehuchten
DESCRIPTION:
URL:https://bcpz.nl/event/bestuursvergadering-belangenvereniging-zesgehuchten-10/
LOCATION:Josephinehof\, Josephinehof 2A (ingang in Gildestraat)\, Geldrop\, NB\, Nederland
END:VEVENT
BEGIN:VEVENT
DTSTART;TZID=Europe/Amsterdam:20250930T110000
DTEND;TZID=Europe/Amsterdam:20250930T130000
DTSTAMP:20260421T222033
CREATED:20250530T093122Z
LAST-MODIFIED:20250530T093122Z
UID:1717-1759230000-1759237200@bcpz.nl
SUMMARY:Gym met lunch
DESCRIPTION:Josephinehof\, Josephinehof 2A (ingang in Gildestraat)\, Geldrop. Als u nog niet op de lijst staat\, bel Ine tel. 06 83 89 64 91. Bijdrage € 5
URL:https://bcpz.nl/event/gym-met-lunch-188/
CATEGORIES:Samen Gymmen
END:VEVENT
BEGIN:VEVENT
DTSTART;TZID=Europe/Amsterdam:20250929T100000
DTEND;TZID=Europe/Amsterdam:20250929T120000
DTSTAMP:20260421T222033
CREATED:20250530T092137Z
LAST-MODIFIED:20250530T092137Z
UID:1683-1759140000-1759147200@bcpz.nl
SUMMARY:Inloop met koffie en thee
DESCRIPTION:Josephinehof\, Josephinehof 2A (ingang in Gildestraat)\, Geldrop. Aanmelden hoeft niet\, kom gezellig langs. bijdrage 3 euro
URL:https://bcpz.nl/event/inloop-met-koffie-en-thee-178/
CATEGORIES:Inloop
END:VEVENT
BEGIN:VEVENT
DTSTART;TZID=Europe/Amsterdam:20250923T110000
DTEND;TZID=Europe/Amsterdam:20250923T130000
DTSTAMP:20260421T222033
CREATED:20250530T093055Z
LAST-MODIFIED:20250530T093055Z
UID:1715-1758625200-1758632400@bcpz.nl
SUMMARY:Gym met lunch
DESCRIPTION:Josephinehof\, Josephinehof 2A (ingang in Gildestraat)\, Geldrop. Als u nog niet op de lijst staat\, bel Ine tel. 06 83 89 64 91. Bijdrage € 5
URL:https://bcpz.nl/event/gym-met-lunch-187/
CATEGORIES:Samen Gymmen
END:VEVENT
BEGIN:VEVENT
DTSTART;TZID=Europe/Amsterdam:20250922T100000
DTEND;TZID=Europe/Amsterdam:20250922T120000
DTSTAMP:20260421T222033
CREATED:20250530T092104Z
LAST-MODIFIED:20250530T092104Z
UID:1681-1758535200-1758542400@bcpz.nl
SUMMARY:Inloop met koffie en thee
DESCRIPTION:Josephinehof\, Josephinehof 2A (ingang in Gildestraat)\, Geldrop. Aanmelden hoeft niet\, kom gezellig langs. bijdrage 3 euro
URL:https://bcpz.nl/event/inloop-met-koffie-en-thee-177/
CATEGORIES:Inloop
END:VEVENT
BEGIN:VEVENT
DTSTART;TZID=Europe/Amsterdam:20250917T000000
DTEND;TZID=Europe/Amsterdam:20250917T000000
DTSTAMP:20260421T222033
CREATED:20250530T093636Z
LAST-MODIFIED:20250608T124401Z
UID:1733-1758067200-1758067200@bcpz.nl
SUMMARY:Samen eten op woensdag / helaas vervallen
DESCRIPTION:Deze Samen eten op woensdag is helaas vervallen
URL:https://bcpz.nl/event/samen-eten-op-woensdag-43/
CATEGORIES:Samen Eten
END:VEVENT
BEGIN:VEVENT
DTSTART;TZID=Europe/Amsterdam:20250916T110000
DTEND;TZID=Europe/Amsterdam:20250916T130000
DTSTAMP:20260421T222033
CREATED:20250530T093023Z
LAST-MODIFIED:20250530T093023Z
UID:1713-1758020400-1758027600@bcpz.nl
SUMMARY:Gym met lunch
DESCRIPTION:Josephinehof\, Josephinehof 2A (ingang in Gildestraat)\, Geldrop. Als u nog niet op de lijst staat\, bel Ine tel. 06 83 89 64 91. Bijdrage € 5
URL:https://bcpz.nl/event/gym-met-lunch-186/
CATEGORIES:Samen Gymmen
END:VEVENT
BEGIN:VEVENT
DTSTART;TZID=Europe/Amsterdam:20250915T100000
DTEND;TZID=Europe/Amsterdam:20250915T120000
DTSTAMP:20260421T222033
CREATED:20250530T092031Z
LAST-MODIFIED:20250530T092031Z
UID:1679-1757930400-1757937600@bcpz.nl
SUMMARY:Inloop met koffie en thee
DESCRIPTION:Josephinehof\, Josephinehof 2A (ingang in Gildestraat)\, Geldrop. Aanmelden hoeft niet\, kom gezellig langs. bijdrage 3 euro
URL:https://bcpz.nl/event/inloop-met-koffie-en-thee-176/
CATEGORIES:Inloop
END:VEVENT
BEGIN:VEVENT
DTSTART;TZID=Europe/Amsterdam:20250911T000000
DTEND;TZID=Europe/Amsterdam:20250911T000000
DTSTAMP:20260421T222033
CREATED:20250530T093414Z
LAST-MODIFIED:20250608T124305Z
UID:1725-1757548800-1757548800@bcpz.nl
SUMMARY:Samen eten op donderdag/ helaas vervallen
DESCRIPTION:Deze Samen eten op donderdag is helaas vervallen
URL:https://bcpz.nl/event/samen-eten-op-donderdag-43/
CATEGORIES:Samen Eten
END:VEVENT
BEGIN:VEVENT
DTSTART;TZID=Europe/Amsterdam:20250909T110000
DTEND;TZID=Europe/Amsterdam:20250909T130000
DTSTAMP:20260421T222033
CREATED:20250530T092955Z
LAST-MODIFIED:20250530T092955Z
UID:1711-1757415600-1757422800@bcpz.nl
SUMMARY:Gym met lunch
DESCRIPTION:Josephinehof\, Josephinehof 2A (ingang in Gildestraat)\, Geldrop. Als u nog niet op de lijst staat\, bel Ine tel. 06 83 89 64 91. Bijdrage € 5
URL:https://bcpz.nl/event/gym-met-lunch-185/
CATEGORIES:Samen Gymmen
END:VEVENT
BEGIN:VEVENT
DTSTART;TZID=Europe/Amsterdam:20250908T100000
DTEND;TZID=Europe/Amsterdam:20250908T120000
DTSTAMP:20260421T222033
CREATED:20250530T092001Z
LAST-MODIFIED:20250530T092001Z
UID:1677-1757325600-1757332800@bcpz.nl
SUMMARY:Inloop met koffie en thee
DESCRIPTION:Josephinehof\, Josephinehof 2A (ingang in Gildestraat)\, Geldrop. Aanmelden hoeft niet\, kom gezellig langs. bijdrage 3 euro
URL:https://bcpz.nl/event/inloop-met-koffie-en-thee-175/
CATEGORIES:Inloop
END:VEVENT
BEGIN:VEVENT
DTSTART;TZID=Europe/Amsterdam:20250902T110000
DTEND;TZID=Europe/Amsterdam:20250902T130000
DTSTAMP:20260421T222033
CREATED:20250530T092925Z
LAST-MODIFIED:20250530T092925Z
UID:1709-1756810800-1756818000@bcpz.nl
SUMMARY:Gym met lunch
DESCRIPTION:Josephinehof\, Josephinehof 2A (ingang in Gildestraat)\, Geldrop. Als u nog niet op de lijst staat\, bel Ine tel. 06 83 89 64 91. Bijdrage € 5
URL:https://bcpz.nl/event/gym-met-lunch-184/
CATEGORIES:Samen Gymmen
END:VEVENT
BEGIN:VEVENT
DTSTART;TZID=Europe/Amsterdam:20250901T100000
DTEND;TZID=Europe/Amsterdam:20250901T120000
DTSTAMP:20260421T222033
CREATED:20250530T091930Z
LAST-MODIFIED:20250530T091930Z
UID:1675-1756720800-1756728000@bcpz.nl
SUMMARY:Inloop met koffie en thee
DESCRIPTION:Josephinehof\, Josephinehof 2A (ingang in Gildestraat)\, Geldrop. Aanmelden hoeft niet\, kom gezellig langs. bijdrage 3 euro
URL:https://bcpz.nl/event/inloop-met-koffie-en-thee-174/
CATEGORIES:Inloop
END:VEVENT
BEGIN:VEVENT
DTSTART;TZID=Europe/Amsterdam:20250826T200000
DTEND;TZID=Europe/Amsterdam:20250826T220000
DTSTAMP:20260421T222033
CREATED:20250331T112943Z
LAST-MODIFIED:20250331T112943Z
UID:1622-1756238400-1756245600@bcpz.nl
SUMMARY:bestuursvergadering Belangenvereniging Zesgehuchten
DESCRIPTION:
URL:https://bcpz.nl/event/bestuursvergadering-belangenvereniging-zesgehuchten-9/
LOCATION:Josephinehof\, Josephinehof 2A (ingang in Gildestraat)\, Geldrop\, NB\, Nederland
END:VEVENT
BEGIN:VEVENT
DTSTART;TZID=Europe/Amsterdam:20250826T110000
DTEND;TZID=Europe/Amsterdam:20250826T130000
DTSTAMP:20260421T222033
CREATED:20250530T092838Z
LAST-MODIFIED:20250530T092838Z
UID:1707-1756206000-1756213200@bcpz.nl
SUMMARY:Gym met lunch
DESCRIPTION:Josephinehof\, Josephinehof 2A (ingang in Gildestraat)\, Geldrop. Als u nog niet op de lijst staat\, bel Ine tel. 06 83 89 64 91. Bijdrage € 5
URL:https://bcpz.nl/event/gym-met-lunch-183/
CATEGORIES:Samen Gymmen
END:VEVENT
BEGIN:VEVENT
DTSTART;TZID=Europe/Amsterdam:20250825T100000
DTEND;TZID=Europe/Amsterdam:20250825T120000
DTSTAMP:20260421T222033
CREATED:20250530T091854Z
LAST-MODIFIED:20250530T091854Z
UID:1673-1756116000-1756123200@bcpz.nl
SUMMARY:Inloop met koffie en thee
DESCRIPTION:Josephinehof\, Josephinehof 2A (ingang in Gildestraat)\, Geldrop. Aanmelden hoeft niet\, kom gezellig langs. bijdrage 3 euro
URL:https://bcpz.nl/event/inloop-met-koffie-en-thee-173/
CATEGORIES:Inloop
END:VEVENT
END:VCALENDAR