BEGIN:VCALENDAR
VERSION:2.0
PRODID:-//Buurtcontactpunt Zesgehuchten - ECPv6.15.20//NONSGML v1.0//EN
CALSCALE:GREGORIAN
METHOD:PUBLISH
X-WR-CALNAME:Buurtcontactpunt Zesgehuchten
X-ORIGINAL-URL:https://bcpz.nl
X-WR-CALDESC:Evenementen voor Buurtcontactpunt Zesgehuchten
REFRESH-INTERVAL;VALUE=DURATION:PT1H
X-Robots-Tag:noindex
X-PUBLISHED-TTL:PT1H
BEGIN:VTIMEZONE
TZID:Europe/Amsterdam
BEGIN:DAYLIGHT
TZOFFSETFROM:+0100
TZOFFSETTO:+0200
TZNAME:CEST
DTSTART:20250330T010000
END:DAYLIGHT
BEGIN:STANDARD
TZOFFSETFROM:+0200
TZOFFSETTO:+0100
TZNAME:CET
DTSTART:20251026T010000
END:STANDARD
BEGIN:DAYLIGHT
TZOFFSETFROM:+0100
TZOFFSETTO:+0200
TZNAME:CEST
DTSTART:20260329T010000
END:DAYLIGHT
BEGIN:STANDARD
TZOFFSETFROM:+0200
TZOFFSETTO:+0100
TZNAME:CET
DTSTART:20261025T010000
END:STANDARD
BEGIN:DAYLIGHT
TZOFFSETFROM:+0100
TZOFFSETTO:+0200
TZNAME:CEST
DTSTART:20270328T010000
END:DAYLIGHT
BEGIN:STANDARD
TZOFFSETFROM:+0200
TZOFFSETTO:+0100
TZNAME:CET
DTSTART:20271031T010000
END:STANDARD
END:VTIMEZONE
BEGIN:VEVENT
DTSTART;TZID=Europe/Amsterdam:20260520T160000
DTEND;TZID=Europe/Amsterdam:20260520T183000
DTSTAMP:20260419T163208
CREATED:20260310T192521Z
LAST-MODIFIED:20260310T192521Z
UID:1986-1779292800-1779301800@bcpz.nl
SUMMARY:Samen eten op woensdag
DESCRIPTION:Josephinehof\, Josephinehof 2A (ingang in Gildestraat)\, Geldrop. \nAls u nog niet op de lijst staat\, bel Aggie tel. 06 364 04180. Bijdrage € 7\,50
URL:https://bcpz.nl/event/samen-eten-op-woensdag-50/
CATEGORIES:Samen Eten
END:VEVENT
BEGIN:VEVENT
DTSTART;TZID=Europe/Amsterdam:20260525T000000
DTEND;TZID=Europe/Amsterdam:20260525T000000
DTSTAMP:20260419T163208
CREATED:20260310T160639Z
LAST-MODIFIED:20260310T193522Z
UID:1919-1779667200-1779667200@bcpz.nl
SUMMARY:Tweede pinksterdag\, geen inloop
DESCRIPTION:
URL:https://bcpz.nl/event/tweede-pinksterdag-geen-inloop/
CATEGORIES:Inloop
END:VEVENT
BEGIN:VEVENT
DTSTART;TZID=Europe/Amsterdam:20260526T110000
DTEND;TZID=Europe/Amsterdam:20260526T130000
DTSTAMP:20260419T163208
CREATED:20260310T163010Z
LAST-MODIFIED:20260310T163010Z
UID:1954-1779793200-1779800400@bcpz.nl
SUMMARY:Gym met lunch
DESCRIPTION:Josephinehof\, Josephinehof 2A (ingang in Gildestraat)\, Geldrop. \nAls u nog niet op de lijst staat\, bel Ine tel. 06 83 89 64 91. Bijdrage € 5
URL:https://bcpz.nl/event/gym-met-lunch-223/
CATEGORIES:Samen Gymmen
END:VEVENT
BEGIN:VEVENT
DTSTART;TZID=Europe/Amsterdam:20260601T100000
DTEND;TZID=Europe/Amsterdam:20260601T120000
DTSTAMP:20260419T163208
CREATED:20260310T161946Z
LAST-MODIFIED:20260310T161946Z
UID:1921-1780308000-1780315200@bcpz.nl
SUMMARY:Inloop met koffie en thee
DESCRIPTION:Josephinehof\, Josephinehof 2A (ingang in Gildestraat)\, Geldrop. \nAanmelden hoeft niet\, kom gezellig langs. bijdrage 3 euro
URL:https://bcpz.nl/event/inloop-met-koffie-en-thee-209/
CATEGORIES:Inloop
END:VEVENT
BEGIN:VEVENT
DTSTART;TZID=Europe/Amsterdam:20260602T110000
DTEND;TZID=Europe/Amsterdam:20260602T130000
DTSTAMP:20260419T163208
CREATED:20260310T163145Z
LAST-MODIFIED:20260310T163145Z
UID:1956-1780398000-1780405200@bcpz.nl
SUMMARY:Gym met lunch
DESCRIPTION:Josephinehof\, Josephinehof 2A (ingang in Gildestraat)\, Geldrop. \nAls u nog niet op de lijst staat\, bel Ine tel. 06 83 89 64 91. Bijdrage € 5
URL:https://bcpz.nl/event/gym-met-lunch-224/
CATEGORIES:Samen Gymmen
END:VEVENT
BEGIN:VEVENT
DTSTART;TZID=Europe/Amsterdam:20260608T100000
DTEND;TZID=Europe/Amsterdam:20260608T120000
DTSTAMP:20260419T163208
CREATED:20260310T162022Z
LAST-MODIFIED:20260310T162022Z
UID:1923-1780912800-1780920000@bcpz.nl
SUMMARY:Inloop met koffie en thee
DESCRIPTION:Josephinehof\, Josephinehof 2A (ingang in Gildestraat)\, Geldrop. \nAanmelden hoeft niet\, kom gezellig langs. bijdrage 3 euro
URL:https://bcpz.nl/event/inloop-met-koffie-en-thee-210/
CATEGORIES:Inloop
END:VEVENT
BEGIN:VEVENT
DTSTART;TZID=Europe/Amsterdam:20260609T110000
DTEND;TZID=Europe/Amsterdam:20260609T130000
DTSTAMP:20260419T163208
CREATED:20260310T163212Z
LAST-MODIFIED:20260310T163212Z
UID:1958-1781002800-1781010000@bcpz.nl
SUMMARY:Gym met lunch
DESCRIPTION:Josephinehof\, Josephinehof 2A (ingang in Gildestraat)\, Geldrop. \nAls u nog niet op de lijst staat\, bel Ine tel. 06 83 89 64 91. Bijdrage € 5
URL:https://bcpz.nl/event/gym-met-lunch-225/
CATEGORIES:Samen Gymmen
END:VEVENT
BEGIN:VEVENT
DTSTART;TZID=Europe/Amsterdam:20260611T160000
DTEND;TZID=Europe/Amsterdam:20260611T183000
DTSTAMP:20260419T163208
CREATED:20260310T192607Z
LAST-MODIFIED:20260310T192607Z
UID:1988-1781193600-1781202600@bcpz.nl
SUMMARY:Samen eten op donderdag
DESCRIPTION:Josephinehof\, Josephinehof 2A (ingang in Gildestraat)\, Geldrop. \nAls u nog niet op de lijst staat\, bel Aggie tel. 06 364 04180. Bijdrage € 7\,50
URL:https://bcpz.nl/event/samen-eten-op-donderdag-54/
CATEGORIES:Samen Eten
END:VEVENT
BEGIN:VEVENT
DTSTART;TZID=Europe/Amsterdam:20260615T100000
DTEND;TZID=Europe/Amsterdam:20260615T120000
DTSTAMP:20260419T163208
CREATED:20260310T162058Z
LAST-MODIFIED:20260310T162058Z
UID:1925-1781517600-1781524800@bcpz.nl
SUMMARY:Inloop met koffie en thee
DESCRIPTION:Josephinehof\, Josephinehof 2A (ingang in Gildestraat)\, Geldrop. \nAanmelden hoeft niet\, kom gezellig langs. bijdrage 3 euro
URL:https://bcpz.nl/event/inloop-met-koffie-en-thee-211/
CATEGORIES:Inloop
END:VEVENT
BEGIN:VEVENT
DTSTART;TZID=Europe/Amsterdam:20260616T110000
DTEND;TZID=Europe/Amsterdam:20260616T130000
DTSTAMP:20260419T163208
CREATED:20260310T163242Z
LAST-MODIFIED:20260310T163242Z
UID:1960-1781607600-1781614800@bcpz.nl
SUMMARY:Gym met lunch
DESCRIPTION:Josephinehof\, Josephinehof 2A (ingang in Gildestraat)\, Geldrop. \nAls u nog niet op de lijst staat\, bel Ine tel. 06 83 89 64 91. Bijdrage € 5
URL:https://bcpz.nl/event/gym-met-lunch-226/
CATEGORIES:Samen Gymmen
END:VEVENT
BEGIN:VEVENT
DTSTART;TZID=Europe/Amsterdam:20260617T160000
DTEND;TZID=Europe/Amsterdam:20260617T173000
DTSTAMP:20260419T163208
CREATED:20260310T191405Z
LAST-MODIFIED:20260310T192834Z
UID:1976-1781712000-1781717400@bcpz.nl
SUMMARY:Samen eten op woensdag
DESCRIPTION:Josephinehof\, Josephinehof 2A (ingang in Gildestraat)\, Geldrop. \nAls u nog niet op de lijst staat\, bel Aggie tel. 06 364 04180. Bijdrage € 7\,50
URL:https://bcpz.nl/event/samen-eten-op-donderdag-50/
CATEGORIES:Samen Eten
END:VEVENT
BEGIN:VEVENT
DTSTART;TZID=Europe/Amsterdam:20260622T100000
DTEND;TZID=Europe/Amsterdam:20260622T120000
DTSTAMP:20260419T163208
CREATED:20260310T162135Z
LAST-MODIFIED:20260310T162135Z
UID:1927-1782122400-1782129600@bcpz.nl
SUMMARY:Inloop met koffie en thee
DESCRIPTION:Josephinehof\, Josephinehof 2A (ingang in Gildestraat)\, Geldrop. \nAanmelden hoeft niet\, kom gezellig langs. bijdrage 3 euro
URL:https://bcpz.nl/event/inloop-met-koffie-en-thee-212/
CATEGORIES:Inloop
END:VEVENT
BEGIN:VEVENT
DTSTART;TZID=Europe/Amsterdam:20260623T110000
DTEND;TZID=Europe/Amsterdam:20260623T130000
DTSTAMP:20260419T163208
CREATED:20260310T163312Z
LAST-MODIFIED:20260310T163312Z
UID:1962-1782212400-1782219600@bcpz.nl
SUMMARY:Gym met lunch
DESCRIPTION:Josephinehof\, Josephinehof 2A (ingang in Gildestraat)\, Geldrop. \nAls u nog niet op de lijst staat\, bel Ine tel. 06 83 89 64 91. Bijdrage € 5
URL:https://bcpz.nl/event/gym-met-lunch-227/
CATEGORIES:Samen Gymmen
END:VEVENT
BEGIN:VEVENT
DTSTART;TZID=Europe/Amsterdam:20260629T100000
DTEND;TZID=Europe/Amsterdam:20260629T120000
DTSTAMP:20260419T163208
CREATED:20260310T162213Z
LAST-MODIFIED:20260310T162213Z
UID:1929-1782727200-1782734400@bcpz.nl
SUMMARY:Inloop met koffie en thee
DESCRIPTION:Josephinehof\, Josephinehof 2A (ingang in Gildestraat)\, Geldrop. \nAanmelden hoeft niet\, kom gezellig langs. bijdrage 3 euro
URL:https://bcpz.nl/event/inloop-met-koffie-en-thee-213/
CATEGORIES:Inloop
END:VEVENT
BEGIN:VEVENT
DTSTART;TZID=Europe/Amsterdam:20260630T110000
DTEND;TZID=Europe/Amsterdam:20260630T130000
DTSTAMP:20260419T163208
CREATED:20260310T163344Z
LAST-MODIFIED:20260310T163344Z
UID:1964-1782817200-1782824400@bcpz.nl
SUMMARY:Gym met lunch
DESCRIPTION:Josephinehof\, Josephinehof 2A (ingang in Gildestraat)\, Geldrop. \nAls u nog niet op de lijst staat\, bel Ine tel. 06 83 89 64 91. Bijdrage € 5
URL:https://bcpz.nl/event/gym-met-lunch-228/
CATEGORIES:Samen Gymmen
END:VEVENT
BEGIN:VEVENT
DTSTART;TZID=Europe/Amsterdam:20260706T100000
DTEND;TZID=Europe/Amsterdam:20260706T120000
DTSTAMP:20260419T163208
CREATED:20260310T162303Z
LAST-MODIFIED:20260310T162303Z
UID:1931-1783332000-1783339200@bcpz.nl
SUMMARY:Inloop met koffie en thee
DESCRIPTION:Josephinehof\, Josephinehof 2A (ingang in Gildestraat)\, Geldrop. \nAanmelden hoeft niet\, kom gezellig langs. bijdrage 3 euro
URL:https://bcpz.nl/event/inloop-met-koffie-en-thee-214/
CATEGORIES:Inloop
END:VEVENT
BEGIN:VEVENT
DTSTART;TZID=Europe/Amsterdam:20260707T110000
DTEND;TZID=Europe/Amsterdam:20260707T130000
DTSTAMP:20260419T163208
CREATED:20260310T163415Z
LAST-MODIFIED:20260310T163415Z
UID:1966-1783422000-1783429200@bcpz.nl
SUMMARY:Gym met lunch
DESCRIPTION:Josephinehof\, Josephinehof 2A (ingang in Gildestraat)\, Geldrop. \nAls u nog niet op de lijst staat\, bel Ine tel. 06 83 89 64 91. Bijdrage € 5
URL:https://bcpz.nl/event/gym-met-lunch-229/
CATEGORIES:Samen Gymmen
END:VEVENT
BEGIN:VEVENT
DTSTART;TZID=Europe/Amsterdam:20260713T100000
DTEND;TZID=Europe/Amsterdam:20260713T120000
DTSTAMP:20260419T163208
CREATED:20260310T162337Z
LAST-MODIFIED:20260310T162337Z
UID:1933-1783936800-1783944000@bcpz.nl
SUMMARY:Inloop met koffie en thee
DESCRIPTION:Josephinehof\, Josephinehof 2A (ingang in Gildestraat)\, Geldrop. \nAanmelden hoeft niet\, kom gezellig langs. bijdrage 3 euro
URL:https://bcpz.nl/event/inloop-met-koffie-en-thee-215/
CATEGORIES:Inloop
END:VEVENT
BEGIN:VEVENT
DTSTART;TZID=Europe/Amsterdam:20260714T110000
DTEND;TZID=Europe/Amsterdam:20260714T130000
DTSTAMP:20260419T163208
CREATED:20260310T163446Z
LAST-MODIFIED:20260310T163446Z
UID:1968-1784026800-1784034000@bcpz.nl
SUMMARY:Gym met lunch
DESCRIPTION:Josephinehof\, Josephinehof 2A (ingang in Gildestraat)\, Geldrop. \nAls u nog niet op de lijst staat\, bel Ine tel. 06 83 89 64 91. Bijdrage € 5
URL:https://bcpz.nl/event/gym-met-lunch-230/
CATEGORIES:Samen Gymmen
END:VEVENT
BEGIN:VEVENT
DTSTART;TZID=Europe/Amsterdam:20260720T100000
DTEND;TZID=Europe/Amsterdam:20260720T120000
DTSTAMP:20260419T163208
CREATED:20260310T162408Z
LAST-MODIFIED:20260310T162408Z
UID:1935-1784541600-1784548800@bcpz.nl
SUMMARY:Inloop met koffie en thee
DESCRIPTION:Josephinehof\, Josephinehof 2A (ingang in Gildestraat)\, Geldrop. \nAanmelden hoeft niet\, kom gezellig langs. bijdrage 3 euro
URL:https://bcpz.nl/event/inloop-met-koffie-en-thee-216/
CATEGORIES:Inloop
END:VEVENT
BEGIN:VEVENT
DTSTART;TZID=Europe/Amsterdam:20260721T110000
DTEND;TZID=Europe/Amsterdam:20260721T130000
DTSTAMP:20260419T163208
CREATED:20260310T163520Z
LAST-MODIFIED:20260310T163520Z
UID:1970-1784631600-1784638800@bcpz.nl
SUMMARY:Gym met lunch
DESCRIPTION:Josephinehof\, Josephinehof 2A (ingang in Gildestraat)\, Geldrop. \nAls u nog niet op de lijst staat\, bel Ine tel. 06 83 89 64 91. Bijdrage € 5
URL:https://bcpz.nl/event/gym-met-lunch-231/
CATEGORIES:Samen Gymmen
END:VEVENT
BEGIN:VEVENT
DTSTART;TZID=Europe/Amsterdam:20260727T100000
DTEND;TZID=Europe/Amsterdam:20260727T120000
DTSTAMP:20260419T163208
CREATED:20260310T162441Z
LAST-MODIFIED:20260310T162441Z
UID:1937-1785146400-1785153600@bcpz.nl
SUMMARY:Inloop met koffie en thee
DESCRIPTION:Josephinehof\, Josephinehof 2A (ingang in Gildestraat)\, Geldrop. \nAanmelden hoeft niet\, kom gezellig langs. bijdrage 3 euro
URL:https://bcpz.nl/event/inloop-met-koffie-en-thee-217/
CATEGORIES:Inloop
END:VEVENT
BEGIN:VEVENT
DTSTART;TZID=Europe/Amsterdam:20260728T110000
DTEND;TZID=Europe/Amsterdam:20260728T130000
DTSTAMP:20260419T163208
CREATED:20260310T163552Z
LAST-MODIFIED:20260310T163552Z
UID:1972-1785236400-1785243600@bcpz.nl
SUMMARY:Gym met lunch
DESCRIPTION:Josephinehof\, Josephinehof 2A (ingang in Gildestraat)\, Geldrop. \nAls u nog niet op de lijst staat\, bel Ine tel. 06 83 89 64 91. Bijdrage € 5
URL:https://bcpz.nl/event/gym-met-lunch-232/
CATEGORIES:Samen Gymmen
END:VEVENT
END:VCALENDAR