BEGIN:VCALENDAR
VERSION:2.0
PRODID:-//Buurtcontactpunt Zesgehuchten - ECPv6.15.20//NONSGML v1.0//EN
CALSCALE:GREGORIAN
METHOD:PUBLISH
X-WR-CALNAME:Buurtcontactpunt Zesgehuchten
X-ORIGINAL-URL:https://bcpz.nl
X-WR-CALDESC:Evenementen voor Buurtcontactpunt Zesgehuchten
REFRESH-INTERVAL;VALUE=DURATION:PT1H
X-Robots-Tag:noindex
X-PUBLISHED-TTL:PT1H
BEGIN:VTIMEZONE
TZID:Europe/Amsterdam
BEGIN:DAYLIGHT
TZOFFSETFROM:+0100
TZOFFSETTO:+0200
TZNAME:CEST
DTSTART:20250330T010000
END:DAYLIGHT
BEGIN:STANDARD
TZOFFSETFROM:+0200
TZOFFSETTO:+0100
TZNAME:CET
DTSTART:20251026T010000
END:STANDARD
BEGIN:DAYLIGHT
TZOFFSETFROM:+0100
TZOFFSETTO:+0200
TZNAME:CEST
DTSTART:20260329T010000
END:DAYLIGHT
BEGIN:STANDARD
TZOFFSETFROM:+0200
TZOFFSETTO:+0100
TZNAME:CET
DTSTART:20261025T010000
END:STANDARD
BEGIN:DAYLIGHT
TZOFFSETFROM:+0100
TZOFFSETTO:+0200
TZNAME:CEST
DTSTART:20270328T010000
END:DAYLIGHT
BEGIN:STANDARD
TZOFFSETFROM:+0200
TZOFFSETTO:+0100
TZNAME:CET
DTSTART:20271031T010000
END:STANDARD
END:VTIMEZONE
BEGIN:VEVENT
DTSTART;TZID=Europe/Amsterdam:20260518T100000
DTEND;TZID=Europe/Amsterdam:20260518T120000
DTSTAMP:20260422T042500
CREATED:20260310T160604Z
LAST-MODIFIED:20260310T160604Z
UID:1917-1779098400-1779105600@bcpz.nl
SUMMARY:Inloop met koffie en thee
DESCRIPTION:Josephinehof\, Josephinehof 2A (ingang in Gildestraat)\, Geldrop. \nAanmelden hoeft niet\, kom gezellig langs. bijdrage 3 euro
URL:https://bcpz.nl/event/inloop-met-koffie-en-thee-208/
CATEGORIES:Inloop
END:VEVENT
BEGIN:VEVENT
DTSTART;TZID=Europe/Amsterdam:20260512T110000
DTEND;TZID=Europe/Amsterdam:20260512T130000
DTSTAMP:20260422T042500
CREATED:20260310T162911Z
LAST-MODIFIED:20260310T162911Z
UID:1950-1778583600-1778590800@bcpz.nl
SUMMARY:Gym met lunch
DESCRIPTION:Josephinehof\, Josephinehof 2A (ingang in Gildestraat)\, Geldrop. \nAls u nog niet op de lijst staat\, bel Ine tel. 06 83 89 64 91. Bijdrage € 5
URL:https://bcpz.nl/event/gym-met-lunch-221/
CATEGORIES:Samen Gymmen
END:VEVENT
BEGIN:VEVENT
DTSTART;TZID=Europe/Amsterdam:20260511T100000
DTEND;TZID=Europe/Amsterdam:20260511T120000
DTSTAMP:20260422T042500
CREATED:20260310T160532Z
LAST-MODIFIED:20260310T160532Z
UID:1915-1778493600-1778500800@bcpz.nl
SUMMARY:Inloop met koffie en thee
DESCRIPTION:Josephinehof\, Josephinehof 2A (ingang in Gildestraat)\, Geldrop. \nAanmelden hoeft niet\, kom gezellig langs. bijdrage 3 euro
URL:https://bcpz.nl/event/inloop-met-koffie-en-thee-207/
CATEGORIES:Inloop
END:VEVENT
BEGIN:VEVENT
DTSTART;TZID=Europe/Amsterdam:20260507T160000
DTEND;TZID=Europe/Amsterdam:20260507T183000
DTSTAMP:20260422T042500
CREATED:20260310T163839Z
LAST-MODIFIED:20260310T191313Z
UID:1974-1778169600-1778178600@bcpz.nl
SUMMARY:Samen eten op donderdag
DESCRIPTION:Josephinehof\, Josephinehof 2A (ingang in Gildestraat)\, Geldrop. \nAls u nog niet op de lijst staat\, bel Aggie tel. 06 364 04180. Bijdrage € 7\,50
URL:https://bcpz.nl/event/samen-eten-op-donderdag-49/
CATEGORIES:Samen Eten
END:VEVENT
BEGIN:VEVENT
DTSTART;TZID=Europe/Amsterdam:20260505T110000
DTEND;TZID=Europe/Amsterdam:20260505T130000
DTSTAMP:20260422T042500
CREATED:20260310T162840Z
LAST-MODIFIED:20260310T162840Z
UID:1948-1777978800-1777986000@bcpz.nl
SUMMARY:Gym  met lunch
DESCRIPTION:Josephinehof\, Josephinehof 2A (ingang in Gildestraat)\, Geldrop. \nAls u nog niet op de lijst staat\, bel Ine tel. 06 83 89 64 91. Bijdrage € 5
URL:https://bcpz.nl/event/gym-met-lunch-220/
CATEGORIES:Samen Gymmen
END:VEVENT
BEGIN:VEVENT
DTSTART;TZID=Europe/Amsterdam:20260504T100000
DTEND;TZID=Europe/Amsterdam:20260504T120000
DTSTAMP:20260422T042500
CREATED:20260310T160457Z
LAST-MODIFIED:20260310T160457Z
UID:1913-1777888800-1777896000@bcpz.nl
SUMMARY:Inloop met koffie en thee
DESCRIPTION:Josephinehof\, Josephinehof 2A (ingang in Gildestraat)\, Geldrop. \nAanmelden hoeft niet\, kom gezellig langs. bijdrage 3 euro
URL:https://bcpz.nl/event/inloop-met-koffie-en-thee-206/
CATEGORIES:Inloop
END:VEVENT
BEGIN:VEVENT
DTSTART;TZID=Europe/Amsterdam:20260428T110000
DTEND;TZID=Europe/Amsterdam:20260428T130000
DTSTAMP:20260422T042500
CREATED:20260310T162659Z
LAST-MODIFIED:20260310T162659Z
UID:1944-1777374000-1777381200@bcpz.nl
SUMMARY:Gym met lunch
DESCRIPTION:Josephinehof\, Josephinehof 2A (ingang in Gildestraat)\, Geldrop. \nAls u nog niet op de lijst staat\, bel Ine tel. 06 83 89 64 91. Bijdrage € 5
URL:https://bcpz.nl/event/gym-met-lunch-218/
CATEGORIES:Samen Gymmen
END:VEVENT
BEGIN:VEVENT
DTSTART;TZID=Europe/Amsterdam:20260427T000000
DTEND;TZID=Europe/Amsterdam:20260427T000000
DTSTAMP:20260422T042500
CREATED:20260310T160411Z
LAST-MODIFIED:20260310T193153Z
UID:1911-1777248000-1777248000@bcpz.nl
SUMMARY:Koningsdag\, geen inloop
DESCRIPTION:
URL:https://bcpz.nl/event/koningsdag-geen-inloop/
CATEGORIES:Inloop
END:VEVENT
BEGIN:VEVENT
DTSTART;TZID=Europe/Amsterdam:20260422T140000
DTEND;TZID=Europe/Amsterdam:20260422T160000
DTSTAMP:20260422T042500
CREATED:20260310T194515Z
LAST-MODIFIED:20260310T195001Z
UID:1993-1776866400-1776873600@bcpz.nl
SUMMARY:Muziekbingo met gouweouwen
DESCRIPTION:Met uiteraard veel mooie prijzen…..\nNatuurlijk is er gratis koffie en thee en de mogelijkheid om\ntegen betaling een drankje te bestellen.\nWij zorgen voor een knabbeltje op tafel. \nWanneer: woensdag 22 april 2026\nWaar: Buurtcontactpunt Zesgehuchten\nKosten: 5 euro \nOpgeven bij Aggie mobiel 06 36 40 41 80 \nGraag aanmelden voor 16 april
URL:https://bcpz.nl/event/muziekbingo-met-gouweouwen/
CATEGORIES:Extra activiteiten
END:VEVENT
BEGIN:VEVENT
DTSTART;TZID=Europe/Amsterdam:20260421T110000
DTEND;TZID=Europe/Amsterdam:20260421T130000
DTSTAMP:20260422T042500
CREATED:20260310T162759Z
LAST-MODIFIED:20260310T162759Z
UID:1946-1776769200-1776776400@bcpz.nl
SUMMARY:Gym  met lunch
DESCRIPTION:Josephinehof\, Josephinehof 2A (ingang in Gildestraat)\, Geldrop. \nAls u nog niet op de lijst staat\, bel Ine tel. 06 83 89 64 91. Bijdrage € 5
URL:https://bcpz.nl/event/gym-met-lunch-219/
CATEGORIES:Samen Gymmen
END:VEVENT
BEGIN:VEVENT
DTSTART;TZID=Europe/Amsterdam:20260420T100000
DTEND;TZID=Europe/Amsterdam:20260420T120000
DTSTAMP:20260422T042500
CREATED:20260310T160301Z
LAST-MODIFIED:20260310T160301Z
UID:1907-1776679200-1776686400@bcpz.nl
SUMMARY:Inloop met koffie en thee
DESCRIPTION:Josephinehof\, Josephinehof 2A (ingang in Gildestraat)\, Geldrop. \nAanmelden hoeft niet\, kom gezellig langs. bijdrage 3 euro
URL:https://bcpz.nl/event/inloop-met-koffie-en-thee-205/
CATEGORIES:Inloop
END:VEVENT
BEGIN:VEVENT
DTSTART;TZID=Europe/Amsterdam:20260415T160000
DTEND;TZID=Europe/Amsterdam:20260415T183000
DTSTAMP:20260422T042500
CREATED:20260310T192357Z
LAST-MODIFIED:20260310T192357Z
UID:1982-1776268800-1776277800@bcpz.nl
SUMMARY:Samen eten op woensdag
DESCRIPTION:Josephinehof\, Josephinehof 2A (ingang in Gildestraat)\, Geldrop. \nAls u nog niet op de lijst staat\, bel Aggie tel. 06 364 04180. Bijdrage € 7\,50
URL:https://bcpz.nl/event/samen-eten-op-woensdag-49/
CATEGORIES:Samen Eten
END:VEVENT
BEGIN:VEVENT
DTSTART;TZID=Europe/Amsterdam:20260414T110000
DTEND;TZID=Europe/Amsterdam:20260414T130000
DTSTAMP:20260422T042500
CREATED:20260310T162623Z
LAST-MODIFIED:20260310T162623Z
UID:1942-1776164400-1776171600@bcpz.nl
SUMMARY:Gym met lunch
DESCRIPTION:Josephinehof\, Josephinehof 2A (ingang in Gildestraat)\, Geldrop. \nAls u nog niet op de lijst staat\, bel Ine tel. 06 83 89 64 91. Bijdrage € 5
URL:https://bcpz.nl/event/gym-met-lunch-217/
CATEGORIES:Samen Gymmen
END:VEVENT
BEGIN:VEVENT
DTSTART;TZID=Europe/Amsterdam:20260413T100000
DTEND;TZID=Europe/Amsterdam:20260413T120000
DTSTAMP:20260422T042500
CREATED:20260310T152617Z
LAST-MODIFIED:20260310T160048Z
UID:1905-1776074400-1776081600@bcpz.nl
SUMMARY:Inloop met koffie en thee
DESCRIPTION:Josephinehof\, Josephinehof 2A (ingang in Gildestraat)\, Geldrop. \nAanmelden hoeft niet\, kom gezellig langs. bijdrage 3 euro
URL:https://bcpz.nl/event/inloop-met-koffie-en-thee-204/
CATEGORIES:Inloop
END:VEVENT
BEGIN:VEVENT
DTSTART;TZID=Europe/Amsterdam:20260409T160000
DTEND;TZID=Europe/Amsterdam:20260409T183000
DTSTAMP:20260422T042500
CREATED:20260310T192315Z
LAST-MODIFIED:20260310T192315Z
UID:1980-1775750400-1775759400@bcpz.nl
SUMMARY:Samen eten op donderdag
DESCRIPTION:Josephinehof\, Josephinehof 2A (ingang in Gildestraat)\, Geldrop. \nAls u nog niet op de lijst staat\, bel Aggie tel. 06 364 04180. Bijdrage € 7\,50
URL:https://bcpz.nl/event/samen-eten-op-donderdag-52/
CATEGORIES:Samen Eten
END:VEVENT
BEGIN:VEVENT
DTSTART;TZID=Europe/Amsterdam:20260407T110000
DTEND;TZID=Europe/Amsterdam:20260407T130000
DTSTAMP:20260422T042500
CREATED:20260310T162552Z
LAST-MODIFIED:20260310T162552Z
UID:1940-1775559600-1775566800@bcpz.nl
SUMMARY:Gym met lunch
DESCRIPTION:Josephinehof\, Josephinehof 2A (ingang in Gildestraat)\, Geldrop. \nAls u nog niet op de lijst staat\, bel Ine tel. 06 83 89 64 91. Bijdrage € 5
URL:https://bcpz.nl/event/gym-met-lunch-216/
CATEGORIES:Samen Gymmen
END:VEVENT
BEGIN:VEVENT
DTSTART;TZID=Europe/Amsterdam:20260406T000000
DTEND;TZID=Europe/Amsterdam:20260406T000000
DTSTAMP:20260422T042500
CREATED:20260310T160348Z
LAST-MODIFIED:20260310T193243Z
UID:1909-1775433600-1775433600@bcpz.nl
SUMMARY:Tweede paasdag\, geen inloop
DESCRIPTION:
URL:https://bcpz.nl/event/tweede-paasdag-geen-inloop/
CATEGORIES:Inloop
END:VEVENT
BEGIN:VEVENT
DTSTART;TZID=Europe/Amsterdam:20260331T110000
DTEND;TZID=Europe/Amsterdam:20260331T130000
DTSTAMP:20260422T042500
CREATED:20251117T135522Z
LAST-MODIFIED:20251117T135522Z
UID:1877-1774954800-1774962000@bcpz.nl
SUMMARY:Gym met lunch
DESCRIPTION:Josephinehof\, Josephinehof 2A (ingang in Gildestraat)\, Geldrop. \nAls u nog niet op de lijst staat\, bel Ine tel. 06 83 89 64 91. Bijdrage € 5
URL:https://bcpz.nl/event/gym-met-lunch-215/
CATEGORIES:Samen Gymmen
END:VEVENT
BEGIN:VEVENT
DTSTART;TZID=Europe/Amsterdam:20260330T100000
DTEND;TZID=Europe/Amsterdam:20260330T120000
DTSTAMP:20260422T042500
CREATED:20251117T134732Z
LAST-MODIFIED:20251117T134732Z
UID:1851-1774864800-1774872000@bcpz.nl
SUMMARY:Inloop met koffie en thee
DESCRIPTION:Josephinehof\, Josephinehof 2A (ingang in Gildestraat)\, Geldrop. \nAanmelden hoeft niet\, kom gezellig langs. bijdrage 3 euro
URL:https://bcpz.nl/event/inloop-met-koffie-en-thee-203/
CATEGORIES:Inloop
END:VEVENT
BEGIN:VEVENT
DTSTART;TZID=Europe/Amsterdam:20260326T140000
DTEND;TZID=Europe/Amsterdam:20260326T160000
DTSTAMP:20260422T042500
CREATED:20260212T123918Z
LAST-MODIFIED:20260212T123918Z
UID:1899-1774533600-1774540800@bcpz.nl
SUMMARY:Paasstukje maken
DESCRIPTION:Een gezellige middag om een mooi tafelstukje te maken voor op de paastafel. \nNatuurlijk is er gratis koffie en thee en de mogelijkheid om tegen betaling een drankje te bestellen. \nDatum: donderdag 26 maart \nTijd: van 14.00 tot 16.00 uur \nWaar: Josephinehof\, Josephinehof 2A (ingang in Gildestraat)\, Geldrop. \nKosten: 5 euro \nMeld je in voor 22 maart aan bij Aggie; mobiel 06 36 40 41 80 \nScreenshot
URL:https://bcpz.nl/event/paasstukje-maken-3/
CATEGORIES:Extra activiteiten
END:VEVENT
BEGIN:VEVENT
DTSTART;TZID=Europe/Amsterdam:20260324T110000
DTEND;TZID=Europe/Amsterdam:20260324T130000
DTSTAMP:20260422T042500
CREATED:20251117T135456Z
LAST-MODIFIED:20251117T135456Z
UID:1875-1774350000-1774357200@bcpz.nl
SUMMARY:Gym met lunch
DESCRIPTION:Josephinehof\, Josephinehof 2A (ingang in Gildestraat)\, Geldrop. \nAls u nog niet op de lijst staat\, bel Ine tel. 06 83 89 64 91. Bijdrage € 5
URL:https://bcpz.nl/event/gym-met-lunch-214/
CATEGORIES:Samen Gymmen
END:VEVENT
BEGIN:VEVENT
DTSTART;TZID=Europe/Amsterdam:20260323T100000
DTEND;TZID=Europe/Amsterdam:20260323T120000
DTSTAMP:20260422T042500
CREATED:20251117T134702Z
LAST-MODIFIED:20251117T134702Z
UID:1849-1774260000-1774267200@bcpz.nl
SUMMARY:Inloop met koffie en thee
DESCRIPTION:Josephinehof\, Josephinehof 2A (ingang in Gildestraat)\, Geldrop. \nAanmelden hoeft niet\, kom gezellig langs. bijdrage 3 euro
URL:https://bcpz.nl/event/inloop-met-koffie-en-thee-202/
CATEGORIES:Inloop
END:VEVENT
BEGIN:VEVENT
DTSTART;TZID=Europe/Amsterdam:20260318T160000
DTEND;TZID=Europe/Amsterdam:20260318T183000
DTSTAMP:20260422T042500
CREATED:20251117T140433Z
LAST-MODIFIED:20251117T140433Z
UID:1889-1773849600-1773858600@bcpz.nl
SUMMARY:Samen eten op woensdag
DESCRIPTION:Josephinehof\, Josephinehof 2A (ingang in Gildestraat)\, Geldrop. \nAls u nog niet op de lijst staat\, bel Aggie tel. 06 364 04180. Bijdrage € 7\,50
URL:https://bcpz.nl/event/samen-eten-op-woensdag-48/
CATEGORIES:Samen Eten
END:VEVENT
BEGIN:VEVENT
DTSTART;TZID=Europe/Amsterdam:20260317T110000
DTEND;TZID=Europe/Amsterdam:20260317T130000
DTSTAMP:20260422T042500
CREATED:20251117T135426Z
LAST-MODIFIED:20251117T135426Z
UID:1873-1773745200-1773752400@bcpz.nl
SUMMARY:Gym met lunch
DESCRIPTION:Josephinehof\, Josephinehof 2A (ingang in Gildestraat)\, Geldrop. \nAls u nog niet op de lijst staat\, bel Ine tel. 06 83 89 64 91. Bijdrage € 5
URL:https://bcpz.nl/event/gym-met-lunch-213/
CATEGORIES:Samen Gymmen
END:VEVENT
BEGIN:VEVENT
DTSTART;TZID=Europe/Amsterdam:20260316T100000
DTEND;TZID=Europe/Amsterdam:20260316T120000
DTSTAMP:20260422T042500
CREATED:20251117T134629Z
LAST-MODIFIED:20251117T134629Z
UID:1847-1773655200-1773662400@bcpz.nl
SUMMARY:Inloop met koffie en thee
DESCRIPTION:Josephinehof\, Josephinehof 2A (ingang in Gildestraat)\, Geldrop. \nAanmelden hoeft niet\, kom gezellig langs. bijdrage 3 euro
URL:https://bcpz.nl/event/inloop-met-koffie-en-thee-201/
CATEGORIES:Inloop
END:VEVENT
BEGIN:VEVENT
DTSTART;TZID=Europe/Amsterdam:20260312T160000
DTEND;TZID=Europe/Amsterdam:20260312T183000
DTSTAMP:20260422T042500
CREATED:20251117T140301Z
LAST-MODIFIED:20251117T140301Z
UID:1883-1773331200-1773340200@bcpz.nl
SUMMARY:Samen eten op donderdag
DESCRIPTION:Josephinehof\, Josephinehof 2A (ingang in Gildestraat)\, Geldrop. \nAls u nog niet op de lijst staat\, bel Aggie tel. 06 364 04180. Bijdrage € 7\,50
URL:https://bcpz.nl/event/samen-eten-op-donderdag-48/
CATEGORIES:Samen Eten
END:VEVENT
BEGIN:VEVENT
DTSTART;TZID=Europe/Amsterdam:20260310T110000
DTEND;TZID=Europe/Amsterdam:20260310T130000
DTSTAMP:20260422T042500
CREATED:20251117T135357Z
LAST-MODIFIED:20251117T135357Z
UID:1871-1773140400-1773147600@bcpz.nl
SUMMARY:Gym met lunch
DESCRIPTION:Josephinehof\, Josephinehof 2A (ingang in Gildestraat)\, Geldrop. \nAls u nog niet op de lijst staat\, bel Ine tel. 06 83 89 64 91. Bijdrage € 5
URL:https://bcpz.nl/event/gym-met-lunch-212/
CATEGORIES:Samen Gymmen
END:VEVENT
BEGIN:VEVENT
DTSTART;TZID=Europe/Amsterdam:20260309T100000
DTEND;TZID=Europe/Amsterdam:20260309T120000
DTSTAMP:20260422T042500
CREATED:20251117T134600Z
LAST-MODIFIED:20251117T134600Z
UID:1845-1773050400-1773057600@bcpz.nl
SUMMARY:Inloop met kofie en thee
DESCRIPTION:Josephinehof\, Josephinehof 2A (ingang in Gildestraat)\, Geldrop. \nAanmelden hoeft niet\, kom gezellig langs. bijdrage 3 euro
URL:https://bcpz.nl/event/inloop-met-kofie-en-thee/
CATEGORIES:Inloop
END:VEVENT
BEGIN:VEVENT
DTSTART;TZID=Europe/Amsterdam:20260303T110000
DTEND;TZID=Europe/Amsterdam:20260303T130000
DTSTAMP:20260422T042500
CREATED:20251117T135327Z
LAST-MODIFIED:20251117T135327Z
UID:1869-1772535600-1772542800@bcpz.nl
SUMMARY:Gym met lunch
DESCRIPTION:Josephinehof\, Josephinehof 2A (ingang in Gildestraat)\, Geldrop. \nAls u nog niet op de lijst staat\, bel Ine tel. 06 83 89 64 91. Bijdrage € 5
URL:https://bcpz.nl/event/gym-met-lunch-211/
CATEGORIES:Samen Gymmen
END:VEVENT
BEGIN:VEVENT
DTSTART;TZID=Europe/Amsterdam:20260302T100000
DTEND;TZID=Europe/Amsterdam:20260302T120000
DTSTAMP:20260422T042500
CREATED:20251117T134459Z
LAST-MODIFIED:20251117T134459Z
UID:1843-1772445600-1772452800@bcpz.nl
SUMMARY:Inloop met koffie en thee
DESCRIPTION:Josephinehof\, Josephinehof 2A (ingang in Gildestraat)\, Geldrop. \nAanmelden hoeft niet\, kom gezellig langs. bijdrage 3 euro
URL:https://bcpz.nl/event/inloop-met-koffie-en-thee-200/
CATEGORIES:Inloop
END:VEVENT
END:VCALENDAR