BEGIN:VCALENDAR
VERSION:2.0
PRODID:-//Buurtcontactpunt Zesgehuchten - ECPv6.15.20//NONSGML v1.0//EN
CALSCALE:GREGORIAN
METHOD:PUBLISH
X-WR-CALNAME:Buurtcontactpunt Zesgehuchten
X-ORIGINAL-URL:https://bcpz.nl
X-WR-CALDESC:Evenementen voor Buurtcontactpunt Zesgehuchten
REFRESH-INTERVAL;VALUE=DURATION:PT1H
X-Robots-Tag:noindex
X-PUBLISHED-TTL:PT1H
BEGIN:VTIMEZONE
TZID:Europe/Amsterdam
BEGIN:DAYLIGHT
TZOFFSETFROM:+0100
TZOFFSETTO:+0200
TZNAME:CEST
DTSTART:20240331T010000
END:DAYLIGHT
BEGIN:STANDARD
TZOFFSETFROM:+0200
TZOFFSETTO:+0100
TZNAME:CET
DTSTART:20241027T010000
END:STANDARD
BEGIN:DAYLIGHT
TZOFFSETFROM:+0100
TZOFFSETTO:+0200
TZNAME:CEST
DTSTART:20250330T010000
END:DAYLIGHT
BEGIN:STANDARD
TZOFFSETFROM:+0200
TZOFFSETTO:+0100
TZNAME:CET
DTSTART:20251026T010000
END:STANDARD
BEGIN:DAYLIGHT
TZOFFSETFROM:+0100
TZOFFSETTO:+0200
TZNAME:CEST
DTSTART:20260329T010000
END:DAYLIGHT
BEGIN:STANDARD
TZOFFSETFROM:+0200
TZOFFSETTO:+0100
TZNAME:CET
DTSTART:20261025T010000
END:STANDARD
END:VTIMEZONE
BEGIN:VEVENT
DTSTART;TZID=Europe/Amsterdam:20250414T100000
DTEND;TZID=Europe/Amsterdam:20250414T120000
DTSTAMP:20260423T060737
CREATED:20250107T110634Z
LAST-MODIFIED:20250107T110634Z
UID:1551-1744624800-1744632000@bcpz.nl
SUMMARY:Inloop met koffie en thee
DESCRIPTION:Josephinehof\, Josephinehof 2A (ingang in Gildestraat)\, Geldrop. Aanmelden hoeft niet\, kom gezellig langs. bijdrage 3 euro
URL:https://bcpz.nl/event/inloop-met-koffie-en-thee-154/
CATEGORIES:Inloop
END:VEVENT
BEGIN:VEVENT
DTSTART;TZID=Europe/Amsterdam:20250410T160000
DTEND;TZID=Europe/Amsterdam:20250410T190000
DTSTAMP:20260423T060737
CREATED:20250107T105916Z
LAST-MODIFIED:20250107T105916Z
UID:1529-1744300800-1744311600@bcpz.nl
SUMMARY:Samen eten op donderdag
DESCRIPTION:Josephinehof\, Josephinehof 2A (ingang in Gildestraat)\, Geldrop. Als u nog niet op de lijst staat\, bel Aggie tel. 06 364 04180. Bijdrage € 7\,50
URL:https://bcpz.nl/event/samen-eten-op-donderdag-38/
CATEGORIES:Samen Eten
END:VEVENT
BEGIN:VEVENT
DTSTART;TZID=Europe/Amsterdam:20250409T200000
DTEND;TZID=Europe/Amsterdam:20250409T223000
DTSTAMP:20260423T060737
CREATED:20250331T101617Z
LAST-MODIFIED:20250331T101617Z
UID:1616-1744228800-1744237800@bcpz.nl
SUMMARY:Wergroep Distributiecentrum Belangenvereniging Zesgehuchten
DESCRIPTION:Besloten vergadering. \nWil je ook deelnemen: mail naar info@belangenverenigingzesgehuchten.nl
URL:https://bcpz.nl/event/wergroep-distributiecentrum-belangenvereniging-zesgehuchten/
LOCATION:Josephinehof\, Josephinehof 2A (ingang in Gildestraat)\, Geldrop\, NB\, Nederland
END:VEVENT
BEGIN:VEVENT
DTSTART;TZID=Europe/Amsterdam:20250408T200000
DTEND;TZID=Europe/Amsterdam:20250408T223000
DTSTAMP:20260423T060737
CREATED:20250331T101128Z
LAST-MODIFIED:20250331T101128Z
UID:1614-1744142400-1744151400@bcpz.nl
SUMMARY:Algemene ledenvergadering Belangenvereniging Zesgehuchten
DESCRIPTION:Openbare jaarvergadering voor alle leden van de Belangenvereniging Zesgehuchten. \nHet bestuur legt rekenschap af over het jaar 2024 en geeft een vooruitblik voor 2025.
URL:https://bcpz.nl/event/algemene-ledenvergadering/
LOCATION:Josephinehof\, Josephinehof 2A (ingang in Gildestraat)\, Geldrop\, NB\, Nederland
END:VEVENT
BEGIN:VEVENT
DTSTART;TZID=Europe/Amsterdam:20250408T110000
DTEND;TZID=Europe/Amsterdam:20250408T130000
DTSTAMP:20260423T060737
CREATED:20250107T111619Z
LAST-MODIFIED:20250107T111619Z
UID:1575-1744110000-1744117200@bcpz.nl
SUMMARY:Gym met lunch
DESCRIPTION:Josephinehof\, Josephinehof 2A (ingang in Gildestraat)\, Geldrop. Als u nog niet op de lijst staat\, bel Ine tel. 06 83 89 64 91. Bijdrage € 5
URL:https://bcpz.nl/event/gym-met-lunch-164/
CATEGORIES:Samen Gymmen
END:VEVENT
BEGIN:VEVENT
DTSTART;TZID=Europe/Amsterdam:20250407T143000
DTEND;TZID=Europe/Amsterdam:20250407T163000
DTSTAMP:20260423T060737
CREATED:20250331T123747Z
LAST-MODIFIED:20250331T123747Z
UID:1633-1744036200-1744043400@bcpz.nl
SUMMARY:Bestuursvergadering Buurtcontactpunt Zesgehuchten
DESCRIPTION:
URL:https://bcpz.nl/event/bestuursvergadering-buurtcontactpunt-zesgehuchten/
LOCATION:Josephinehof\, Josephinehof 2A (ingang in Gildestraat)\, Geldrop\, NB\, Nederland
END:VEVENT
BEGIN:VEVENT
DTSTART;TZID=Europe/Amsterdam:20250407T100000
DTEND;TZID=Europe/Amsterdam:20250407T120000
DTSTAMP:20260423T060737
CREATED:20250107T110601Z
LAST-MODIFIED:20250107T110601Z
UID:1549-1744020000-1744027200@bcpz.nl
SUMMARY:Inloop met koffie en thee
DESCRIPTION:Josephinehof\, Josephinehof 2A (ingang in Gildestraat)\, Geldrop. Aanmelden hoeft niet\, kom gezellig langs. bijdrage 3 euro
URL:https://bcpz.nl/event/inloop-met-koffie-en-thee-153/
CATEGORIES:Inloop
END:VEVENT
BEGIN:VEVENT
DTSTART;TZID=Europe/Amsterdam:20250401T110000
DTEND;TZID=Europe/Amsterdam:20250401T130000
DTSTAMP:20260423T060737
CREATED:20250107T111549Z
LAST-MODIFIED:20250107T111549Z
UID:1573-1743505200-1743512400@bcpz.nl
SUMMARY:Gym met lunch
DESCRIPTION:Josephinehof\, Josephinehof 2A (ingang in Gildestraat)\, Geldrop. Als u nog niet op de lijst staat\, bel Ine tel. 06 83 89 64 91. Bijdrage € 5
URL:https://bcpz.nl/event/gym-met-lunch-163/
CATEGORIES:Samen Gymmen
END:VEVENT
BEGIN:VEVENT
DTSTART;TZID=Europe/Amsterdam:20250331T100000
DTEND;TZID=Europe/Amsterdam:20250331T120000
DTSTAMP:20260423T060737
CREATED:20250107T110505Z
LAST-MODIFIED:20250107T110505Z
UID:1547-1743415200-1743422400@bcpz.nl
SUMMARY:Inloop met koffie en thee
DESCRIPTION:Josephinehof\, Josephinehof 2A (ingang in Gildestraat)\, Geldrop. Aanmelden hoeft niet\, kom gezellig langs. bijdrage 3 euro
URL:https://bcpz.nl/event/inloop-met-koffie-en-thee-152/
CATEGORIES:Inloop
END:VEVENT
BEGIN:VEVENT
DTSTART;TZID=Europe/Amsterdam:20250326T123000
DTEND;TZID=Europe/Amsterdam:20250326T143000
DTSTAMP:20260423T060737
CREATED:20250218T191239Z
LAST-MODIFIED:20250218T191239Z
UID:1609-1742992200-1742999400@bcpz.nl
SUMMARY:Feestelijke High Tea
DESCRIPTION:We organiseren weer een feestelijke High Tea \nHet begint om 12.30 uur tot ongeveer 14.30 uur\, op het BuurtContactPunt. \nDe kosten zijn 5 euro \nOpgeven bij Aggie 06 36 40 41 80 \nGraag aanmelden voor 21 maart
URL:https://bcpz.nl/event/feestelijke-high-tea-2/
CATEGORIES:Extra activiteiten
END:VEVENT
BEGIN:VEVENT
DTSTART;TZID=Europe/Amsterdam:20250325T110000
DTEND;TZID=Europe/Amsterdam:20250325T130000
DTSTAMP:20260423T060737
CREATED:20250107T111305Z
LAST-MODIFIED:20250107T111406Z
UID:1571-1742900400-1742907600@bcpz.nl
SUMMARY:Gym met lunch
DESCRIPTION:Josephinehof\, Josephinehof 2A (ingang in Gildestraat)\, Geldrop. Als u nog niet op de lijst staat\, bel Ine tel. 06 83 89 64 91. Bijdrage € 5
URL:https://bcpz.nl/event/gym-met-lunch-162/
CATEGORIES:Samen Gymmen
END:VEVENT
BEGIN:VEVENT
DTSTART;TZID=Europe/Amsterdam:20250324T100000
DTEND;TZID=Europe/Amsterdam:20250324T120000
DTSTAMP:20260423T060737
CREATED:20250107T110436Z
LAST-MODIFIED:20250107T110436Z
UID:1545-1742810400-1742817600@bcpz.nl
SUMMARY:Inloop met koffie en thee
DESCRIPTION:Josephinehof\, Josephinehof 2A (ingang in Gildestraat)\, Geldrop. Aanmelden hoeft niet\, kom gezellig langs. bijdrage 3 euro
URL:https://bcpz.nl/event/inloop-met-koffie-en-thee-151/
CATEGORIES:Inloop
END:VEVENT
BEGIN:VEVENT
DTSTART;TZID=Europe/Amsterdam:20250319T160000
DTEND;TZID=Europe/Amsterdam:20250319T190000
DTSTAMP:20260423T060737
CREATED:20250107T110039Z
LAST-MODIFIED:20250107T110039Z
UID:1533-1742400000-1742410800@bcpz.nl
SUMMARY:Samen eten op woensdag
DESCRIPTION:Josephinehof\, Josephinehof 2A (ingang in Gildestraat)\, Geldrop. Als u nog niet op de lijst staat\, bel Aggie tel. 06 364 04180. Bijdrage € 7\,50
URL:https://bcpz.nl/event/samen-eten-op-woensdag-37/
CATEGORIES:Samen Eten
END:VEVENT
BEGIN:VEVENT
DTSTART;TZID=Europe/Amsterdam:20250318T110000
DTEND;TZID=Europe/Amsterdam:20250318T130000
DTSTAMP:20260423T060737
CREATED:20250107T111235Z
LAST-MODIFIED:20250107T111507Z
UID:1569-1742295600-1742302800@bcpz.nl
SUMMARY:Gym met lunch
DESCRIPTION:Josephinehof\, Josephinehof 2A (ingang in Gildestraat)\, Geldrop. Als u nog niet op de lijst staat\, bel Ine tel. 06 83 89 64 91. Bijdrage € 5
URL:https://bcpz.nl/event/gym-met-lunch-161/
CATEGORIES:Samen Gymmen
END:VEVENT
BEGIN:VEVENT
DTSTART;TZID=Europe/Amsterdam:20250317T100000
DTEND;TZID=Europe/Amsterdam:20250317T120000
DTSTAMP:20260423T060737
CREATED:20250107T110409Z
LAST-MODIFIED:20250107T110409Z
UID:1543-1742205600-1742212800@bcpz.nl
SUMMARY:Inloop met koffie en thee
DESCRIPTION:Josephinehof\, Josephinehof 2A (ingang in Gildestraat)\, Geldrop. Aanmelden hoeft niet\, kom gezellig langs. bijdrage 3 euro
URL:https://bcpz.nl/event/inloop-met-koffie-en-thee-150/
CATEGORIES:Inloop
END:VEVENT
BEGIN:VEVENT
DTSTART;TZID=Europe/Amsterdam:20250313T160000
DTEND;TZID=Europe/Amsterdam:20250313T190000
DTSTAMP:20260423T060737
CREATED:20250107T105803Z
LAST-MODIFIED:20250107T105803Z
UID:1527-1741881600-1741892400@bcpz.nl
SUMMARY:Samen eten op donderdag
DESCRIPTION:Josephinehof\, Josephinehof 2A (ingang in Gildestraat)\, Geldrop. Als u nog niet op de lijst staat\, bel Aggie tel. 06 364 04180. Bijdrage € 7\,50
URL:https://bcpz.nl/event/samen-eten-op-donderdag-37/
CATEGORIES:Samen Eten
END:VEVENT
BEGIN:VEVENT
DTSTART;TZID=Europe/Amsterdam:20250311T110000
DTEND;TZID=Europe/Amsterdam:20250311T130000
DTSTAMP:20260423T060737
CREATED:20250107T111202Z
LAST-MODIFIED:20250107T111202Z
UID:1567-1741690800-1741698000@bcpz.nl
SUMMARY:Gym met lunch
DESCRIPTION:Josephinehof\, Josephinehof 2A (ingang in Gildestraat)\, Geldrop. Als u nog niet op de lijst staat\, bel Ine tel. 06 83 89 64 91. Bijdrage € 5
URL:https://bcpz.nl/event/gym-met-lunch-160/
CATEGORIES:Samen Gymmen
END:VEVENT
BEGIN:VEVENT
DTSTART;TZID=Europe/Amsterdam:20250310T163000
DTEND;TZID=Europe/Amsterdam:20250310T190000
DTSTAMP:20260423T060737
CREATED:20250128T092946Z
LAST-MODIFIED:20250128T092946Z
UID:1595-1741624200-1741633200@bcpz.nl
SUMMARY:bespreking Woonbedrijf
DESCRIPTION:besloten bijeenkomst
URL:https://bcpz.nl/event/bespreking-woonbedrijf-3/
ORGANIZER;CN="Woonbedrijf":MAILTO:info@woonbedrijf.com
END:VEVENT
BEGIN:VEVENT
DTSTART;TZID=Europe/Amsterdam:20250310T100000
DTEND;TZID=Europe/Amsterdam:20250310T120000
DTSTAMP:20260423T060737
CREATED:20250107T110342Z
LAST-MODIFIED:20250107T110342Z
UID:1541-1741600800-1741608000@bcpz.nl
SUMMARY:Inloop met koffie en thee
DESCRIPTION:Josephinehof\, Josephinehof 2A (ingang in Gildestraat)\, Geldrop. Aanmelden hoeft niet\, kom gezellig langs. bijdrage 3 euro
URL:https://bcpz.nl/event/inloop-met-koffie-en-thee-149/
CATEGORIES:Inloop
END:VEVENT
BEGIN:VEVENT
DTSTART;TZID=Europe/Amsterdam:20250304T110000
DTEND;TZID=Europe/Amsterdam:20250304T130000
DTSTAMP:20260423T060737
CREATED:20250107T111135Z
LAST-MODIFIED:20250107T111135Z
UID:1565-1741086000-1741093200@bcpz.nl
SUMMARY:Gym met lunch
DESCRIPTION:Josephinehof\, Josephinehof 2A (ingang in Gildestraat)\, Geldrop. Als u nog niet op de lijst staat\, bel Ine tel. 06 83 89 64 91. Bijdrage € 5
URL:https://bcpz.nl/event/gym-met-lunch-159/
CATEGORIES:Samen Gymmen
END:VEVENT
BEGIN:VEVENT
DTSTART;TZID=Europe/Amsterdam:20250303T100000
DTEND;TZID=Europe/Amsterdam:20250303T120000
DTSTAMP:20260423T060737
CREATED:20250107T110305Z
LAST-MODIFIED:20250107T110305Z
UID:1539-1740996000-1741003200@bcpz.nl
SUMMARY:Inloop met koffie en thee
DESCRIPTION:Josephinehof\, Josephinehof 2A (ingang in Gildestraat)\, Geldrop. Aanmelden hoeft niet\, kom gezellig langs. bijdrage 3 euro
URL:https://bcpz.nl/event/inloop-met-koffie-en-thee-148/
CATEGORIES:Inloop
END:VEVENT
BEGIN:VEVENT
DTSTART;TZID=Europe/Amsterdam:20250227T140000
DTEND;TZID=Europe/Amsterdam:20250227T160000
DTSTAMP:20260423T060737
CREATED:20250130T151441Z
LAST-MODIFIED:20250130T151520Z
UID:1597-1740664800-1740672000@bcpz.nl
SUMMARY:Carnavals muziekbingo
DESCRIPTION:Met uiteraard veel mooie prijzen …..\nNatuurlijk is er gratis koffie en thee en de mogelijkheid om tegen betaling een drankje te bestellen. \nWanneer: donderdag 27 februari\nTijd: 14.00 uur tot ongeveer 16.00 uur \nKosten: 5 euro \nOpgeven bij Aggie: 06 36 40 41 80 \nP.S. Je mag verkleed komen\, niet verplicht hoor!!
URL:https://bcpz.nl/event/muziekbingo/
CATEGORIES:Extra activiteiten
END:VEVENT
BEGIN:VEVENT
DTSTART;TZID=Europe/Amsterdam:20250225T170000
DTEND;TZID=Europe/Amsterdam:20250225T183000
DTSTAMP:20260423T060737
CREATED:20250205T115300Z
LAST-MODIFIED:20250205T115300Z
UID:1605-1740502800-1740508200@bcpz.nl
SUMMARY:Woonbedrijf vergadering
DESCRIPTION:besloten bijeenkomst
URL:https://bcpz.nl/event/woonbedrijf-vergadering-3/
LOCATION:Josephinehof\, Josephinehof 2A (ingang in Gildestraat)\, Geldrop\, NB\, Nederland
ORGANIZER;CN="Woonbedrijf":MAILTO:info@woonbedrijf.com
END:VEVENT
BEGIN:VEVENT
DTSTART;TZID=Europe/Amsterdam:20250225T110000
DTEND;TZID=Europe/Amsterdam:20250225T130000
DTSTAMP:20260423T060737
CREATED:20241116T152549Z
LAST-MODIFIED:20241116T152549Z
UID:1496-1740481200-1740488400@bcpz.nl
SUMMARY:Gym met lunch
DESCRIPTION:Josephinehof\, Josephinehof 2A (ingang in Gildestraat)\, Geldrop. Als u nog niet op de lijst staat\, bel Ine tel. 06 83 89 64 91. Bijdrage € 5
URL:https://bcpz.nl/event/gym-met-lunch-158/
CATEGORIES:Samen Gymmen
END:VEVENT
BEGIN:VEVENT
DTSTART;TZID=Europe/Amsterdam:20250224T080000
DTEND;TZID=Europe/Amsterdam:20250224T170000
DTSTAMP:20260423T060737
CREATED:20241116T151943Z
LAST-MODIFIED:20241116T151943Z
UID:1480-1740384000-1740416400@bcpz.nl
SUMMARY:Inloop met koffie en thee
DESCRIPTION:Josephinehof\, Josephinehof 2A (ingang in Gildestraat)\, Geldrop. Aanmelden hoeft niet\, kom gezellig langs. bijdrage 3 euro
URL:https://bcpz.nl/event/inloop-met-koffie-en-thee-147/
CATEGORIES:Inloop
END:VEVENT
BEGIN:VEVENT
DTSTART;TZID=Europe/Amsterdam:20250219T160000
DTEND;TZID=Europe/Amsterdam:20250219T190000
DTSTAMP:20260423T060737
CREATED:20241116T152952Z
LAST-MODIFIED:20250105T122555Z
UID:1505-1739980800-1739991600@bcpz.nl
SUMMARY:Samen eten op woensdag
DESCRIPTION:Josephinehof\, Josephinehof 2A (ingang in Gildestraat)\, Geldrop. Als u nog niet op de lijst staat\, bel Aggie tel. 06 364 04180. Bijdrage € 7\,50
URL:https://bcpz.nl/event/samen-eten-op-woensdag-36/
LOCATION:Josephinehof\, Josephinehof 2A (ingang in Gildestraat)\, Geldrop\, NB\, Nederland
CATEGORIES:Samen Eten
END:VEVENT
BEGIN:VEVENT
DTSTART;TZID=Europe/Amsterdam:20250218T110000
DTEND;TZID=Europe/Amsterdam:20250218T130000
DTSTAMP:20260423T060737
CREATED:20241116T152516Z
LAST-MODIFIED:20241116T152516Z
UID:1494-1739876400-1739883600@bcpz.nl
SUMMARY:Gym met lunch
DESCRIPTION:Josephinehof\, Josephinehof 2A (ingang in Gildestraat)\, Geldrop. Als u nog niet op de lijst staat\, bel Ine tel. 06 83 89 64 91. Bijdrage € 5
URL:https://bcpz.nl/event/gym-met-lunch-157/
CATEGORIES:Samen Gymmen
END:VEVENT
BEGIN:VEVENT
DTSTART;TZID=Europe/Amsterdam:20250217T100000
DTEND;TZID=Europe/Amsterdam:20250217T120000
DTSTAMP:20260423T060737
CREATED:20241116T151830Z
LAST-MODIFIED:20241116T151830Z
UID:1478-1739786400-1739793600@bcpz.nl
SUMMARY:Inloop met koffie en thee
DESCRIPTION:Josephinehof\, Josephinehof 2A (ingang in Gildestraat)\, Geldrop. Aanmelden hoeft niet\, kom gezellig langs. bijdrage 3 euro
URL:https://bcpz.nl/event/inloop-met-koffie-en-thee-146/
CATEGORIES:Inloop
END:VEVENT
BEGIN:VEVENT
DTSTART;TZID=Europe/Amsterdam:20250213T160000
DTEND;TZID=Europe/Amsterdam:20250213T190000
DTSTAMP:20260423T060737
CREATED:20241116T152758Z
LAST-MODIFIED:20241116T152758Z
UID:1500-1739462400-1739473200@bcpz.nl
SUMMARY:Samen eten op donderdag
DESCRIPTION:Josephinehof\, Josephinehof 2A (ingang in Gildestraat)\, Geldrop. Als u nog niet op de lijst staat\, bel Aggie tel. 06 364 04180. Bijdrage € 7\,50
URL:https://bcpz.nl/event/samen-eten-op-donderdag-36/
CATEGORIES:Samen Eten
END:VEVENT
BEGIN:VEVENT
DTSTART;TZID=Europe/Amsterdam:20250211T110000
DTEND;TZID=Europe/Amsterdam:20250211T130000
DTSTAMP:20260423T060737
CREATED:20241116T152442Z
LAST-MODIFIED:20241116T152442Z
UID:1492-1739271600-1739278800@bcpz.nl
SUMMARY:Gym met lunch
DESCRIPTION:Josephinehof\, Josephinehof 2A (ingang in Gildestraat)\, Geldrop. Als u nog niet op de lijst staat\, bel Ine tel. 06 83 89 64 91. Bijdrage € 5
URL:https://bcpz.nl/event/gym-met-lunch-156/
CATEGORIES:Samen Gymmen
END:VEVENT
END:VCALENDAR