BEGIN:VCALENDAR
VERSION:2.0
PRODID:-//Buurtcontactpunt Zesgehuchten - ECPv6.15.20//NONSGML v1.0//EN
CALSCALE:GREGORIAN
METHOD:PUBLISH
X-ORIGINAL-URL:https://bcpz.nl
X-WR-CALDESC:Evenementen voor Buurtcontactpunt Zesgehuchten
REFRESH-INTERVAL;VALUE=DURATION:PT1H
X-Robots-Tag:noindex
X-PUBLISHED-TTL:PT1H
BEGIN:VTIMEZONE
TZID:Europe/Amsterdam
BEGIN:DAYLIGHT
TZOFFSETFROM:+0100
TZOFFSETTO:+0200
TZNAME:CEST
DTSTART:20230326T010000
END:DAYLIGHT
BEGIN:STANDARD
TZOFFSETFROM:+0200
TZOFFSETTO:+0100
TZNAME:CET
DTSTART:20231029T010000
END:STANDARD
BEGIN:DAYLIGHT
TZOFFSETFROM:+0100
TZOFFSETTO:+0200
TZNAME:CEST
DTSTART:20240331T010000
END:DAYLIGHT
BEGIN:STANDARD
TZOFFSETFROM:+0200
TZOFFSETTO:+0100
TZNAME:CET
DTSTART:20241027T010000
END:STANDARD
BEGIN:DAYLIGHT
TZOFFSETFROM:+0100
TZOFFSETTO:+0200
TZNAME:CEST
DTSTART:20250330T010000
END:DAYLIGHT
BEGIN:STANDARD
TZOFFSETFROM:+0200
TZOFFSETTO:+0100
TZNAME:CET
DTSTART:20251026T010000
END:STANDARD
BEGIN:DAYLIGHT
TZOFFSETFROM:+0100
TZOFFSETTO:+0200
TZNAME:CEST
DTSTART:20260329T010000
END:DAYLIGHT
BEGIN:STANDARD
TZOFFSETFROM:+0200
TZOFFSETTO:+0100
TZNAME:CET
DTSTART:20261025T010000
END:STANDARD
END:VTIMEZONE
BEGIN:VEVENT
DTSTART;TZID=Europe/Amsterdam:20250218T110000
DTEND;TZID=Europe/Amsterdam:20250218T130000
DTSTAMP:20260422T024331
CREATED:20241116T152516Z
LAST-MODIFIED:20241116T152516Z
UID:1494-1739876400-1739883600@bcpz.nl
SUMMARY:Gym met lunch
DESCRIPTION:Josephinehof\, Josephinehof 2A (ingang in Gildestraat)\, Geldrop. Als u nog niet op de lijst staat\, bel Ine tel. 06 83 89 64 91. Bijdrage € 5
URL:https://bcpz.nl/event/gym-met-lunch-157/
CATEGORIES:Samen Gymmen
END:VEVENT
BEGIN:VEVENT
DTSTART;TZID=Europe/Amsterdam:20250211T110000
DTEND;TZID=Europe/Amsterdam:20250211T130000
DTSTAMP:20260422T024331
CREATED:20241116T152442Z
LAST-MODIFIED:20241116T152442Z
UID:1492-1739271600-1739278800@bcpz.nl
SUMMARY:Gym met lunch
DESCRIPTION:Josephinehof\, Josephinehof 2A (ingang in Gildestraat)\, Geldrop. Als u nog niet op de lijst staat\, bel Ine tel. 06 83 89 64 91. Bijdrage € 5
URL:https://bcpz.nl/event/gym-met-lunch-156/
CATEGORIES:Samen Gymmen
END:VEVENT
BEGIN:VEVENT
DTSTART;TZID=Europe/Amsterdam:20250204T110000
DTEND;TZID=Europe/Amsterdam:20250204T130000
DTSTAMP:20260422T024331
CREATED:20241116T152406Z
LAST-MODIFIED:20241116T152406Z
UID:1490-1738666800-1738674000@bcpz.nl
SUMMARY:Gym met lunch
DESCRIPTION:Josephinehof\, Josephinehof 2A (ingang in Gildestraat)\, Geldrop. Als u nog niet op de lijst staat\, bel Ine tel. 06 83 89 64 91. Bijdrage € 5
URL:https://bcpz.nl/event/gym-met-lunch-155/
CATEGORIES:Samen Gymmen
END:VEVENT
BEGIN:VEVENT
DTSTART;TZID=Europe/Amsterdam:20250128T110000
DTEND;TZID=Europe/Amsterdam:20250128T130000
DTSTAMP:20260422T024331
CREATED:20241116T152242Z
LAST-MODIFIED:20241116T152333Z
UID:1488-1738062000-1738069200@bcpz.nl
SUMMARY:Gym met lunch
DESCRIPTION:Josephinehof\, Josephinehof 2A (ingang in Gildestraat)\, Geldrop. Als u nog niet op de lijst staat\, bel Ine tel. 06 83 89 64 91. Bijdrage € 5
URL:https://bcpz.nl/event/gym-met-lunch-154/
CATEGORIES:Samen Gymmen
END:VEVENT
BEGIN:VEVENT
DTSTART;TZID=Europe/Amsterdam:20250121T110000
DTEND;TZID=Europe/Amsterdam:20250121T130000
DTSTAMP:20260422T024331
CREATED:20241116T152220Z
LAST-MODIFIED:20241116T152220Z
UID:1486-1737457200-1737464400@bcpz.nl
SUMMARY:Gym met lunch
DESCRIPTION:Josephinehof\, Josephinehof 2A (ingang in Gildestraat)\, Geldrop. Als u nog niet op de lijst staat\, bel Ine tel. 06 83 89 64 91. Bijdrage € 5
URL:https://bcpz.nl/event/gym-met-lunch-153/
CATEGORIES:Samen Gymmen
END:VEVENT
BEGIN:VEVENT
DTSTART;TZID=Europe/Amsterdam:20250114T110000
DTEND;TZID=Europe/Amsterdam:20250114T130000
DTSTAMP:20260422T024331
CREATED:20241116T152144Z
LAST-MODIFIED:20241116T152144Z
UID:1484-1736852400-1736859600@bcpz.nl
SUMMARY:Gym met lunch
DESCRIPTION:Josephinehof\, Josephinehof 2A (ingang in Gildestraat)\, Geldrop. Als u nog niet op de lijst staat\, bel Ine tel. 06 83 89 64 91. Bijdrage € 5
URL:https://bcpz.nl/event/gym-met-lunch-152/
CATEGORIES:Samen Gymmen
END:VEVENT
BEGIN:VEVENT
DTSTART;TZID=Europe/Amsterdam:20250107T110000
DTEND;TZID=Europe/Amsterdam:20250107T130000
DTSTAMP:20260422T024331
CREATED:20241116T152113Z
LAST-MODIFIED:20241116T152113Z
UID:1482-1736247600-1736254800@bcpz.nl
SUMMARY:Gym met lunch
DESCRIPTION:Josephinehof\, Josephinehof 2A (ingang in Gildestraat)\, Geldrop. Als u nog niet op de lijst staat\, bel Ine tel. 06 83 89 64 91. Bijdrage € 5
URL:https://bcpz.nl/event/gym-met-lunch-151/
CATEGORIES:Samen Gymmen
END:VEVENT
BEGIN:VEVENT
DTSTART;TZID=Europe/Amsterdam:20241231T110000
DTEND;TZID=Europe/Amsterdam:20241231T130000
DTSTAMP:20260422T024331
CREATED:20241010T074319Z
LAST-MODIFIED:20241010T074319Z
UID:1449-1735642800-1735650000@bcpz.nl
SUMMARY:Gym met lunch
DESCRIPTION:Josephinehof\, Josephinehof 2A (ingang in Gildestraat)\, Geldrop. Als u nog niet op de lijst staat\, bel Ine tel. 06 83 89 64 91. Bijdrage € 5
URL:https://bcpz.nl/event/gym-met-lunch-149/
CATEGORIES:Samen Gymmen
END:VEVENT
BEGIN:VEVENT
DTSTART;TZID=Europe/Amsterdam:20241224T110000
DTEND;TZID=Europe/Amsterdam:20241224T130000
DTSTAMP:20260422T024331
CREATED:20241010T074249Z
LAST-MODIFIED:20241010T074249Z
UID:1447-1735038000-1735045200@bcpz.nl
SUMMARY:Gym met lunch
DESCRIPTION:Josephinehof\, Josephinehof 2A (ingang in Gildestraat)\, Geldrop. Als u nog niet op de lijst staat\, bel Ine tel. 06 83 89 64 91. Bijdrage € 5
URL:https://bcpz.nl/event/gym-met-lunch-148/
CATEGORIES:Samen Gymmen
END:VEVENT
BEGIN:VEVENT
DTSTART;TZID=Europe/Amsterdam:20241217T110000
DTEND;TZID=Europe/Amsterdam:20241217T130000
DTSTAMP:20260422T024331
CREATED:20241010T074210Z
LAST-MODIFIED:20241010T074210Z
UID:1445-1734433200-1734440400@bcpz.nl
SUMMARY:Gym met lunch
DESCRIPTION:Josephinehof\, Josephinehof 2A (ingang in Gildestraat)\, Geldrop. Als u nog niet op de lijst staat\, bel Ine tel. 06 83 89 64 91. Bijdrage € 5
URL:https://bcpz.nl/event/gym-met-lunch-147/
CATEGORIES:Samen Gymmen
END:VEVENT
BEGIN:VEVENT
DTSTART;TZID=Europe/Amsterdam:20241210T110000
DTEND;TZID=Europe/Amsterdam:20241210T130000
DTSTAMP:20260422T024331
CREATED:20241010T074436Z
LAST-MODIFIED:20241010T074436Z
UID:1451-1733828400-1733835600@bcpz.nl
SUMMARY:Gym met lunch
DESCRIPTION:Josephinehof\, Josephinehof 2A (ingang in Gildestraat)\, Geldrop. Als u nog niet op de lijst staat\, bel Ine tel. 06 83 89 64 91. Bijdrage € 5
URL:https://bcpz.nl/event/gym-met-lunch-150/
CATEGORIES:Samen Gymmen
END:VEVENT
BEGIN:VEVENT
DTSTART;TZID=Europe/Amsterdam:20241203T110000
DTEND;TZID=Europe/Amsterdam:20241203T130000
DTSTAMP:20260422T024331
CREATED:20241010T074131Z
LAST-MODIFIED:20241010T074131Z
UID:1443-1733223600-1733230800@bcpz.nl
SUMMARY:Gym met lunch
DESCRIPTION:Josephinehof\, Josephinehof 2A (ingang in Gildestraat)\, Geldrop. Als u nog niet op de lijst staat\, bel Ine tel. 06 83 89 64 91. Bijdrage € 5
URL:https://bcpz.nl/event/gym-met-lunch-146/
CATEGORIES:Samen Gymmen
END:VEVENT
BEGIN:VEVENT
DTSTART;TZID=Europe/Amsterdam:20241126T110000
DTEND;TZID=Europe/Amsterdam:20241126T130000
DTSTAMP:20260422T024331
CREATED:20241010T074009Z
LAST-MODIFIED:20241010T074009Z
UID:1441-1732618800-1732626000@bcpz.nl
SUMMARY:Gym met lunch
DESCRIPTION:Josephinehof\, Josephinehof 2A (ingang in Gildestraat)\, Geldrop. Als u nog niet op de lijst staat\, bel Ine tel. 06 83 89 64 91. Bijdrage € 5
URL:https://bcpz.nl/event/gym-met-lunch-145/
CATEGORIES:Samen Gymmen
END:VEVENT
BEGIN:VEVENT
DTSTART;TZID=Europe/Amsterdam:20241119T110000
DTEND;TZID=Europe/Amsterdam:20241119T130000
DTSTAMP:20260422T024331
CREATED:20241010T073935Z
LAST-MODIFIED:20241010T073935Z
UID:1439-1732014000-1732021200@bcpz.nl
SUMMARY:Gym met lunch
DESCRIPTION:Josephinehof\, Josephinehof 2A (ingang in Gildestraat)\, Geldrop. Als u nog niet op de lijst staat\, bel Ine tel. 06 83 89 64 91. Bijdrage € 5
URL:https://bcpz.nl/event/gym-met-lunch-144/
CATEGORIES:Samen Gymmen
END:VEVENT
BEGIN:VEVENT
DTSTART;TZID=Europe/Amsterdam:20241112T110000
DTEND;TZID=Europe/Amsterdam:20241112T130000
DTSTAMP:20260422T024331
CREATED:20241010T073904Z
LAST-MODIFIED:20241010T073904Z
UID:1437-1731409200-1731416400@bcpz.nl
SUMMARY:Gym met lunch
DESCRIPTION:Josephinehof\, Josephinehof 2A (ingang in Gildestraat)\, Geldrop. Als u nog niet op de lijst staat\, bel Ine tel. 06 83 89 64 91. Bijdrage € 5
URL:https://bcpz.nl/event/gym-met-lunch-143/
CATEGORIES:Samen Gymmen
END:VEVENT
BEGIN:VEVENT
DTSTART;TZID=Europe/Amsterdam:20241105T110000
DTEND;TZID=Europe/Amsterdam:20241105T130000
DTSTAMP:20260422T024331
CREATED:20241010T073831Z
LAST-MODIFIED:20241010T073831Z
UID:1435-1730804400-1730811600@bcpz.nl
SUMMARY:Gym met lunch
DESCRIPTION:Josephinehof\, Josephinehof 2A (ingang in Gildestraat)\, Geldrop. Als u nog niet op de lijst staat\, bel Ine tel. 06 83 89 64 91. Bijdrage € 5
URL:https://bcpz.nl/event/gym-met-lunch-142/
CATEGORIES:Samen Gymmen
END:VEVENT
BEGIN:VEVENT
DTSTART;TZID=Europe/Amsterdam:20241029T110000
DTEND;TZID=Europe/Amsterdam:20241029T130000
DTSTAMP:20260422T024331
CREATED:20241010T073802Z
LAST-MODIFIED:20241010T073802Z
UID:1433-1730199600-1730206800@bcpz.nl
SUMMARY:Gym met lunch
DESCRIPTION:Josephinehof\, Josephinehof 2A (ingang in Gildestraat)\, Geldrop. Als u nog niet op de lijst staat\, bel Ine tel. 06 83 89 64 91. Bijdrage € 5
URL:https://bcpz.nl/event/gym-met-lunch-141/
CATEGORIES:Samen Gymmen
END:VEVENT
BEGIN:VEVENT
DTSTART;TZID=Europe/Amsterdam:20241022T110000
DTEND;TZID=Europe/Amsterdam:20241022T130000
DTSTAMP:20260422T024331
CREATED:20241010T073722Z
LAST-MODIFIED:20241010T073722Z
UID:1431-1729594800-1729602000@bcpz.nl
SUMMARY:Gym met lunch
DESCRIPTION:Josephinehof\, Josephinehof 2A (ingang in Gildestraat)\, Geldrop. Als u nog niet op de lijst staat\, bel Ine tel. 06 83 89 64 91. Bijdrage € 5
URL:https://bcpz.nl/event/gym-met-lunch-140/
CATEGORIES:Samen Gymmen
END:VEVENT
BEGIN:VEVENT
DTSTART;TZID=Europe/Amsterdam:20241015T110000
DTEND;TZID=Europe/Amsterdam:20241015T130000
DTSTAMP:20260422T024331
CREATED:20241010T073604Z
LAST-MODIFIED:20241010T073604Z
UID:1429-1728990000-1728997200@bcpz.nl
SUMMARY:Gym met lunch
DESCRIPTION:Josephinehof\, Josephinehof 2A (ingang in Gildestraat)\, Geldrop. Als u nog niet op de lijst staat\, bel Ine tel. 06 83 89 64 91. Bijdrage € 5
URL:https://bcpz.nl/event/gym-met-lunch-139/
CATEGORIES:Samen Gymmen
END:VEVENT
BEGIN:VEVENT
DTSTART;TZID=Europe/Amsterdam:20240924T110000
DTEND;TZID=Europe/Amsterdam:20240924T130000
DTSTAMP:20260422T024331
CREATED:20240424T181258Z
LAST-MODIFIED:20240424T181258Z
UID:1359-1727175600-1727182800@bcpz.nl
SUMMARY:Gym met lunch
DESCRIPTION:Josephinehof\, Josephinehof 2A (ingang in Gildestraat)\, Geldrop. Als u nog niet op de lijst staat\, bel Ine tel. 06 83 89 64 91. Bijdrage € 5
URL:https://bcpz.nl/event/gym-met-lunch-137/
CATEGORIES:Samen Gymmen
END:VEVENT
BEGIN:VEVENT
DTSTART;TZID=Europe/Amsterdam:20240917T110000
DTEND;TZID=Europe/Amsterdam:20240917T130000
DTSTAMP:20260422T024331
CREATED:20240424T181222Z
LAST-MODIFIED:20240424T181222Z
UID:1357-1726570800-1726578000@bcpz.nl
SUMMARY:Gym met lunch
DESCRIPTION:Josephinehof\, Josephinehof 2A (ingang in Gildestraat)\, Geldrop. Als u nog niet op de lijst staat\, bel Ine tel. 06 83 89 64 91. Bijdrage € 5
URL:https://bcpz.nl/event/gym-met-lunch-136/
CATEGORIES:Samen Gymmen
END:VEVENT
BEGIN:VEVENT
DTSTART;TZID=Europe/Amsterdam:20240910T110000
DTEND;TZID=Europe/Amsterdam:20240910T130000
DTSTAMP:20260422T024331
CREATED:20240424T181151Z
LAST-MODIFIED:20240424T181151Z
UID:1355-1725966000-1725973200@bcpz.nl
SUMMARY:Gym met lunch
DESCRIPTION:Josephinehof\, Josephinehof 2A (ingang in Gildestraat)\, Geldrop. Als u nog niet op de lijst staat\, bel Ine tel. 06 83 89 64 91. Bijdrage € 5
URL:https://bcpz.nl/event/gym-met-lunch-135/
CATEGORIES:Samen Gymmen
END:VEVENT
BEGIN:VEVENT
DTSTART;TZID=Europe/Amsterdam:20240903T110000
DTEND;TZID=Europe/Amsterdam:20240903T130000
DTSTAMP:20260422T024331
CREATED:20240424T181016Z
LAST-MODIFIED:20240424T181117Z
UID:1353-1725361200-1725368400@bcpz.nl
SUMMARY:Gym met lunch
DESCRIPTION:Josephinehof\, Josephinehof 2A (ingang in Gildestraat)\, Geldrop. Als u nog niet op de lijst staat\, bel Ine tel. 06 83 89 64 91. Bijdrage € 5
URL:https://bcpz.nl/event/gym-met-lunch-134/
CATEGORIES:Samen Gymmen
END:VEVENT
BEGIN:VEVENT
DTSTART;TZID=Europe/Amsterdam:20240827T110000
DTEND;TZID=Europe/Amsterdam:20240827T130000
DTSTAMP:20260422T024331
CREATED:20240424T180538Z
LAST-MODIFIED:20240424T180538Z
UID:1335-1724756400-1724763600@bcpz.nl
SUMMARY:Gym met lunch
DESCRIPTION:Josephinehof\, Josephinehof 2A (ingang in Gildestraat)\, Geldrop. Als u nog niet op de lijst staat\, bel Ine tel. 06 83 89 64 91. Bijdrage € 5
URL:https://bcpz.nl/event/gym-met-lunch-125/
CATEGORIES:Samen Gymmen
END:VEVENT
BEGIN:VEVENT
DTSTART;TZID=Europe/Amsterdam:20240820T110000
DTEND;TZID=Europe/Amsterdam:20240820T130000
DTSTAMP:20260422T024331
CREATED:20240424T180943Z
LAST-MODIFIED:20240424T180943Z
UID:1351-1724151600-1724158800@bcpz.nl
SUMMARY:Gym met lunch
DESCRIPTION:Josephinehof\, Josephinehof 2A (ingang in Gildestraat)\, Geldrop. Als u nog niet op de lijst staat\, bel Ine tel. 06 83 89 64 91. Bijdrage € 5
URL:https://bcpz.nl/event/gym-met-lunch-133/
CATEGORIES:Samen Gymmen
END:VEVENT
BEGIN:VEVENT
DTSTART;TZID=Europe/Amsterdam:20240813T110000
DTEND;TZID=Europe/Amsterdam:20240813T130000
DTSTAMP:20260422T024331
CREATED:20240424T180913Z
LAST-MODIFIED:20240424T180913Z
UID:1349-1723546800-1723554000@bcpz.nl
SUMMARY:Gym met lunch
DESCRIPTION:Josephinehof\, Josephinehof 2A (ingang in Gildestraat)\, Geldrop. Als u nog niet op de lijst staat\, bel Ine tel. 06 83 89 64 91. Bijdrage € 5
URL:https://bcpz.nl/event/gym-met-lunch-132/
CATEGORIES:Samen Gymmen
END:VEVENT
BEGIN:VEVENT
DTSTART;TZID=Europe/Amsterdam:20240806T110000
DTEND;TZID=Europe/Amsterdam:20240806T130000
DTSTAMP:20260422T024331
CREATED:20240424T180844Z
LAST-MODIFIED:20240424T180844Z
UID:1347-1722942000-1722949200@bcpz.nl
SUMMARY:Gym met lunch
DESCRIPTION:Josephinehof\, Josephinehof 2A (ingang in Gildestraat)\, Geldrop. Als u nog niet op de lijst staat\, bel Ine tel. 06 83 89 64 91. Bijdrage € 5
URL:https://bcpz.nl/event/gym-met-lunch-131/
CATEGORIES:Samen Gymmen
END:VEVENT
BEGIN:VEVENT
DTSTART;TZID=Europe/Amsterdam:20240730T110000
DTEND;TZID=Europe/Amsterdam:20240730T130000
DTSTAMP:20260422T024331
CREATED:20240424T180808Z
LAST-MODIFIED:20240424T180808Z
UID:1345-1722337200-1722344400@bcpz.nl
SUMMARY:Gym met lunch
DESCRIPTION:Josephinehof\, Josephinehof 2A (ingang in Gildestraat)\, Geldrop. Als u nog niet op de lijst staat\, bel Ine tel. 06 83 89 64 91. Bijdrage € 5
URL:https://bcpz.nl/event/gym-met-lunch-130/
CATEGORIES:Samen Gymmen
END:VEVENT
BEGIN:VEVENT
DTSTART;TZID=Europe/Amsterdam:20240723T110000
DTEND;TZID=Europe/Amsterdam:20240723T130000
DTSTAMP:20260422T024331
CREATED:20240424T180741Z
LAST-MODIFIED:20240424T180741Z
UID:1343-1721732400-1721739600@bcpz.nl
SUMMARY:Gym met lunch
DESCRIPTION:Josephinehof\, Josephinehof 2A (ingang in Gildestraat)\, Geldrop. Als u nog niet op de lijst staat\, bel Ine tel. 06 83 89 64 91. Bijdrage € 5
URL:https://bcpz.nl/event/gym-met-lunch-129/
CATEGORIES:Samen Gymmen
END:VEVENT
BEGIN:VEVENT
DTSTART;TZID=Europe/Amsterdam:20240716T110000
DTEND;TZID=Europe/Amsterdam:20240716T130000
DTSTAMP:20260422T024331
CREATED:20240424T180715Z
LAST-MODIFIED:20240424T180715Z
UID:1341-1721127600-1721134800@bcpz.nl
SUMMARY:Gym met lunch
DESCRIPTION:Josephinehof\, Josephinehof 2A (ingang in Gildestraat)\, Geldrop. Als u nog niet op de lijst staat\, bel Ine tel. 06 83 89 64 91. Bijdrage € 5
URL:https://bcpz.nl/event/gym-met-lunch-128/
CATEGORIES:Samen Gymmen
END:VEVENT
END:VCALENDAR