BEGIN:VCALENDAR
VERSION:2.0
PRODID:-//Buurtcontactpunt Zesgehuchten - ECPv6.15.20//NONSGML v1.0//EN
CALSCALE:GREGORIAN
METHOD:PUBLISH
X-WR-CALNAME:Buurtcontactpunt Zesgehuchten
X-ORIGINAL-URL:https://bcpz.nl
X-WR-CALDESC:Evenementen voor Buurtcontactpunt Zesgehuchten
REFRESH-INTERVAL;VALUE=DURATION:PT1H
X-Robots-Tag:noindex
X-PUBLISHED-TTL:PT1H
BEGIN:VTIMEZONE
TZID:Europe/Amsterdam
BEGIN:DAYLIGHT
TZOFFSETFROM:+0100
TZOFFSETTO:+0200
TZNAME:CEST
DTSTART:20210328T010000
END:DAYLIGHT
BEGIN:STANDARD
TZOFFSETFROM:+0200
TZOFFSETTO:+0100
TZNAME:CET
DTSTART:20211031T010000
END:STANDARD
BEGIN:DAYLIGHT
TZOFFSETFROM:+0100
TZOFFSETTO:+0200
TZNAME:CEST
DTSTART:20220327T010000
END:DAYLIGHT
BEGIN:STANDARD
TZOFFSETFROM:+0200
TZOFFSETTO:+0100
TZNAME:CET
DTSTART:20221030T010000
END:STANDARD
BEGIN:DAYLIGHT
TZOFFSETFROM:+0100
TZOFFSETTO:+0200
TZNAME:CEST
DTSTART:20230326T010000
END:DAYLIGHT
BEGIN:STANDARD
TZOFFSETFROM:+0200
TZOFFSETTO:+0100
TZNAME:CET
DTSTART:20231029T010000
END:STANDARD
BEGIN:DAYLIGHT
TZOFFSETFROM:+0100
TZOFFSETTO:+0200
TZNAME:CEST
DTSTART:20240331T010000
END:DAYLIGHT
BEGIN:STANDARD
TZOFFSETFROM:+0200
TZOFFSETTO:+0100
TZNAME:CET
DTSTART:20241027T010000
END:STANDARD
END:VTIMEZONE
BEGIN:VEVENT
DTSTART;TZID=Europe/Amsterdam:20230103T110000
DTEND;TZID=Europe/Amsterdam:20230103T130000
DTSTAMP:20260424T183309
CREATED:20221115T140937Z
LAST-MODIFIED:20221115T140937Z
UID:655-1672743600-1672750800@bcpz.nl
SUMMARY:Gym met lunch
DESCRIPTION:Josephinehof\, Josephinehof 2A (ingang in Gildestraat)\, Geldrop. Als u nog niet op de lijst staat\, bel Ine tel. 06 83 89 64 91. Bijdrage € 5
URL:https://bcpz.nl/event/gym-met-lunch-49/
CATEGORIES:Samen Gymmen
END:VEVENT
BEGIN:VEVENT
DTSTART;TZID=Europe/Amsterdam:20221220T110000
DTEND;TZID=Europe/Amsterdam:20221220T130000
DTSTAMP:20260424T183309
CREATED:20220728T094344Z
LAST-MODIFIED:20220728T094344Z
UID:577-1671534000-1671541200@bcpz.nl
SUMMARY:Gym met lunch
DESCRIPTION:Josephinehof\, Josephinehof 2A (ingang in Gildestraat)\, Geldrop. \nAls u nog niet op de lijst staat\, bel Ine tel. 06 83 89 64 91. \nBijdrage € 5
URL:https://bcpz.nl/event/gym-met-lunch-47/
CATEGORIES:Samen Gymmen
END:VEVENT
BEGIN:VEVENT
DTSTART;TZID=Europe/Amsterdam:20221213T110000
DTEND;TZID=Europe/Amsterdam:20221213T130000
DTSTAMP:20260424T183309
CREATED:20220728T094309Z
LAST-MODIFIED:20220728T094309Z
UID:575-1670929200-1670936400@bcpz.nl
SUMMARY:Gym met lunch
DESCRIPTION:Josephinehof\, Josephinehof 2A (ingang in Gildestraat)\, Geldrop. \nAls u nog niet op de lijst staat\, bel Ine tel. 06 83 89 64 91. \nBijdrage € 5
URL:https://bcpz.nl/event/gym-met-lunch-46/
CATEGORIES:Samen Gymmen
END:VEVENT
BEGIN:VEVENT
DTSTART;TZID=Europe/Amsterdam:20221206T110000
DTEND;TZID=Europe/Amsterdam:20221206T130000
DTSTAMP:20260424T183309
CREATED:20220728T094214Z
LAST-MODIFIED:20220728T094214Z
UID:573-1670324400-1670331600@bcpz.nl
SUMMARY:Gym met lunch
DESCRIPTION:Josephinehof\, Josephinehof 2A (ingang in Gildestraat)\, Geldrop. \nAls u nog niet op de lijst staat\, bel Ine tel. 06 83 89 64 91. \nBijdrage € 5
URL:https://bcpz.nl/event/gym-met-lunch-45/
CATEGORIES:Samen Gymmen
END:VEVENT
BEGIN:VEVENT
DTSTART;TZID=Europe/Amsterdam:20221129T110000
DTEND;TZID=Europe/Amsterdam:20221129T130000
DTSTAMP:20260424T183309
CREATED:20220728T094134Z
LAST-MODIFIED:20220728T094134Z
UID:571-1669719600-1669726800@bcpz.nl
SUMMARY:Gym met lunch
DESCRIPTION:Josephinehof\, Josephinehof 2A (ingang in Gildestraat)\, Geldrop. \nAls u nog niet op de lijst staat\, bel Ine tel. 06 83 89 64 91. \nBijdrage € 5
URL:https://bcpz.nl/event/gym-met-lunch-44/
CATEGORIES:Samen Gymmen
END:VEVENT
BEGIN:VEVENT
DTSTART;TZID=Europe/Amsterdam:20221122T110000
DTEND;TZID=Europe/Amsterdam:20221122T130000
DTSTAMP:20260424T183309
CREATED:20220728T094042Z
LAST-MODIFIED:20220728T094042Z
UID:569-1669114800-1669122000@bcpz.nl
SUMMARY:Gym met lunch
DESCRIPTION:Josephinehof\, Josephinehof 2A (ingang in Gildestraat)\, Geldrop. \nAls u nog niet op de lijst staat\, bel Ine tel. 06 83 89 64 91. \nBijdrage € 5
URL:https://bcpz.nl/event/gym-met-lunch-43/
CATEGORIES:Samen Gymmen
END:VEVENT
BEGIN:VEVENT
DTSTART;TZID=Europe/Amsterdam:20221115T110000
DTEND;TZID=Europe/Amsterdam:20221115T130000
DTSTAMP:20260424T183309
CREATED:20220728T094009Z
LAST-MODIFIED:20220728T094010Z
UID:567-1668510000-1668517200@bcpz.nl
SUMMARY:Gym met lunch
DESCRIPTION:Josephinehof\, Josephinehof 2A (ingang in Gildestraat)\, Geldrop. \nAls u nog niet op de lijst staat\, bel Ine tel. 06 83 89 64 91. \nBijdrage € 5
URL:https://bcpz.nl/event/gym-met-lunch-42/
CATEGORIES:Samen Gymmen
END:VEVENT
BEGIN:VEVENT
DTSTART;TZID=Europe/Amsterdam:20221108T110000
DTEND;TZID=Europe/Amsterdam:20221108T130000
DTSTAMP:20260424T183309
CREATED:20220728T093936Z
LAST-MODIFIED:20220728T093936Z
UID:565-1667905200-1667912400@bcpz.nl
SUMMARY:Gym met lunch
DESCRIPTION:Josephinehof\, Josephinehof 2A (ingang in Gildestraat)\, Geldrop. \nAls u nog niet op de lijst staat\, bel Ine tel. 06 83 89 64 91. \nBijdrage € 5
URL:https://bcpz.nl/event/gym-met-lunch-41/
CATEGORIES:Samen Gymmen
END:VEVENT
BEGIN:VEVENT
DTSTART;TZID=Europe/Amsterdam:20221101T110000
DTEND;TZID=Europe/Amsterdam:20221101T130000
DTSTAMP:20260424T183309
CREATED:20220728T093810Z
LAST-MODIFIED:20220728T093810Z
UID:563-1667300400-1667307600@bcpz.nl
SUMMARY:Gym  met lunch
DESCRIPTION:Josephinehof\, Josephinehof 2A (ingang in Gildestraat)\, Geldrop. \nAls u nog niet op de lijst staat\, bel Ine tel. 06 83 89 64 91. \nBijdrage € 5
URL:https://bcpz.nl/event/gym-met-lunch-40/
CATEGORIES:Samen Gymmen
END:VEVENT
BEGIN:VEVENT
DTSTART;TZID=Europe/Amsterdam:20221025T110000
DTEND;TZID=Europe/Amsterdam:20221025T130000
DTSTAMP:20260424T183309
CREATED:20220607T150336Z
LAST-MODIFIED:20220607T150336Z
UID:508-1666695600-1666702800@bcpz.nl
SUMMARY:Gym met lunch
DESCRIPTION:Josephinehof\, Josephinehof 2A (ingang in Gildestraat)\, Geldrop. \nAls u nog niet op de lijst staat\, bel Ine tel. 06 83 89 64 91. \nBijdrage € 5
URL:https://bcpz.nl/event/gym-met-lunch-39/
CATEGORIES:Samen Gymmen
END:VEVENT
BEGIN:VEVENT
DTSTART;TZID=Europe/Amsterdam:20221018T110000
DTEND;TZID=Europe/Amsterdam:20221018T150000
DTSTAMP:20260424T183309
CREATED:20220607T150304Z
LAST-MODIFIED:20220607T150304Z
UID:506-1666090800-1666105200@bcpz.nl
SUMMARY:Gym met lunch
DESCRIPTION:Josephinehof\, Josephinehof 2A (ingang in Gildestraat)\, Geldrop. \nAls u nog niet op de lijst staat\, bel Ine tel. 06 83 89 64 91. \nBijdrage € 5
URL:https://bcpz.nl/event/gym-met-lunch-38/
CATEGORIES:Samen Gymmen
END:VEVENT
BEGIN:VEVENT
DTSTART;TZID=Europe/Amsterdam:20221011T110000
DTEND;TZID=Europe/Amsterdam:20221011T150000
DTSTAMP:20260424T183309
CREATED:20220607T150228Z
LAST-MODIFIED:20220607T150228Z
UID:504-1665486000-1665500400@bcpz.nl
SUMMARY:Gym met lunch
DESCRIPTION:Josephinehof\, Josephinehof 2A (ingang in Gildestraat)\, Geldrop. \nAls u nog niet op de lijst staat\, bel Ine tel. 06 83 89 64 91. \nBijdrage € 5
URL:https://bcpz.nl/event/gym-met-lunch-37/
CATEGORIES:Samen Gymmen
END:VEVENT
BEGIN:VEVENT
DTSTART;TZID=Europe/Amsterdam:20221004T110000
DTEND;TZID=Europe/Amsterdam:20221004T130000
DTSTAMP:20260424T183309
CREATED:20220607T150151Z
LAST-MODIFIED:20220607T150151Z
UID:502-1664881200-1664888400@bcpz.nl
SUMMARY:Gym met lunch
DESCRIPTION:Josephinehof\, Josephinehof 2A (ingang in Gildestraat)\, Geldrop. \nAls u nog niet op de lijst staat\, bel Ine tel. 06 83 89 64 91. \nBijdrage € 5
URL:https://bcpz.nl/event/gym-met-lunch-36/
CATEGORIES:Samen Gymmen
END:VEVENT
BEGIN:VEVENT
DTSTART;TZID=Europe/Amsterdam:20220927T110000
DTEND;TZID=Europe/Amsterdam:20220927T130000
DTSTAMP:20260424T183309
CREATED:20220607T150113Z
LAST-MODIFIED:20220607T150113Z
UID:500-1664276400-1664283600@bcpz.nl
SUMMARY:Gym met lunch
DESCRIPTION:Josephinehof\, Josephinehof 2A (ingang in Gildestraat)\, Geldrop. \nAls u nog niet op de lijst staat\, bel Ine tel. 06 83 89 64 91. \nBijdrage € 5
URL:https://bcpz.nl/event/gym-met-lunch-35/
CATEGORIES:Samen Gymmen
END:VEVENT
BEGIN:VEVENT
DTSTART;TZID=Europe/Amsterdam:20220920T110000
DTEND;TZID=Europe/Amsterdam:20220920T130000
DTSTAMP:20260424T183309
CREATED:20220607T150031Z
LAST-MODIFIED:20220607T150031Z
UID:498-1663671600-1663678800@bcpz.nl
SUMMARY:Gym met lunch
DESCRIPTION:Josephinehof\, Josephinehof 2A (ingang in Gildestraat)\, Geldrop. \nAls u nog niet op de lijst staat\, bel Ine tel. 06 83 89 64 91. \nBijdrage € 5
URL:https://bcpz.nl/event/gym-met-lunch-34/
CATEGORIES:Samen Gymmen
END:VEVENT
BEGIN:VEVENT
DTSTART;TZID=Europe/Amsterdam:20220913T110000
DTEND;TZID=Europe/Amsterdam:20220913T130000
DTSTAMP:20260424T183309
CREATED:20220607T145955Z
LAST-MODIFIED:20220607T145955Z
UID:496-1663066800-1663074000@bcpz.nl
SUMMARY:Gym met lunch
DESCRIPTION:Josephinehof\, Josephinehof 2A (ingang in Gildestraat)\, Geldrop. \nAls u nog niet op de lijst staat\, bel Ine tel. 06 83 89 64 91. \nBijdrage € 5
URL:https://bcpz.nl/event/gym-met-lunch-33/
CATEGORIES:Samen Gymmen
END:VEVENT
BEGIN:VEVENT
DTSTART;TZID=Europe/Amsterdam:20220906T110000
DTEND;TZID=Europe/Amsterdam:20220906T130000
DTSTAMP:20260424T183309
CREATED:20220607T145608Z
LAST-MODIFIED:20220607T145608Z
UID:494-1662462000-1662469200@bcpz.nl
SUMMARY:Gym met lunch
DESCRIPTION:Josephinehof\, Josephinehof 2A (ingang in Gildestraat)\, Geldrop. \nAls u nog niet op de lijst staat\, bel Ine tel. 06 83 89 64 91. \nBijdrage € 5
URL:https://bcpz.nl/event/gym-met-lunch-32/
CATEGORIES:Samen Gymmen
END:VEVENT
BEGIN:VEVENT
DTSTART;TZID=Europe/Amsterdam:20220830T110000
DTEND;TZID=Europe/Amsterdam:20220830T130000
DTSTAMP:20260424T183309
CREATED:20220607T145527Z
LAST-MODIFIED:20220607T145854Z
UID:492-1661857200-1661864400@bcpz.nl
SUMMARY:Gym met lunch
DESCRIPTION:Josephinehof\, Josephinehof 2A (ingang in Gildestraat)\, Geldrop. \nAls u nog niet op de lijst staat\, bel Ine tel. 06 83 89 64 91. \nBijdrage € 5
URL:https://bcpz.nl/event/gym-met-lunch-31/
CATEGORIES:Samen Gymmen
END:VEVENT
BEGIN:VEVENT
DTSTART;TZID=Europe/Amsterdam:20220823T110000
DTEND;TZID=Europe/Amsterdam:20220823T130000
DTSTAMP:20260424T183309
CREATED:20220607T145452Z
LAST-MODIFIED:20220607T145820Z
UID:490-1661252400-1661259600@bcpz.nl
SUMMARY:Gym met lunch
DESCRIPTION:Josephinehof\, Josephinehof 2A (ingang in Gildestraat)\, Geldrop. \nAls u nog niet op de lijst staat\, bel Ine tel. 06 83 89 64 91. \nBijdrage € 5
URL:https://bcpz.nl/event/gym-met-lunch-30/
CATEGORIES:Samen Gymmen
END:VEVENT
BEGIN:VEVENT
DTSTART;TZID=Europe/Amsterdam:20220816T110000
DTEND;TZID=Europe/Amsterdam:20220816T130000
DTSTAMP:20260424T183309
CREATED:20220607T145420Z
LAST-MODIFIED:20220607T145653Z
UID:488-1660647600-1660654800@bcpz.nl
SUMMARY:Gym met lunch
DESCRIPTION:Josephinehof\, Josephinehof 2A (ingang in Gildestraat)\, Geldrop. \nAls u nog niet op de lijst staat\, bel Ine tel. 06 83 89 64 91. \nBijdrage € 5
URL:https://bcpz.nl/event/gym-met-lunch-29/
CATEGORIES:Samen Gymmen
END:VEVENT
BEGIN:VEVENT
DTSTART;TZID=Europe/Amsterdam:20220809T110000
DTEND;TZID=Europe/Amsterdam:20220809T130000
DTSTAMP:20260424T183309
CREATED:20220607T145329Z
LAST-MODIFIED:20220607T145736Z
UID:486-1660042800-1660050000@bcpz.nl
SUMMARY:Gym met lunch
DESCRIPTION:Josephinehof\, Josephinehof 2A (ingang in Gildestraat)\, Geldrop. \nAls u nog niet op de lijst staat\, bel Ine tel. 06 83 89 64 91. \nBijdrage € 5
URL:https://bcpz.nl/event/gym-met-lunch-28/
CATEGORIES:Samen Gymmen
END:VEVENT
BEGIN:VEVENT
DTSTART;TZID=Europe/Amsterdam:20220802T110000
DTEND;TZID=Europe/Amsterdam:20220802T130000
DTSTAMP:20260424T183309
CREATED:20220607T145245Z
LAST-MODIFIED:20220607T145245Z
UID:484-1659438000-1659445200@bcpz.nl
SUMMARY:Gym met lunch
DESCRIPTION:Josephinehof\, Josephinehof 2A (ingang in Gildestraat)\, Geldrop. \nAls u nog niet op de lijst staat\, bel Ine tel. 06 83 89 64 91. \nBijdrage € 5
URL:https://bcpz.nl/event/gym-met-lunch-27/
CATEGORIES:Samen Gymmen
END:VEVENT
BEGIN:VEVENT
DTSTART;TZID=Europe/Amsterdam:20220726T110000
DTEND;TZID=Europe/Amsterdam:20220726T130000
DTSTAMP:20260424T183309
CREATED:20220414T102419Z
LAST-MODIFIED:20220414T102419Z
UID:405-1658833200-1658840400@bcpz.nl
SUMMARY:Gym met lunch
DESCRIPTION:Josephinehof\, Josephinehof 2A (ingang in Gildestraat)\, Geldrop. \nAls u nog niet op de lijst staat\, bel Ine tel. 06 83 89 64 91. \nBijdrage € 5
URL:https://bcpz.nl/event/gym-met-lunch-26/
CATEGORIES:Samen Gymmen
END:VEVENT
BEGIN:VEVENT
DTSTART;TZID=Europe/Amsterdam:20220719T110000
DTEND;TZID=Europe/Amsterdam:20220719T130000
DTSTAMP:20260424T183309
CREATED:20220414T102340Z
LAST-MODIFIED:20220718T065515Z
UID:403-1658228400-1658235600@bcpz.nl
SUMMARY:Gym met lunch>>> afgelast i.v.m. de hitte
DESCRIPTION:
URL:https://bcpz.nl/event/gym-met-lunch-25/
CATEGORIES:Samen Gymmen
END:VEVENT
BEGIN:VEVENT
DTSTART;TZID=Europe/Amsterdam:20220712T110000
DTEND;TZID=Europe/Amsterdam:20220712T130000
DTSTAMP:20260424T183309
CREATED:20220414T101304Z
LAST-MODIFIED:20220414T101304Z
UID:398-1657623600-1657630800@bcpz.nl
SUMMARY:Gym met lunch
DESCRIPTION:Josephinehof\, Josephinehof 2A (ingang in Gildestraat)\, Geldrop. \nAls u nog niet op de lijst staat\, bel Ine tel. 06 83 89 64 91. \nBijdrage € 5
URL:https://bcpz.nl/event/gym-met-lunch-24/
CATEGORIES:Samen Gymmen
END:VEVENT
BEGIN:VEVENT
DTSTART;TZID=Europe/Amsterdam:20220705T110000
DTEND;TZID=Europe/Amsterdam:20220705T130000
DTSTAMP:20260424T183309
CREATED:20220414T101220Z
LAST-MODIFIED:20220414T101220Z
UID:396-1657018800-1657026000@bcpz.nl
SUMMARY:Gym met lunch
DESCRIPTION:Josephinehof\, Josephinehof 2A (ingang in Gildestraat)\, Geldrop. \nAls u nog niet op de lijst staat\, bel Ine tel. 06 83 89 64 91. \nBijdrage € 5
URL:https://bcpz.nl/event/gym-met-lunch-23/
CATEGORIES:Samen Gymmen
END:VEVENT
BEGIN:VEVENT
DTSTART;TZID=Europe/Amsterdam:20220628T110000
DTEND;TZID=Europe/Amsterdam:20220628T130000
DTSTAMP:20260424T183309
CREATED:20220414T101140Z
LAST-MODIFIED:20220414T101140Z
UID:394-1656414000-1656421200@bcpz.nl
SUMMARY:Gym met lunch
DESCRIPTION:Josephinehof\, Josephinehof 2A (ingang in Gildestraat)\, Geldrop. \nAls u nog niet op de lijst staat\, bel Ine tel. 06 83 89 64 91. \nBijdrage € 5
URL:https://bcpz.nl/event/gym-met-lunch-22/
CATEGORIES:Samen Gymmen
END:VEVENT
BEGIN:VEVENT
DTSTART;TZID=Europe/Amsterdam:20220621T110000
DTEND;TZID=Europe/Amsterdam:20220621T130000
DTSTAMP:20260424T183309
CREATED:20220414T101101Z
LAST-MODIFIED:20220414T101101Z
UID:392-1655809200-1655816400@bcpz.nl
SUMMARY:Gym met lunch
DESCRIPTION:Josephinehof\, Josephinehof 2A (ingang in Gildestraat)\, Geldrop. \nAls u nog niet op de lijst staat\, bel Ine tel. 06 83 89 64 91. \nBijdrage € 5
URL:https://bcpz.nl/event/gym-met-lunch-21/
CATEGORIES:Samen Gymmen
END:VEVENT
BEGIN:VEVENT
DTSTART;TZID=Europe/Amsterdam:20220614T110000
DTEND;TZID=Europe/Amsterdam:20220614T130000
DTSTAMP:20260424T183309
CREATED:20220414T101021Z
LAST-MODIFIED:20220414T101021Z
UID:390-1655204400-1655211600@bcpz.nl
SUMMARY:Gym met lunch
DESCRIPTION:Josephinehof\, Josephinehof 2A (ingang in Gildestraat)\, Geldrop. \nAls u nog niet op de lijst staat\, bel Ine tel. 06 83 89 64 91. \nBijdrage € 5
URL:https://bcpz.nl/event/gym-met-lunch-20/
CATEGORIES:Samen Gymmen
END:VEVENT
BEGIN:VEVENT
DTSTART;TZID=Europe/Amsterdam:20220607T110000
DTEND;TZID=Europe/Amsterdam:20220607T130000
DTSTAMP:20260424T183309
CREATED:20220414T100856Z
LAST-MODIFIED:20220414T100856Z
UID:388-1654599600-1654606800@bcpz.nl
SUMMARY:Gym met lunch
DESCRIPTION:Josephinehof\, Josephinehof 2A (ingang in Gildestraat)\, Geldrop. \nAls u nog niet op de lijst staat\, bel Ine tel. 06 83 89 64 91. \nBijdrage € 5
URL:https://bcpz.nl/event/gym-met-lunch-19/
CATEGORIES:Samen Gymmen
END:VEVENT
END:VCALENDAR