BEGIN:VCALENDAR
VERSION:2.0
PRODID:-//Buurtcontactpunt Zesgehuchten - ECPv6.15.20//NONSGML v1.0//EN
CALSCALE:GREGORIAN
METHOD:PUBLISH
X-ORIGINAL-URL:https://bcpz.nl
X-WR-CALDESC:Evenementen voor Buurtcontactpunt Zesgehuchten
REFRESH-INTERVAL;VALUE=DURATION:PT1H
X-Robots-Tag:noindex
X-PUBLISHED-TTL:PT1H
BEGIN:VTIMEZONE
TZID:Europe/Amsterdam
BEGIN:DAYLIGHT
TZOFFSETFROM:+0100
TZOFFSETTO:+0200
TZNAME:CEST
DTSTART:20210328T010000
END:DAYLIGHT
BEGIN:STANDARD
TZOFFSETFROM:+0200
TZOFFSETTO:+0100
TZNAME:CET
DTSTART:20211031T010000
END:STANDARD
BEGIN:DAYLIGHT
TZOFFSETFROM:+0100
TZOFFSETTO:+0200
TZNAME:CEST
DTSTART:20220327T010000
END:DAYLIGHT
BEGIN:STANDARD
TZOFFSETFROM:+0200
TZOFFSETTO:+0100
TZNAME:CET
DTSTART:20221030T010000
END:STANDARD
BEGIN:DAYLIGHT
TZOFFSETFROM:+0100
TZOFFSETTO:+0200
TZNAME:CEST
DTSTART:20230326T010000
END:DAYLIGHT
BEGIN:STANDARD
TZOFFSETFROM:+0200
TZOFFSETTO:+0100
TZNAME:CET
DTSTART:20231029T010000
END:STANDARD
BEGIN:DAYLIGHT
TZOFFSETFROM:+0100
TZOFFSETTO:+0200
TZNAME:CEST
DTSTART:20240331T010000
END:DAYLIGHT
BEGIN:STANDARD
TZOFFSETFROM:+0200
TZOFFSETTO:+0100
TZNAME:CET
DTSTART:20241027T010000
END:STANDARD
END:VTIMEZONE
BEGIN:VEVENT
DTSTART;TZID=Europe/Amsterdam:20230620T110000
DTEND;TZID=Europe/Amsterdam:20230620T130000
DTSTAMP:20260424T020828
CREATED:20230211T172509Z
LAST-MODIFIED:20230211T172509Z
UID:847-1687258800-1687266000@bcpz.nl
SUMMARY:Gym met lunch
DESCRIPTION:Josephinehof\, Josephinehof 2A (ingang in Gildestraat)\, Geldrop. Als u nog niet op de lijst staat\, bel Ine tel. 06 83 89 64 91. Bijdrage € 5
URL:https://bcpz.nl/event/gym-met-lunch-73/
CATEGORIES:Samen Gymmen
END:VEVENT
BEGIN:VEVENT
DTSTART;TZID=Europe/Amsterdam:20230613T110000
DTEND;TZID=Europe/Amsterdam:20230613T130000
DTSTAMP:20260424T020828
CREATED:20230211T172429Z
LAST-MODIFIED:20230211T172429Z
UID:845-1686654000-1686661200@bcpz.nl
SUMMARY:Gym met lunch
DESCRIPTION:Josephinehof\, Josephinehof 2A (ingang in Gildestraat)\, Geldrop. Als u nog niet op de lijst staat\, bel Ine tel. 06 83 89 64 91. Bijdrage € 5
URL:https://bcpz.nl/event/gym-met-lunch-72/
CATEGORIES:Samen Gymmen
END:VEVENT
BEGIN:VEVENT
DTSTART;TZID=Europe/Amsterdam:20230606T110000
DTEND;TZID=Europe/Amsterdam:20230606T130000
DTSTAMP:20260424T020828
CREATED:20230211T172334Z
LAST-MODIFIED:20230211T172334Z
UID:843-1686049200-1686056400@bcpz.nl
SUMMARY:Gym met lunch
DESCRIPTION:Josephinehof\, Josephinehof 2A (ingang in Gildestraat)\, Geldrop. Als u nog niet op de lijst staat\, bel Ine tel. 06 83 89 64 91. Bijdrage € 5
URL:https://bcpz.nl/event/gym-met-lunch-71/
CATEGORIES:Samen Gymmen
END:VEVENT
BEGIN:VEVENT
DTSTART;TZID=Europe/Amsterdam:20230530T110000
DTEND;TZID=Europe/Amsterdam:20230530T130000
DTSTAMP:20260424T020828
CREATED:20230211T172256Z
LAST-MODIFIED:20230211T172256Z
UID:841-1685444400-1685451600@bcpz.nl
SUMMARY:Gym met lunch
DESCRIPTION:Josephinehof\, Josephinehof 2A (ingang in Gildestraat)\, Geldrop. Als u nog niet op de lijst staat\, bel Ine tel. 06 83 89 64 91. Bijdrage € 5
URL:https://bcpz.nl/event/gym-met-lunch-70/
CATEGORIES:Samen Gymmen
END:VEVENT
BEGIN:VEVENT
DTSTART;TZID=Europe/Amsterdam:20230523T110000
DTEND;TZID=Europe/Amsterdam:20230523T130000
DTSTAMP:20260424T020828
CREATED:20230211T172217Z
LAST-MODIFIED:20230211T172217Z
UID:839-1684839600-1684846800@bcpz.nl
SUMMARY:Gym met lunch
DESCRIPTION:Josephinehof\, Josephinehof 2A (ingang in Gildestraat)\, Geldrop. Als u nog niet op de lijst staat\, bel Ine tel. 06 83 89 64 91. Bijdrage € 5
URL:https://bcpz.nl/event/gym-met-lunch-69/
CATEGORIES:Samen Gymmen
END:VEVENT
BEGIN:VEVENT
DTSTART;TZID=Europe/Amsterdam:20230516T110000
DTEND;TZID=Europe/Amsterdam:20230516T130000
DTSTAMP:20260424T020828
CREATED:20230211T172135Z
LAST-MODIFIED:20230211T172135Z
UID:837-1684234800-1684242000@bcpz.nl
SUMMARY:Gym met lunch
DESCRIPTION:Josephinehof\, Josephinehof 2A (ingang in Gildestraat)\, Geldrop. Als u nog niet op de lijst staat\, bel Ine tel. 06 83 89 64 91. Bijdrage € 5
URL:https://bcpz.nl/event/gym-met-lunch-68/
CATEGORIES:Samen Gymmen
END:VEVENT
BEGIN:VEVENT
DTSTART;TZID=Europe/Amsterdam:20230509T110000
DTEND;TZID=Europe/Amsterdam:20230509T130000
DTSTAMP:20260424T020828
CREATED:20230211T172034Z
LAST-MODIFIED:20230211T172034Z
UID:835-1683630000-1683637200@bcpz.nl
SUMMARY:Gym met lunch
DESCRIPTION:Josephinehof\, Josephinehof 2A (ingang in Gildestraat)\, Geldrop. Als u nog niet op de lijst staat\, bel Ine tel. 06 83 89 64 91. Bijdrage € 5
URL:https://bcpz.nl/event/gym-met-lunch-67/
CATEGORIES:Samen Gymmen
END:VEVENT
BEGIN:VEVENT
DTSTART;TZID=Europe/Amsterdam:20230502T110000
DTEND;TZID=Europe/Amsterdam:20230502T130000
DTSTAMP:20260424T020828
CREATED:20230211T171945Z
LAST-MODIFIED:20230211T171945Z
UID:833-1683025200-1683032400@bcpz.nl
SUMMARY:Gym met lunch
DESCRIPTION:Josephinehof\, Josephinehof 2A (ingang in Gildestraat)\, Geldrop. Als u nog niet op de lijst staat\, bel Ine tel. 06 83 89 64 91. Bijdrage € 5
URL:https://bcpz.nl/event/gym-met-lunch-66/
CATEGORIES:Samen Gymmen
END:VEVENT
BEGIN:VEVENT
DTSTART;TZID=Europe/Amsterdam:20230425T110000
DTEND;TZID=Europe/Amsterdam:20230425T130000
DTSTAMP:20260424T020828
CREATED:20230211T171903Z
LAST-MODIFIED:20230211T171903Z
UID:831-1682420400-1682427600@bcpz.nl
SUMMARY:Gym met lunch
DESCRIPTION:Josephinehof\, Josephinehof 2A (ingang in Gildestraat)\, Geldrop. Als u nog niet op de lijst staat\, bel Ine tel. 06 83 89 64 91. Bijdrage € 5
URL:https://bcpz.nl/event/gym-met-lunch-65/
CATEGORIES:Samen Gymmen
END:VEVENT
BEGIN:VEVENT
DTSTART;TZID=Europe/Amsterdam:20230418T110000
DTEND;TZID=Europe/Amsterdam:20230418T130000
DTSTAMP:20260424T020828
CREATED:20230211T171822Z
LAST-MODIFIED:20230211T171822Z
UID:829-1681815600-1681822800@bcpz.nl
SUMMARY:Gym met lunch
DESCRIPTION:Josephinehof\, Josephinehof 2A (ingang in Gildestraat)\, Geldrop. Als u nog niet op de lijst staat\, bel Ine tel. 06 83 89 64 91. Bijdrage € 5
URL:https://bcpz.nl/event/gym-met-lunch-64/
CATEGORIES:Samen Gymmen
END:VEVENT
BEGIN:VEVENT
DTSTART;TZID=Europe/Amsterdam:20230411T110000
DTEND;TZID=Europe/Amsterdam:20230411T130000
DTSTAMP:20260424T020828
CREATED:20230211T171640Z
LAST-MODIFIED:20230211T171640Z
UID:827-1681210800-1681218000@bcpz.nl
SUMMARY:Gym met lunch
DESCRIPTION:Josephinehof\, Josephinehof 2A (ingang in Gildestraat)\, Geldrop. Als u nog niet op de lijst staat\, bel Ine tel. 06 83 89 64 91. Bijdrage € 5
URL:https://bcpz.nl/event/gym-met-lunch-63/
CATEGORIES:Samen Gymmen
END:VEVENT
BEGIN:VEVENT
DTSTART;TZID=Europe/Amsterdam:20230404T110000
DTEND;TZID=Europe/Amsterdam:20230404T130000
DTSTAMP:20260424T020828
CREATED:20230211T171529Z
LAST-MODIFIED:20230211T171715Z
UID:825-1680606000-1680613200@bcpz.nl
SUMMARY:Gym met lunch
DESCRIPTION:Josephinehof\, Josephinehof 2A (ingang in Gildestraat)\, Geldrop. Als u nog niet op de lijst staat\, bel Ine tel. 06 83 89 64 91. Bijdrage € 5
URL:https://bcpz.nl/event/gym-met-lunch-62/
CATEGORIES:Samen Gymmen
END:VEVENT
BEGIN:VEVENT
DTSTART;TZID=Europe/Amsterdam:20230328T110000
DTEND;TZID=Europe/Amsterdam:20230328T130000
DTSTAMP:20260424T020828
CREATED:20221115T141856Z
LAST-MODIFIED:20221115T141856Z
UID:679-1680001200-1680008400@bcpz.nl
SUMMARY:Gym met lunch
DESCRIPTION:Josephinehof\, Josephinehof 2A (ingang in Gildestraat)\, Geldrop. Als u nog niet op de lijst staat\, bel Ine tel. 06 83 89 64 91. Bijdrage € 5
URL:https://bcpz.nl/event/gym-met-lunch-61/
CATEGORIES:Samen Gymmen
END:VEVENT
BEGIN:VEVENT
DTSTART;TZID=Europe/Amsterdam:20230321T110000
DTEND;TZID=Europe/Amsterdam:20230321T130000
DTSTAMP:20260424T020828
CREATED:20221115T141822Z
LAST-MODIFIED:20221115T141822Z
UID:677-1679396400-1679403600@bcpz.nl
SUMMARY:Gym met lunch
DESCRIPTION:Josephinehof\, Josephinehof 2A (ingang in Gildestraat)\, Geldrop. Als u nog niet op de lijst staat\, bel Ine tel. 06 83 89 64 91. Bijdrage € 5
URL:https://bcpz.nl/event/gym-met-lunch-60/
CATEGORIES:Samen Gymmen
END:VEVENT
BEGIN:VEVENT
DTSTART;TZID=Europe/Amsterdam:20230314T110000
DTEND;TZID=Europe/Amsterdam:20230314T130000
DTSTAMP:20260424T020828
CREATED:20221115T141745Z
LAST-MODIFIED:20221115T141745Z
UID:675-1678791600-1678798800@bcpz.nl
SUMMARY:Gym met lunch
DESCRIPTION:Josephinehof\, Josephinehof 2A (ingang in Gildestraat)\, Geldrop. Als u nog niet op de lijst staat\, bel Ine tel. 06 83 89 64 91. Bijdrage € 5
URL:https://bcpz.nl/event/gym-met-lunch-59/
CATEGORIES:Samen Gymmen
END:VEVENT
BEGIN:VEVENT
DTSTART;TZID=Europe/Amsterdam:20230307T110000
DTEND;TZID=Europe/Amsterdam:20230307T130000
DTSTAMP:20260424T020828
CREATED:20221115T141712Z
LAST-MODIFIED:20221115T141712Z
UID:673-1678186800-1678194000@bcpz.nl
SUMMARY:Gym met lunch
DESCRIPTION:Josephinehof\, Josephinehof 2A (ingang in Gildestraat)\, Geldrop. Als u nog niet op de lijst staat\, bel Ine tel. 06 83 89 64 91. Bijdrage € 5
URL:https://bcpz.nl/event/gym-met-lunch-58/
CATEGORIES:Samen Gymmen
END:VEVENT
BEGIN:VEVENT
DTSTART;TZID=Europe/Amsterdam:20230228T110000
DTEND;TZID=Europe/Amsterdam:20230228T130000
DTSTAMP:20260424T020828
CREATED:20221115T141451Z
LAST-MODIFIED:20221115T141451Z
UID:669-1677582000-1677589200@bcpz.nl
SUMMARY:Gym met lunch
DESCRIPTION:Josephinehof\, Josephinehof 2A (ingang in Gildestraat)\, Geldrop. Als u nog niet op de lijst staat\, bel Ine tel. 06 83 89 64 91. Bijdrage € 5
URL:https://bcpz.nl/event/gym-met-lunch-56/
CATEGORIES:Samen Gymmen
END:VEVENT
BEGIN:VEVENT
DTSTART;TZID=Europe/Amsterdam:20230221T110000
DTEND;TZID=Europe/Amsterdam:20230221T130000
DTSTAMP:20260424T020828
CREATED:20221115T141607Z
LAST-MODIFIED:20221115T141607Z
UID:671-1676977200-1676984400@bcpz.nl
SUMMARY:Gym met lunch
DESCRIPTION:Josephinehof\, Josephinehof 2A (ingang in Gildestraat)\, Geldrop. Als u nog niet op de lijst staat\, bel Ine tel. 06 83 89 64 91. Bijdrage € 5
URL:https://bcpz.nl/event/gym-met-lunch-57/
CATEGORIES:Samen Gymmen
END:VEVENT
BEGIN:VEVENT
DTSTART;TZID=Europe/Amsterdam:20230214T110000
DTEND;TZID=Europe/Amsterdam:20230214T130000
DTSTAMP:20260424T020828
CREATED:20221115T141414Z
LAST-MODIFIED:20221115T141414Z
UID:667-1676372400-1676379600@bcpz.nl
SUMMARY:Gym met lunch
DESCRIPTION:Josephinehof\, Josephinehof 2A (ingang in Gildestraat)\, Geldrop. Als u nog niet op de lijst staat\, bel Ine tel. 06 83 89 64 91. Bijdrage € 5
URL:https://bcpz.nl/event/gym-met-lunch-55/
CATEGORIES:Samen Gymmen
END:VEVENT
BEGIN:VEVENT
DTSTART;TZID=Europe/Amsterdam:20230207T110000
DTEND;TZID=Europe/Amsterdam:20230207T130000
DTSTAMP:20260424T020828
CREATED:20221115T141327Z
LAST-MODIFIED:20221115T141327Z
UID:665-1675767600-1675774800@bcpz.nl
SUMMARY:Gym met lunch
DESCRIPTION:Josephinehof\, Josephinehof 2A (ingang in Gildestraat)\, Geldrop. Als u nog niet op de lijst staat\, bel Ine tel. 06 83 89 64 91. Bijdrage € 5
URL:https://bcpz.nl/event/gym-met-lunch-54/
CATEGORIES:Samen Gymmen
END:VEVENT
BEGIN:VEVENT
DTSTART;TZID=Europe/Amsterdam:20230131T110000
DTEND;TZID=Europe/Amsterdam:20230131T130000
DTSTAMP:20260424T020828
CREATED:20221115T141242Z
LAST-MODIFIED:20221115T141242Z
UID:663-1675162800-1675170000@bcpz.nl
SUMMARY:Gym met lunch
DESCRIPTION:Josephinehof\, Josephinehof 2A (ingang in Gildestraat)\, Geldrop. Als u nog niet op de lijst staat\, bel Ine tel. 06 83 89 64 91. Bijdrage € 5
URL:https://bcpz.nl/event/gym-met-lunch-53/
CATEGORIES:Samen Gymmen
END:VEVENT
BEGIN:VEVENT
DTSTART;TZID=Europe/Amsterdam:20230124T110000
DTEND;TZID=Europe/Amsterdam:20230124T130000
DTSTAMP:20260424T020828
CREATED:20221115T141201Z
LAST-MODIFIED:20221115T141201Z
UID:661-1674558000-1674565200@bcpz.nl
SUMMARY:Gym met lunch
DESCRIPTION:Josephinehof\, Josephinehof 2A (ingang in Gildestraat)\, Geldrop. Als u nog niet op de lijst staat\, bel Ine tel. 06 83 89 64 91. Bijdrage € 5
URL:https://bcpz.nl/event/gym-met-lunch-52/
CATEGORIES:Samen Gymmen
END:VEVENT
BEGIN:VEVENT
DTSTART;TZID=Europe/Amsterdam:20230117T110000
DTEND;TZID=Europe/Amsterdam:20230117T130000
DTSTAMP:20260424T020828
CREATED:20221115T141120Z
LAST-MODIFIED:20221115T141120Z
UID:659-1673953200-1673960400@bcpz.nl
SUMMARY:Gym met lunch
DESCRIPTION:Josephinehof\, Josephinehof 2A (ingang in Gildestraat)\, Geldrop. Als u nog niet op de lijst staat\, bel Ine tel. 06 83 89 64 91. Bijdrage € 5
URL:https://bcpz.nl/event/gym-met-lunch-51/
CATEGORIES:Samen Gymmen
END:VEVENT
BEGIN:VEVENT
DTSTART;TZID=Europe/Amsterdam:20230110T110000
DTEND;TZID=Europe/Amsterdam:20230110T130000
DTSTAMP:20260424T020828
CREATED:20221115T141041Z
LAST-MODIFIED:20221115T141041Z
UID:657-1673348400-1673355600@bcpz.nl
SUMMARY:Gym met lunch
DESCRIPTION:Josephinehof\, Josephinehof 2A (ingang in Gildestraat)\, Geldrop. Als u nog niet op de lijst staat\, bel Ine tel. 06 83 89 64 91. Bijdrage € 5
URL:https://bcpz.nl/event/gym-met-lunch-50/
CATEGORIES:Samen Gymmen
END:VEVENT
BEGIN:VEVENT
DTSTART;TZID=Europe/Amsterdam:20230103T110000
DTEND;TZID=Europe/Amsterdam:20230103T130000
DTSTAMP:20260424T020828
CREATED:20221115T140937Z
LAST-MODIFIED:20221115T140937Z
UID:655-1672743600-1672750800@bcpz.nl
SUMMARY:Gym met lunch
DESCRIPTION:Josephinehof\, Josephinehof 2A (ingang in Gildestraat)\, Geldrop. Als u nog niet op de lijst staat\, bel Ine tel. 06 83 89 64 91. Bijdrage € 5
URL:https://bcpz.nl/event/gym-met-lunch-49/
CATEGORIES:Samen Gymmen
END:VEVENT
BEGIN:VEVENT
DTSTART;TZID=Europe/Amsterdam:20221220T110000
DTEND;TZID=Europe/Amsterdam:20221220T130000
DTSTAMP:20260424T020828
CREATED:20220728T094344Z
LAST-MODIFIED:20220728T094344Z
UID:577-1671534000-1671541200@bcpz.nl
SUMMARY:Gym met lunch
DESCRIPTION:Josephinehof\, Josephinehof 2A (ingang in Gildestraat)\, Geldrop. \nAls u nog niet op de lijst staat\, bel Ine tel. 06 83 89 64 91. \nBijdrage € 5
URL:https://bcpz.nl/event/gym-met-lunch-47/
CATEGORIES:Samen Gymmen
END:VEVENT
BEGIN:VEVENT
DTSTART;TZID=Europe/Amsterdam:20221213T110000
DTEND;TZID=Europe/Amsterdam:20221213T130000
DTSTAMP:20260424T020828
CREATED:20220728T094309Z
LAST-MODIFIED:20220728T094309Z
UID:575-1670929200-1670936400@bcpz.nl
SUMMARY:Gym met lunch
DESCRIPTION:Josephinehof\, Josephinehof 2A (ingang in Gildestraat)\, Geldrop. \nAls u nog niet op de lijst staat\, bel Ine tel. 06 83 89 64 91. \nBijdrage € 5
URL:https://bcpz.nl/event/gym-met-lunch-46/
CATEGORIES:Samen Gymmen
END:VEVENT
BEGIN:VEVENT
DTSTART;TZID=Europe/Amsterdam:20221206T110000
DTEND;TZID=Europe/Amsterdam:20221206T130000
DTSTAMP:20260424T020828
CREATED:20220728T094214Z
LAST-MODIFIED:20220728T094214Z
UID:573-1670324400-1670331600@bcpz.nl
SUMMARY:Gym met lunch
DESCRIPTION:Josephinehof\, Josephinehof 2A (ingang in Gildestraat)\, Geldrop. \nAls u nog niet op de lijst staat\, bel Ine tel. 06 83 89 64 91. \nBijdrage € 5
URL:https://bcpz.nl/event/gym-met-lunch-45/
CATEGORIES:Samen Gymmen
END:VEVENT
BEGIN:VEVENT
DTSTART;TZID=Europe/Amsterdam:20221129T110000
DTEND;TZID=Europe/Amsterdam:20221129T130000
DTSTAMP:20260424T020828
CREATED:20220728T094134Z
LAST-MODIFIED:20220728T094134Z
UID:571-1669719600-1669726800@bcpz.nl
SUMMARY:Gym met lunch
DESCRIPTION:Josephinehof\, Josephinehof 2A (ingang in Gildestraat)\, Geldrop. \nAls u nog niet op de lijst staat\, bel Ine tel. 06 83 89 64 91. \nBijdrage € 5
URL:https://bcpz.nl/event/gym-met-lunch-44/
CATEGORIES:Samen Gymmen
END:VEVENT
BEGIN:VEVENT
DTSTART;TZID=Europe/Amsterdam:20221122T110000
DTEND;TZID=Europe/Amsterdam:20221122T130000
DTSTAMP:20260424T020828
CREATED:20220728T094042Z
LAST-MODIFIED:20220728T094042Z
UID:569-1669114800-1669122000@bcpz.nl
SUMMARY:Gym met lunch
DESCRIPTION:Josephinehof\, Josephinehof 2A (ingang in Gildestraat)\, Geldrop. \nAls u nog niet op de lijst staat\, bel Ine tel. 06 83 89 64 91. \nBijdrage € 5
URL:https://bcpz.nl/event/gym-met-lunch-43/
CATEGORIES:Samen Gymmen
END:VEVENT
END:VCALENDAR