BEGIN:VCALENDAR
VERSION:2.0
PRODID:-//Buurtcontactpunt Zesgehuchten - ECPv6.15.20//NONSGML v1.0//EN
CALSCALE:GREGORIAN
METHOD:PUBLISH
X-WR-CALNAME:Buurtcontactpunt Zesgehuchten
X-ORIGINAL-URL:https://bcpz.nl
X-WR-CALDESC:Evenementen voor Buurtcontactpunt Zesgehuchten
REFRESH-INTERVAL;VALUE=DURATION:PT1H
X-Robots-Tag:noindex
X-PUBLISHED-TTL:PT1H
BEGIN:VTIMEZONE
TZID:Europe/Amsterdam
BEGIN:DAYLIGHT
TZOFFSETFROM:+0100
TZOFFSETTO:+0200
TZNAME:CEST
DTSTART:20220327T010000
END:DAYLIGHT
BEGIN:STANDARD
TZOFFSETFROM:+0200
TZOFFSETTO:+0100
TZNAME:CET
DTSTART:20221030T010000
END:STANDARD
BEGIN:DAYLIGHT
TZOFFSETFROM:+0100
TZOFFSETTO:+0200
TZNAME:CEST
DTSTART:20230326T010000
END:DAYLIGHT
BEGIN:STANDARD
TZOFFSETFROM:+0200
TZOFFSETTO:+0100
TZNAME:CET
DTSTART:20231029T010000
END:STANDARD
BEGIN:DAYLIGHT
TZOFFSETFROM:+0100
TZOFFSETTO:+0200
TZNAME:CEST
DTSTART:20240331T010000
END:DAYLIGHT
BEGIN:STANDARD
TZOFFSETFROM:+0200
TZOFFSETTO:+0100
TZNAME:CET
DTSTART:20241027T010000
END:STANDARD
END:VTIMEZONE
BEGIN:VEVENT
DTSTART;TZID=Europe/Amsterdam:20231205T110000
DTEND;TZID=Europe/Amsterdam:20231205T130000
DTSTAMP:20260423T053027
CREATED:20231009T135158Z
LAST-MODIFIED:20231009T135158Z
UID:1083-1701774000-1701781200@bcpz.nl
SUMMARY:Gym met lunch
DESCRIPTION:Josephinehof\, Josephinehof 2A (ingang in Gildestraat)\, Geldrop. Als u nog niet op de lijst staat\, bel Ine tel. 06 83 89 64 91. Bijdrage € 5
URL:https://bcpz.nl/event/gym-met-lunch-97/
CATEGORIES:Samen Gymmen
END:VEVENT
BEGIN:VEVENT
DTSTART;TZID=Europe/Amsterdam:20231128T110000
DTEND;TZID=Europe/Amsterdam:20231128T130000
DTSTAMP:20260423T053027
CREATED:20230513T132340Z
LAST-MODIFIED:20230513T132340Z
UID:1017-1701169200-1701176400@bcpz.nl
SUMMARY:Gym met lunch
DESCRIPTION:Josephinehof\, Josephinehof 2A (ingang in Gildestraat)\, Geldrop. Als u nog niet op de lijst staat\, bel Ine tel. 06 83 89 64 91. Bijdrage € 5
URL:https://bcpz.nl/event/gym-met-lunch-96/
CATEGORIES:Samen Gymmen
END:VEVENT
BEGIN:VEVENT
DTSTART;TZID=Europe/Amsterdam:20231121T110000
DTEND;TZID=Europe/Amsterdam:20231121T130000
DTSTAMP:20260423T053027
CREATED:20230513T132304Z
LAST-MODIFIED:20230513T132304Z
UID:1015-1700564400-1700571600@bcpz.nl
SUMMARY:Gym met lunch
DESCRIPTION:Josephinehof\, Josephinehof 2A (ingang in Gildestraat)\, Geldrop. Als u nog niet op de lijst staat\, bel Ine tel. 06 83 89 64 91. Bijdrage € 5
URL:https://bcpz.nl/event/gym-met-lunch-95/
CATEGORIES:Samen Gymmen
END:VEVENT
BEGIN:VEVENT
DTSTART;TZID=Europe/Amsterdam:20231114T110000
DTEND;TZID=Europe/Amsterdam:20231114T130000
DTSTAMP:20260423T053027
CREATED:20230513T132221Z
LAST-MODIFIED:20230513T132221Z
UID:1013-1699959600-1699966800@bcpz.nl
SUMMARY:Gym met lunch
DESCRIPTION:Josephinehof\, Josephinehof 2A (ingang in Gildestraat)\, Geldrop. Als u nog niet op de lijst staat\, bel Ine tel. 06 83 89 64 91. Bijdrage € 5
URL:https://bcpz.nl/event/gym-met-lunch-94/
CATEGORIES:Samen Gymmen
END:VEVENT
BEGIN:VEVENT
DTSTART;TZID=Europe/Amsterdam:20231107T110000
DTEND;TZID=Europe/Amsterdam:20231107T130000
DTSTAMP:20260423T053027
CREATED:20230513T132145Z
LAST-MODIFIED:20230513T132145Z
UID:1011-1699354800-1699362000@bcpz.nl
SUMMARY:Gym met lunch
DESCRIPTION:Josephinehof\, Josephinehof 2A (ingang in Gildestraat)\, Geldrop. Als u nog niet op de lijst staat\, bel Ine tel. 06 83 89 64 91. Bijdrage € 5
URL:https://bcpz.nl/event/gym-met-lunch-93/
CATEGORIES:Samen Gymmen
END:VEVENT
BEGIN:VEVENT
DTSTART;TZID=Europe/Amsterdam:20231031T110000
DTEND;TZID=Europe/Amsterdam:20231031T130000
DTSTAMP:20260423T053027
CREATED:20230513T132107Z
LAST-MODIFIED:20230513T132107Z
UID:1009-1698750000-1698757200@bcpz.nl
SUMMARY:Gym met lunch
DESCRIPTION:Josephinehof\, Josephinehof 2A (ingang in Gildestraat)\, Geldrop. Als u nog niet op de lijst staat\, bel Ine tel. 06 83 89 64 91. Bijdrage € 5
URL:https://bcpz.nl/event/gym-met-lunch-92/
CATEGORIES:Samen Gymmen
END:VEVENT
BEGIN:VEVENT
DTSTART;TZID=Europe/Amsterdam:20231024T110000
DTEND;TZID=Europe/Amsterdam:20231024T130000
DTSTAMP:20260423T053027
CREATED:20230513T132033Z
LAST-MODIFIED:20230513T132033Z
UID:1007-1698145200-1698152400@bcpz.nl
SUMMARY:Gym met lunch
DESCRIPTION:Josephinehof\, Josephinehof 2A (ingang in Gildestraat)\, Geldrop. Als u nog niet op de lijst staat\, bel Ine tel. 06 83 89 64 91. Bijdrage € 5
URL:https://bcpz.nl/event/gym-met-lunch-91/
CATEGORIES:Samen Gymmen
END:VEVENT
BEGIN:VEVENT
DTSTART;TZID=Europe/Amsterdam:20231017T110000
DTEND;TZID=Europe/Amsterdam:20231017T130000
DTSTAMP:20260423T053027
CREATED:20230513T131811Z
LAST-MODIFIED:20230513T131811Z
UID:1005-1697540400-1697547600@bcpz.nl
SUMMARY:Gym met lunch
DESCRIPTION:Josephinehof\, Josephinehof 2A (ingang in Gildestraat)\, Geldrop. Als u nog niet op de lijst staat\, bel Ine tel. 06 83 89 64 91. Bijdrage € 5
URL:https://bcpz.nl/event/gym-met-lunch-90/
CATEGORIES:Samen Gymmen
END:VEVENT
BEGIN:VEVENT
DTSTART;TZID=Europe/Amsterdam:20231010T110000
DTEND;TZID=Europe/Amsterdam:20231010T130000
DTSTAMP:20260423T053027
CREATED:20230513T131730Z
LAST-MODIFIED:20230513T131730Z
UID:1003-1696935600-1696942800@bcpz.nl
SUMMARY:Gym met lunch
DESCRIPTION:Josephinehof\, Josephinehof 2A (ingang in Gildestraat)\, Geldrop. Als u nog niet op de lijst staat\, bel Ine tel. 06 83 89 64 91. Bijdrage € 5
URL:https://bcpz.nl/event/gym-met-lunch-89/
CATEGORIES:Samen Gymmen
END:VEVENT
BEGIN:VEVENT
DTSTART;TZID=Europe/Amsterdam:20231003T110000
DTEND;TZID=Europe/Amsterdam:20231003T130000
DTSTAMP:20260423T053027
CREATED:20230513T131651Z
LAST-MODIFIED:20230513T131651Z
UID:1001-1696330800-1696338000@bcpz.nl
SUMMARY:Gym met lunch
DESCRIPTION:Josephinehof\, Josephinehof 2A (ingang in Gildestraat)\, Geldrop. Als u nog niet op de lijst staat\, bel Ine tel. 06 83 89 64 91. Bijdrage € 5
URL:https://bcpz.nl/event/gym-met-lunch-88/
CATEGORIES:Samen Gymmen
END:VEVENT
BEGIN:VEVENT
DTSTART;TZID=Europe/Amsterdam:20230926T110000
DTEND;TZID=Europe/Amsterdam:20230926T130000
DTSTAMP:20260423T053027
CREATED:20230513T131610Z
LAST-MODIFIED:20230513T131610Z
UID:999-1695726000-1695733200@bcpz.nl
SUMMARY:Gym met lunch
DESCRIPTION:Josephinehof\, Josephinehof 2A (ingang in Gildestraat)\, Geldrop. Als u nog niet op de lijst staat\, bel Ine tel. 06 83 89 64 91. Bijdrage € 5
URL:https://bcpz.nl/event/gym-met-lunch-87/
CATEGORIES:Samen Gymmen
END:VEVENT
BEGIN:VEVENT
DTSTART;TZID=Europe/Amsterdam:20230919T110000
DTEND;TZID=Europe/Amsterdam:20230919T130000
DTSTAMP:20260423T053027
CREATED:20230513T131533Z
LAST-MODIFIED:20230513T131533Z
UID:997-1695121200-1695128400@bcpz.nl
SUMMARY:Gym met lunch
DESCRIPTION:Josephinehof\, Josephinehof 2A (ingang in Gildestraat)\, Geldrop. Als u nog niet op de lijst staat\, bel Ine tel. 06 83 89 64 91. Bijdrage € 5
URL:https://bcpz.nl/event/gym-met-lunch-86/
CATEGORIES:Samen Gymmen
END:VEVENT
BEGIN:VEVENT
DTSTART;TZID=Europe/Amsterdam:20230912T110000
DTEND;TZID=Europe/Amsterdam:20230912T130000
DTSTAMP:20260423T053027
CREATED:20230513T131457Z
LAST-MODIFIED:20230513T131457Z
UID:995-1694516400-1694523600@bcpz.nl
SUMMARY:Gym met lunch
DESCRIPTION:Josephinehof\, Josephinehof 2A (ingang in Gildestraat)\, Geldrop. Als u nog niet op de lijst staat\, bel Ine tel. 06 83 89 64 91. Bijdrage € 5
URL:https://bcpz.nl/event/gym-met-lunch-85/
CATEGORIES:Samen Gymmen
END:VEVENT
BEGIN:VEVENT
DTSTART;TZID=Europe/Amsterdam:20230905T110000
DTEND;TZID=Europe/Amsterdam:20230905T130000
DTSTAMP:20260423T053027
CREATED:20230513T131420Z
LAST-MODIFIED:20230513T131420Z
UID:993-1693911600-1693918800@bcpz.nl
SUMMARY:Gym met lunch
DESCRIPTION:Josephinehof\, Josephinehof 2A (ingang in Gildestraat)\, Geldrop. Als u nog niet op de lijst staat\, bel Ine tel. 06 83 89 64 91. Bijdrage € 5
URL:https://bcpz.nl/event/gym-met-lunch-84/
CATEGORIES:Samen Gymmen
END:VEVENT
BEGIN:VEVENT
DTSTART;TZID=Europe/Amsterdam:20230829T110000
DTEND;TZID=Europe/Amsterdam:20230829T130000
DTSTAMP:20260423T053027
CREATED:20230513T131301Z
LAST-MODIFIED:20230513T131301Z
UID:991-1693306800-1693314000@bcpz.nl
SUMMARY:Gym met lunch
DESCRIPTION:Josephinehof\, Josephinehof 2A (ingang in Gildestraat)\, Geldrop. Als u nog niet op de lijst staat\, bel Ine tel. 06 83 89 64 91. Bijdrage € 5
URL:https://bcpz.nl/event/gym-met-lunch-83/
CATEGORIES:Samen Gymmen
END:VEVENT
BEGIN:VEVENT
DTSTART;TZID=Europe/Amsterdam:20230822T110000
DTEND;TZID=Europe/Amsterdam:20230822T130000
DTSTAMP:20260423T053027
CREATED:20230513T131217Z
LAST-MODIFIED:20230513T131217Z
UID:988-1692702000-1692709200@bcpz.nl
SUMMARY:Gym met lunch
DESCRIPTION:Josephinehof\, Josephinehof 2A (ingang in Gildestraat)\, Geldrop. Als u nog niet op de lijst staat\, bel Ine tel. 06 83 89 64 91. Bijdrage € 5
URL:https://bcpz.nl/event/gym-met-lunch-82/
CATEGORIES:Samen Gymmen
END:VEVENT
BEGIN:VEVENT
DTSTART;TZID=Europe/Amsterdam:20230815T110000
DTEND;TZID=Europe/Amsterdam:20230815T130000
DTSTAMP:20260423T053027
CREATED:20230513T131013Z
LAST-MODIFIED:20230513T131013Z
UID:986-1692097200-1692104400@bcpz.nl
SUMMARY:Gym met lunch
DESCRIPTION:Josephinehof\, Josephinehof 2A (ingang in Gildestraat)\, Geldrop. Als u nog niet op de lijst staat\, bel Ine tel. 06 83 89 64 91. Bijdrage € 5
URL:https://bcpz.nl/event/gym-met-lunch-81/
CATEGORIES:Samen Gymmen
END:VEVENT
BEGIN:VEVENT
DTSTART;TZID=Europe/Amsterdam:20230808T110000
DTEND;TZID=Europe/Amsterdam:20230808T130000
DTSTAMP:20260423T053027
CREATED:20230513T130938Z
LAST-MODIFIED:20230513T130938Z
UID:984-1691492400-1691499600@bcpz.nl
SUMMARY:Gym met lunch
DESCRIPTION:Josephinehof\, Josephinehof 2A (ingang in Gildestraat)\, Geldrop. Als u nog niet op de lijst staat\, bel Ine tel. 06 83 89 64 91. Bijdrage € 5
URL:https://bcpz.nl/event/gym-met-lunch-80/
CATEGORIES:Samen Gymmen
END:VEVENT
BEGIN:VEVENT
DTSTART;TZID=Europe/Amsterdam:20230801T110000
DTEND;TZID=Europe/Amsterdam:20230801T130000
DTSTAMP:20260423T053027
CREATED:20230513T130858Z
LAST-MODIFIED:20230513T130858Z
UID:982-1690887600-1690894800@bcpz.nl
SUMMARY:Gym met lunch
DESCRIPTION:Josephinehof\, Josephinehof 2A (ingang in Gildestraat)\, Geldrop. Als u nog niet op de lijst staat\, bel Ine tel. 06 83 89 64 91. Bijdrage € 5
URL:https://bcpz.nl/event/gym-met-lunch-79/
CATEGORIES:Samen Gymmen
END:VEVENT
BEGIN:VEVENT
DTSTART;TZID=Europe/Amsterdam:20230725T110000
DTEND;TZID=Europe/Amsterdam:20230725T130000
DTSTAMP:20260423T053027
CREATED:20230211T172922Z
LAST-MODIFIED:20230211T172922Z
UID:857-1690282800-1690290000@bcpz.nl
SUMMARY:Gym met lunch
DESCRIPTION:Josephinehof\, Josephinehof 2A (ingang in Gildestraat)\, Geldrop. Als u nog niet op de lijst staat\, bel Ine tel. 06 83 89 64 91. Bijdrage € 5
URL:https://bcpz.nl/event/gym-met-lunch-78/
CATEGORIES:Samen Gymmen
END:VEVENT
BEGIN:VEVENT
DTSTART;TZID=Europe/Amsterdam:20230718T110000
DTEND;TZID=Europe/Amsterdam:20230718T130000
DTSTAMP:20260423T053027
CREATED:20230211T172840Z
LAST-MODIFIED:20230211T172840Z
UID:855-1689678000-1689685200@bcpz.nl
SUMMARY:Gym met lunch
DESCRIPTION:Josephinehof\, Josephinehof 2A (ingang in Gildestraat)\, Geldrop. Als u nog niet op de lijst staat\, bel Ine tel. 06 83 89 64 91. Bijdrage € 5
URL:https://bcpz.nl/event/gym-met-lunch-77/
CATEGORIES:Samen Gymmen
END:VEVENT
BEGIN:VEVENT
DTSTART;TZID=Europe/Amsterdam:20230711T110000
DTEND;TZID=Europe/Amsterdam:20230711T130000
DTSTAMP:20260423T053027
CREATED:20230211T172804Z
LAST-MODIFIED:20230211T172804Z
UID:853-1689073200-1689080400@bcpz.nl
SUMMARY:Gym met lunch
DESCRIPTION:Josephinehof\, Josephinehof 2A (ingang in Gildestraat)\, Geldrop. Als u nog niet op de lijst staat\, bel Ine tel. 06 83 89 64 91. Bijdrage € 5
URL:https://bcpz.nl/event/gym-met-lunch-76/
CATEGORIES:Samen Gymmen
END:VEVENT
BEGIN:VEVENT
DTSTART;TZID=Europe/Amsterdam:20230704T110000
DTEND;TZID=Europe/Amsterdam:20230704T130000
DTSTAMP:20260423T053027
CREATED:20230211T172724Z
LAST-MODIFIED:20230211T172724Z
UID:851-1688468400-1688475600@bcpz.nl
SUMMARY:Gym met lunch
DESCRIPTION:Josephinehof\, Josephinehof 2A (ingang in Gildestraat)\, Geldrop. Als u nog niet op de lijst staat\, bel Ine tel. 06 83 89 64 91. Bijdrage € 5
URL:https://bcpz.nl/event/gym-met-lunch-75/
CATEGORIES:Samen Gymmen
END:VEVENT
BEGIN:VEVENT
DTSTART;TZID=Europe/Amsterdam:20230627T110000
DTEND;TZID=Europe/Amsterdam:20230627T130000
DTSTAMP:20260423T053027
CREATED:20230211T172615Z
LAST-MODIFIED:20230211T172615Z
UID:849-1687863600-1687870800@bcpz.nl
SUMMARY:Gym met lunch
DESCRIPTION:Josephinehof\, Josephinehof 2A (ingang in Gildestraat)\, Geldrop. Als u nog niet op de lijst staat\, bel Ine tel. 06 83 89 64 91. Bijdrage € 5
URL:https://bcpz.nl/event/gym-met-lunch-74/
CATEGORIES:Samen Gymmen
END:VEVENT
BEGIN:VEVENT
DTSTART;TZID=Europe/Amsterdam:20230620T110000
DTEND;TZID=Europe/Amsterdam:20230620T130000
DTSTAMP:20260423T053027
CREATED:20230211T172509Z
LAST-MODIFIED:20230211T172509Z
UID:847-1687258800-1687266000@bcpz.nl
SUMMARY:Gym met lunch
DESCRIPTION:Josephinehof\, Josephinehof 2A (ingang in Gildestraat)\, Geldrop. Als u nog niet op de lijst staat\, bel Ine tel. 06 83 89 64 91. Bijdrage € 5
URL:https://bcpz.nl/event/gym-met-lunch-73/
CATEGORIES:Samen Gymmen
END:VEVENT
BEGIN:VEVENT
DTSTART;TZID=Europe/Amsterdam:20230613T110000
DTEND;TZID=Europe/Amsterdam:20230613T130000
DTSTAMP:20260423T053027
CREATED:20230211T172429Z
LAST-MODIFIED:20230211T172429Z
UID:845-1686654000-1686661200@bcpz.nl
SUMMARY:Gym met lunch
DESCRIPTION:Josephinehof\, Josephinehof 2A (ingang in Gildestraat)\, Geldrop. Als u nog niet op de lijst staat\, bel Ine tel. 06 83 89 64 91. Bijdrage € 5
URL:https://bcpz.nl/event/gym-met-lunch-72/
CATEGORIES:Samen Gymmen
END:VEVENT
BEGIN:VEVENT
DTSTART;TZID=Europe/Amsterdam:20230606T110000
DTEND;TZID=Europe/Amsterdam:20230606T130000
DTSTAMP:20260423T053027
CREATED:20230211T172334Z
LAST-MODIFIED:20230211T172334Z
UID:843-1686049200-1686056400@bcpz.nl
SUMMARY:Gym met lunch
DESCRIPTION:Josephinehof\, Josephinehof 2A (ingang in Gildestraat)\, Geldrop. Als u nog niet op de lijst staat\, bel Ine tel. 06 83 89 64 91. Bijdrage € 5
URL:https://bcpz.nl/event/gym-met-lunch-71/
CATEGORIES:Samen Gymmen
END:VEVENT
BEGIN:VEVENT
DTSTART;TZID=Europe/Amsterdam:20230530T110000
DTEND;TZID=Europe/Amsterdam:20230530T130000
DTSTAMP:20260423T053027
CREATED:20230211T172256Z
LAST-MODIFIED:20230211T172256Z
UID:841-1685444400-1685451600@bcpz.nl
SUMMARY:Gym met lunch
DESCRIPTION:Josephinehof\, Josephinehof 2A (ingang in Gildestraat)\, Geldrop. Als u nog niet op de lijst staat\, bel Ine tel. 06 83 89 64 91. Bijdrage € 5
URL:https://bcpz.nl/event/gym-met-lunch-70/
CATEGORIES:Samen Gymmen
END:VEVENT
BEGIN:VEVENT
DTSTART;TZID=Europe/Amsterdam:20230523T110000
DTEND;TZID=Europe/Amsterdam:20230523T130000
DTSTAMP:20260423T053027
CREATED:20230211T172217Z
LAST-MODIFIED:20230211T172217Z
UID:839-1684839600-1684846800@bcpz.nl
SUMMARY:Gym met lunch
DESCRIPTION:Josephinehof\, Josephinehof 2A (ingang in Gildestraat)\, Geldrop. Als u nog niet op de lijst staat\, bel Ine tel. 06 83 89 64 91. Bijdrage € 5
URL:https://bcpz.nl/event/gym-met-lunch-69/
CATEGORIES:Samen Gymmen
END:VEVENT
BEGIN:VEVENT
DTSTART;TZID=Europe/Amsterdam:20230516T110000
DTEND;TZID=Europe/Amsterdam:20230516T130000
DTSTAMP:20260423T053027
CREATED:20230211T172135Z
LAST-MODIFIED:20230211T172135Z
UID:837-1684234800-1684242000@bcpz.nl
SUMMARY:Gym met lunch
DESCRIPTION:Josephinehof\, Josephinehof 2A (ingang in Gildestraat)\, Geldrop. Als u nog niet op de lijst staat\, bel Ine tel. 06 83 89 64 91. Bijdrage € 5
URL:https://bcpz.nl/event/gym-met-lunch-68/
CATEGORIES:Samen Gymmen
END:VEVENT
END:VCALENDAR