BEGIN:VCALENDAR
VERSION:2.0
PRODID:-//Buurtcontactpunt Zesgehuchten - ECPv6.15.20//NONSGML v1.0//EN
CALSCALE:GREGORIAN
METHOD:PUBLISH
X-WR-CALNAME:Buurtcontactpunt Zesgehuchten
X-ORIGINAL-URL:https://bcpz.nl
X-WR-CALDESC:Evenementen voor Buurtcontactpunt Zesgehuchten
REFRESH-INTERVAL;VALUE=DURATION:PT1H
X-Robots-Tag:noindex
X-PUBLISHED-TTL:PT1H
BEGIN:VTIMEZONE
TZID:Europe/Amsterdam
BEGIN:DAYLIGHT
TZOFFSETFROM:+0100
TZOFFSETTO:+0200
TZNAME:CEST
DTSTART:20200329T010000
END:DAYLIGHT
BEGIN:STANDARD
TZOFFSETFROM:+0200
TZOFFSETTO:+0100
TZNAME:CET
DTSTART:20201025T010000
END:STANDARD
BEGIN:DAYLIGHT
TZOFFSETFROM:+0100
TZOFFSETTO:+0200
TZNAME:CEST
DTSTART:20210328T010000
END:DAYLIGHT
BEGIN:STANDARD
TZOFFSETFROM:+0200
TZOFFSETTO:+0100
TZNAME:CET
DTSTART:20211031T010000
END:STANDARD
BEGIN:DAYLIGHT
TZOFFSETFROM:+0100
TZOFFSETTO:+0200
TZNAME:CEST
DTSTART:20220327T010000
END:DAYLIGHT
BEGIN:STANDARD
TZOFFSETFROM:+0200
TZOFFSETTO:+0100
TZNAME:CET
DTSTART:20221030T010000
END:STANDARD
BEGIN:DAYLIGHT
TZOFFSETFROM:+0100
TZOFFSETTO:+0200
TZNAME:CEST
DTSTART:20230326T010000
END:DAYLIGHT
BEGIN:STANDARD
TZOFFSETFROM:+0200
TZOFFSETTO:+0100
TZNAME:CET
DTSTART:20231029T010000
END:STANDARD
END:VTIMEZONE
BEGIN:VEVENT
DTSTART;TZID=Europe/Amsterdam:20221110T160000
DTEND;TZID=Europe/Amsterdam:20221110T183000
DTSTAMP:20260420T152908
CREATED:20220728T094919Z
LAST-MODIFIED:20220728T094919Z
UID:583-1668096000-1668105000@bcpz.nl
SUMMARY:Samen eten op donderdag
DESCRIPTION:Josephinehof\, Josephinehof 2A (ingang in Gildestraat)\, Geldrop.\nAls u nog niet op de lijst staat\, bel Aggie tel. 06 364 04180.\nBijdrage € 7
URL:https://bcpz.nl/event/samen-eten-op-donderdag-11/
CATEGORIES:Samen Eten
END:VEVENT
BEGIN:VEVENT
DTSTART;TZID=Europe/Amsterdam:20221019T160000
DTEND;TZID=Europe/Amsterdam:20221019T183000
DTSTAMP:20260420T152908
CREATED:20220607T150935Z
LAST-MODIFIED:20220607T150935Z
UID:520-1666195200-1666204200@bcpz.nl
SUMMARY:Samen Eten op woensdag
DESCRIPTION:Josephinehof\, Josephinehof 2A (ingang in Gildestraat)\, Geldrop.\nAls u nog niet op de lijst staat\, bel Aggie tel. 06 364 04180.\nBijdrage € 7
URL:https://bcpz.nl/event/samen-eten-op-woensdag-10/
CATEGORIES:Samen Eten
END:VEVENT
BEGIN:VEVENT
DTSTART;TZID=Europe/Amsterdam:20221013T160000
DTEND;TZID=Europe/Amsterdam:20221013T183000
DTSTAMP:20260420T152908
CREATED:20220607T150715Z
LAST-MODIFIED:20220607T150715Z
UID:514-1665676800-1665685800@bcpz.nl
SUMMARY:Samen Eten op donderdag
DESCRIPTION:Josephinehof\, Josephinehof 2A (ingang in Gildestraat)\, Geldrop.\nAls u nog niet op de lijst staat\, bel Aggie tel. 06 364 04180.\nBijdrage € 7
URL:https://bcpz.nl/event/samen-eten-op-donderdag-10/
CATEGORIES:Samen Eten
END:VEVENT
BEGIN:VEVENT
DTSTART;TZID=Europe/Amsterdam:20220914T160000
DTEND;TZID=Europe/Amsterdam:20220914T183000
DTSTAMP:20260420T152908
CREATED:20220607T150852Z
LAST-MODIFIED:20220607T150852Z
UID:518-1663171200-1663180200@bcpz.nl
SUMMARY:Samen Eten op woensdag
DESCRIPTION:Josephinehof\, Josephinehof 2A (ingang in Gildestraat)\, Geldrop.\nAls u nog niet op de lijst staat\, bel Aggie tel. 06 364 04180.\nBijdrage € 7
URL:https://bcpz.nl/event/samen-eten-op-woensdag-9/
CATEGORIES:Samen Eten
END:VEVENT
BEGIN:VEVENT
DTSTART;TZID=Europe/Amsterdam:20220908T160000
DTEND;TZID=Europe/Amsterdam:20220908T183000
DTSTAMP:20260420T152908
CREATED:20220607T150635Z
LAST-MODIFIED:20220607T150635Z
UID:512-1662652800-1662661800@bcpz.nl
SUMMARY:Samen Eten op donderdag
DESCRIPTION:Josephinehof\, Josephinehof 2A (ingang in Gildestraat)\, Geldrop.\nAls u nog niet op de lijst staat\, bel Aggie tel. 06 364 04180.\nBijdrage € 7
URL:https://bcpz.nl/event/samen-eten-op-donderdag-9/
CATEGORIES:Samen Eten
END:VEVENT
BEGIN:VEVENT
DTSTART;TZID=Europe/Amsterdam:20220817T160000
DTEND;TZID=Europe/Amsterdam:20220817T183000
DTSTAMP:20260420T152908
CREATED:20220607T150810Z
LAST-MODIFIED:20220607T150810Z
UID:516-1660752000-1660761000@bcpz.nl
SUMMARY:Samen Eten op woensdag
DESCRIPTION:Josephinehof\, Josephinehof 2A (ingang in Gildestraat)\, Geldrop.\nAls u nog niet op de lijst staat\, bel Aggie tel. 06 364 04180.\nBijdrage € 7
URL:https://bcpz.nl/event/samen-eten-op-woensdag-5/
CATEGORIES:Samen Eten
END:VEVENT
BEGIN:VEVENT
DTSTART;TZID=Europe/Amsterdam:20220811T160000
DTEND;TZID=Europe/Amsterdam:20220811T183000
DTSTAMP:20260420T152908
CREATED:20220607T150545Z
LAST-MODIFIED:20220607T150545Z
UID:510-1660233600-1660242600@bcpz.nl
SUMMARY:Samen Eten op donderdag
DESCRIPTION:Josephinehof\, Josephinehof 2A (ingang in Gildestraat)\, Geldrop.\nAls u nog niet op de lijst staat\, bel Aggie tel. 06 364 04180.\nBijdrage € 7
URL:https://bcpz.nl/event/samen-eten-op-donderdag-8/
CATEGORIES:Samen Eten
END:VEVENT
BEGIN:VEVENT
DTSTART;TZID=Europe/Amsterdam:20220720T160000
DTEND;TZID=Europe/Amsterdam:20220720T183000
DTSTAMP:20260420T152908
CREATED:20220414T095519Z
LAST-MODIFIED:20220927T151631Z
UID:368-1658332800-1658341800@bcpz.nl
SUMMARY:Samen Eten op woensdag
DESCRIPTION:Josephinehof\, Josephinehof 2A (ingang in Gildestraat)\, Geldrop.\nAls u nog niet op de lijst staat\, bel Aggie tel. 06 364 04180\nBijdrage € 7
URL:https://bcpz.nl/event/samen-eten-op-woensdag-7/
CATEGORIES:Samen Eten
END:VEVENT
BEGIN:VEVENT
DTSTART;TZID=Europe/Amsterdam:20220714T160000
DTEND;TZID=Europe/Amsterdam:20220714T183000
DTSTAMP:20260420T152908
CREATED:20220414T095047Z
LAST-MODIFIED:20220414T105251Z
UID:360-1657814400-1657823400@bcpz.nl
SUMMARY:Samen Eten op donderdag
DESCRIPTION:Josephinehof\, Josephinehof 2A (ingang in Gildestraat)\, Geldrop.\nAls u nog niet op de lijst staat\, bel Aggie tel. 06 364 04180\nBijdrage € 7
URL:https://bcpz.nl/event/samen-eten-op-donderdag-7/
CATEGORIES:Samen Eten
END:VEVENT
BEGIN:VEVENT
DTSTART;TZID=Europe/Amsterdam:20220615T160000
DTEND;TZID=Europe/Amsterdam:20220615T183000
DTSTAMP:20260420T152908
CREATED:20220414T104808Z
LAST-MODIFIED:20220414T105324Z
UID:438-1655308800-1655317800@bcpz.nl
SUMMARY:Samen eten op woensdag
DESCRIPTION:Josephinehof\, Josephinehof 2A (ingang in Gildestraat)\, Geldrop.\nAls u nog niet op de lijst staat\, bel Aggie tel. 06 364 04180.\nBijdrage € 7
URL:https://bcpz.nl/event/samen-eten-op-woensdag-8/
CATEGORIES:Samen Eten
END:VEVENT
BEGIN:VEVENT
DTSTART;TZID=Europe/Amsterdam:20220609T160000
DTEND;TZID=Europe/Amsterdam:20220609T183000
DTSTAMP:20260420T152908
CREATED:20220414T094840Z
LAST-MODIFIED:20220414T105410Z
UID:358-1654790400-1654799400@bcpz.nl
SUMMARY:Samen Eten op donderdag
DESCRIPTION:Josephinehof\, Josephinehof 2A (ingang in Gildestraat)\, Geldrop.\nAls u nog niet op de lijst staat\, bel Aggie tel. 06 364 04180.\nBijdrage € 7
URL:https://bcpz.nl/event/samen-eten-op-donderdag-6/
CATEGORIES:Samen Eten
END:VEVENT
BEGIN:VEVENT
DTSTART;TZID=Europe/Amsterdam:20220518T160000
DTEND;TZID=Europe/Amsterdam:20220518T183000
DTSTAMP:20260420T152908
CREATED:20220414T105922Z
LAST-MODIFIED:20220414T105922Z
UID:449-1652889600-1652898600@bcpz.nl
SUMMARY:Samen Eten op woensdag
DESCRIPTION:Josephinehof\, Josephinehof 2A (ingang in Gildestraat)\, Geldrop.\nAls u nog niet op de lijst staat\, bel Aggie tel. 06 364 04180.\nBijdrage € 7
URL:https://bcpz.nl/event/samen-eten-op-woensdag-6/
CATEGORIES:Samen Eten
END:VEVENT
BEGIN:VEVENT
DTSTART;TZID=Europe/Amsterdam:20220512T160000
DTEND;TZID=Europe/Amsterdam:20220512T183000
DTSTAMP:20260420T152908
CREATED:20220414T094416Z
LAST-MODIFIED:20220414T094705Z
UID:354-1652371200-1652380200@bcpz.nl
SUMMARY:Samen Eten op donderdag
DESCRIPTION:Josephinehof\, Josephinehof 2A (ingang in Gildestraat)\, Geldrop.\nAls u nog niet op de lijst staat\, bel Aggie tel. 06 364 04180 / 040-2854531\nBijdrage € 7
URL:https://bcpz.nl/event/samen-eten-op-donderdag-5/
CATEGORIES:Samen Eten
END:VEVENT
BEGIN:VEVENT
DTSTART;TZID=Europe/Amsterdam:20220420T160000
DTEND;TZID=Europe/Amsterdam:20220420T183000
DTSTAMP:20260420T152908
CREATED:20220414T095146Z
LAST-MODIFIED:20220414T095146Z
UID:362-1650470400-1650479400@bcpz.nl
SUMMARY:Samen Eten op woensdag
DESCRIPTION:Josephinehof\, Josephinehof 2A (ingang in Gildestraat)\, Geldrop.\nAls u nog niet op de lijst staat\, bel Aggie tel. 06 364 04180 / 040-2854531\nBijdrage € 7
URL:https://bcpz.nl/event/samen-eten-op-woensdag-2/
CATEGORIES:Samen Eten
END:VEVENT
BEGIN:VEVENT
DTSTART;TZID=Europe/Amsterdam:20211117T160000
DTEND;TZID=Europe/Amsterdam:20211117T183000
DTSTAMP:20260420T152908
CREATED:20211011T153732Z
LAST-MODIFIED:20211113T102310Z
UID:167-1637164800-1637173800@bcpz.nl
SUMMARY:Samen Eten op woensdag - GAAT NIET DOOR i.v.m. coronamaatregelen
DESCRIPTION:
URL:https://bcpz.nl/event/samen-eten-op-woensdag-3/
LOCATION:Josephinehof\, Josephinehof 2A (ingang in Gildestraat)\, Geldrop\, NB\, Nederland
CATEGORIES:Samen Eten
END:VEVENT
BEGIN:VEVENT
DTSTART;TZID=Europe/Amsterdam:20211111T160000
DTEND;TZID=Europe/Amsterdam:20211111T183000
DTSTAMP:20260420T152908
CREATED:20211011T130513Z
LAST-MODIFIED:20211011T130659Z
UID:121-1636646400-1636655400@bcpz.nl
SUMMARY:Samen Eten op donderdag
DESCRIPTION:
URL:https://bcpz.nl/event/samen-eten-op-donderdag/
LOCATION:Josephinehof\, Josephinehof 2A (ingang in Gildestraat)\, Geldrop\, NB\, Nederland
CATEGORIES:Samen Eten
END:VEVENT
BEGIN:VEVENT
DTSTART;TZID=Europe/Amsterdam:20211020T160000
DTEND;TZID=Europe/Amsterdam:20211020T183000
DTSTAMP:20260420T152908
CREATED:20210928T162355Z
LAST-MODIFIED:20211011T152622Z
UID:70-1634745600-1634754600@bcpz.nl
SUMMARY:Samen Eten op woensdag
DESCRIPTION:
URL:https://bcpz.nl/event/samen-eten-op-woensdag/
LOCATION:Josephinehof\, Josephinehof 2A (ingang in Gildestraat)\, Geldrop\, NB\, Nederland
CATEGORIES:Samen Eten
END:VEVENT
BEGIN:VEVENT
DTSTART;TZID=Europe/Amsterdam:20211014T160000
DTEND;TZID=Europe/Amsterdam:20211014T183000
DTSTAMP:20260420T152908
CREATED:20211011T131615Z
LAST-MODIFIED:20211011T142645Z
UID:126-1634227200-1634236200@bcpz.nl
SUMMARY:Samen Eten op donderdag
DESCRIPTION:
URL:https://bcpz.nl/event/samen-eten-op-donderdag-2/
LOCATION:Josephinehof\, Josephinehof 2A (ingang in Gildestraat)\, Geldrop\, NB\, Nederland
CATEGORIES:Samen Eten
END:VEVENT
END:VCALENDAR