BEGIN:VCALENDAR
VERSION:2.0
PRODID:-//Buurtcontactpunt Zesgehuchten - ECPv6.15.20//NONSGML v1.0//EN
CALSCALE:GREGORIAN
METHOD:PUBLISH
X-ORIGINAL-URL:https://bcpz.nl
X-WR-CALDESC:Evenementen voor Buurtcontactpunt Zesgehuchten
REFRESH-INTERVAL;VALUE=DURATION:PT1H
X-Robots-Tag:noindex
X-PUBLISHED-TTL:PT1H
BEGIN:VTIMEZONE
TZID:Europe/Amsterdam
BEGIN:DAYLIGHT
TZOFFSETFROM:+0100
TZOFFSETTO:+0200
TZNAME:CEST
DTSTART:20220327T010000
END:DAYLIGHT
BEGIN:STANDARD
TZOFFSETFROM:+0200
TZOFFSETTO:+0100
TZNAME:CET
DTSTART:20221030T010000
END:STANDARD
BEGIN:DAYLIGHT
TZOFFSETFROM:+0100
TZOFFSETTO:+0200
TZNAME:CEST
DTSTART:20230326T010000
END:DAYLIGHT
BEGIN:STANDARD
TZOFFSETFROM:+0200
TZOFFSETTO:+0100
TZNAME:CET
DTSTART:20231029T010000
END:STANDARD
BEGIN:DAYLIGHT
TZOFFSETFROM:+0100
TZOFFSETTO:+0200
TZNAME:CEST
DTSTART:20240331T010000
END:DAYLIGHT
BEGIN:STANDARD
TZOFFSETFROM:+0200
TZOFFSETTO:+0100
TZNAME:CET
DTSTART:20241027T010000
END:STANDARD
BEGIN:DAYLIGHT
TZOFFSETFROM:+0100
TZOFFSETTO:+0200
TZNAME:CEST
DTSTART:20250330T010000
END:DAYLIGHT
BEGIN:STANDARD
TZOFFSETFROM:+0200
TZOFFSETTO:+0100
TZNAME:CET
DTSTART:20251026T010000
END:STANDARD
END:VTIMEZONE
BEGIN:VEVENT
DTSTART;TZID=Europe/Amsterdam:20240502T160000
DTEND;TZID=Europe/Amsterdam:20240502T183000
DTSTAMP:20260420T062843
CREATED:20240220T100751Z
LAST-MODIFIED:20240220T111034Z
UID:1256-1714665600-1714674600@bcpz.nl
SUMMARY:Samen eten op donderdag
DESCRIPTION:Josephinehof\, Josephinehof 2A (ingang in Gildestraat)\, Geldrop. Als u nog niet op de lijst staat\, bel Aggie tel. 06 364 04180. Bijdrage € 7
URL:https://bcpz.nl/event/samen-eten-op-donderdag-28/
CATEGORIES:Samen Eten
END:VEVENT
BEGIN:VEVENT
DTSTART;TZID=Europe/Amsterdam:20240417T160000
DTEND;TZID=Europe/Amsterdam:20240417T183000
DTSTAMP:20260420T062843
CREATED:20240220T101031Z
LAST-MODIFIED:20240220T101031Z
UID:1262-1713369600-1713378600@bcpz.nl
SUMMARY:Samen eten op woensdag
DESCRIPTION:Josephinehof\, Josephinehof 2A (ingang in Gildestraat)\, Geldrop. Als u nog niet op de lijst staat\, bel Aggie tel. 06 364 04180. Bijdrage € 7
URL:https://bcpz.nl/event/samen-eten-op-woensdag-27/
CATEGORIES:Samen Eten
END:VEVENT
BEGIN:VEVENT
DTSTART;TZID=Europe/Amsterdam:20240411T160000
DTEND;TZID=Europe/Amsterdam:20240411T183000
DTSTAMP:20260420T062843
CREATED:20240220T100717Z
LAST-MODIFIED:20240220T100717Z
UID:1254-1712851200-1712860200@bcpz.nl
SUMMARY:Samen eten op donderdag
DESCRIPTION:Josephinehof\, Josephinehof 2A (ingang in Gildestraat)\, Geldrop. Als u nog niet op de lijst staat\, bel Aggie tel. 06 364 04180. Bijdrage € 7
URL:https://bcpz.nl/event/samen-eten-op-donderdag-27/
CATEGORIES:Samen Eten
END:VEVENT
BEGIN:VEVENT
DTSTART;TZID=Europe/Amsterdam:20240320T160000
DTEND;TZID=Europe/Amsterdam:20240320T183000
DTSTAMP:20260420T062843
CREATED:20240220T100833Z
LAST-MODIFIED:20240220T100833Z
UID:1258-1710950400-1710959400@bcpz.nl
SUMMARY:Samen eten op woensdag
DESCRIPTION:Josephinehof\, Josephinehof 2A (ingang in Gildestraat)\, Geldrop. Als u nog niet op de lijst staat\, bel Aggie tel. 06 364 04180. Bijdrage € 7
URL:https://bcpz.nl/event/samen-eten-op-woensdag-26/
CATEGORIES:Samen Eten
END:VEVENT
BEGIN:VEVENT
DTSTART;TZID=Europe/Amsterdam:20240314T160000
DTEND;TZID=Europe/Amsterdam:20240314T183000
DTSTAMP:20260420T062843
CREATED:20240220T100632Z
LAST-MODIFIED:20240220T100632Z
UID:1252-1710432000-1710441000@bcpz.nl
SUMMARY:Samen eten op donderdag
DESCRIPTION:Josephinehof\, Josephinehof 2A (ingang in Gildestraat)\, Geldrop. Als u nog niet op de lijst staat\, bel Aggie tel. 06 364 04180. Bijdrage € 7
URL:https://bcpz.nl/event/samen-eten-op-donderdag-26/
CATEGORIES:Samen Eten
END:VEVENT
BEGIN:VEVENT
DTSTART;TZID=Europe/Amsterdam:20240214T160000
DTEND;TZID=Europe/Amsterdam:20240214T183000
DTSTAMP:20260420T062843
CREATED:20231009T140628Z
LAST-MODIFIED:20231009T140628Z
UID:1111-1707926400-1707935400@bcpz.nl
SUMMARY:Samen eten op woensdag
DESCRIPTION:Josephinehof\, Josephinehof 2A (ingang in Gildestraat)\, Geldrop. Als u nog niet op de lijst staat\, bel Aggie tel. 06 364 04180. Bijdrage € 7
URL:https://bcpz.nl/event/samen-eten-op-woensdag-25/
CATEGORIES:Samen Eten
END:VEVENT
BEGIN:VEVENT
DTSTART;TZID=Europe/Amsterdam:20240208T160000
DTEND;TZID=Europe/Amsterdam:20240208T183000
DTSTAMP:20260420T062843
CREATED:20231009T140910Z
LAST-MODIFIED:20231009T140910Z
UID:1117-1707408000-1707417000@bcpz.nl
SUMMARY:Samen eten op donderdag
DESCRIPTION:Josephinehof\, Josephinehof 2A (ingang in Gildestraat)\, Geldrop. Als u nog niet op de lijst staat\, bel Aggie tel. 06 364 04180. Bijdrage € 7
URL:https://bcpz.nl/event/samen-eten-op-donderdag-25/
CATEGORIES:Samen Eten
END:VEVENT
BEGIN:VEVENT
DTSTART;TZID=Europe/Amsterdam:20240117T160000
DTEND;TZID=Europe/Amsterdam:20240117T183000
DTSTAMP:20260420T062843
CREATED:20231009T140538Z
LAST-MODIFIED:20231009T140538Z
UID:1109-1705507200-1705516200@bcpz.nl
SUMMARY:Samen eten op woensdag
DESCRIPTION:Josephinehof\, Josephinehof 2A (ingang in Gildestraat)\, Geldrop. Als u nog niet op de lijst staat\, bel Aggie tel. 06 364 04180. Bijdrage € 7
URL:https://bcpz.nl/event/samen-eten-op-woensdag-24/
CATEGORIES:Samen Eten
END:VEVENT
BEGIN:VEVENT
DTSTART;TZID=Europe/Amsterdam:20240111T160000
DTEND;TZID=Europe/Amsterdam:20240111T183000
DTSTAMP:20260420T062843
CREATED:20231009T140829Z
LAST-MODIFIED:20231009T140829Z
UID:1115-1704988800-1704997800@bcpz.nl
SUMMARY:Samen eten op donderdag
DESCRIPTION:Josephinehof\, Josephinehof 2A (ingang in Gildestraat)\, Geldrop. Als u nog niet op de lijst staat\, bel Aggie tel. 06 364 04180. Bijdrage € 7
URL:https://bcpz.nl/event/samen-eten-op-donderdag-24/
CATEGORIES:Samen Eten
END:VEVENT
BEGIN:VEVENT
DTSTART;TZID=Europe/Amsterdam:20231220T160000
DTEND;TZID=Europe/Amsterdam:20231220T183000
DTSTAMP:20260420T062843
CREATED:20231009T140442Z
LAST-MODIFIED:20231009T141452Z
UID:1107-1703088000-1703097000@bcpz.nl
SUMMARY:Samen eten op woensdag\, kerstdiner
DESCRIPTION:Josephinehof\, Josephinehof 2A (ingang in Gildestraat)\, Geldrop. Als u nog niet op de lijst staat\, bel Aggie tel. 06 364 04180. Bijdrage € 7
URL:https://bcpz.nl/event/samen-eten-op-woensdag-23/
CATEGORIES:Samen Eten
END:VEVENT
BEGIN:VEVENT
DTSTART;TZID=Europe/Amsterdam:20231214T160000
DTEND;TZID=Europe/Amsterdam:20231214T183000
DTSTAMP:20260420T062843
CREATED:20231009T140755Z
LAST-MODIFIED:20231009T141401Z
UID:1113-1702569600-1702578600@bcpz.nl
SUMMARY:Samen eten op donderdag\, kerstdiner
DESCRIPTION:Josephinehof\, Josephinehof 2A (ingang in Gildestraat)\, Geldrop. Als u nog niet op de lijst staat\, bel Aggie tel. 06 364 04180. Bijdrage € 7
URL:https://bcpz.nl/event/samen-eten-op-donderdag-23/
CATEGORIES:Samen Eten
END:VEVENT
BEGIN:VEVENT
DTSTART;TZID=Europe/Amsterdam:20231115T160000
DTEND;TZID=Europe/Amsterdam:20231115T183000
DTSTAMP:20260420T062843
CREATED:20230513T133106Z
LAST-MODIFIED:20230513T133106Z
UID:1033-1700064000-1700073000@bcpz.nl
SUMMARY:Samen eten op woensdag
DESCRIPTION:Josephinehof\, Josephinehof 2A (ingang in Gildestraat)\, Geldrop. Als u nog niet op de lijst staat\, bel Aggie tel. 06 364 04180. Bijdrage € 7
URL:https://bcpz.nl/event/samen-eten-op-woensdag-22/
CATEGORIES:Samen Eten
END:VEVENT
BEGIN:VEVENT
DTSTART;TZID=Europe/Amsterdam:20231109T160000
DTEND;TZID=Europe/Amsterdam:20231109T183000
DTSTAMP:20260420T062843
CREATED:20230513T132800Z
LAST-MODIFIED:20230513T132800Z
UID:1025-1699545600-1699554600@bcpz.nl
SUMMARY:Samen eten op donderdag
DESCRIPTION:Josephinehof\, Josephinehof 2A (ingang in Gildestraat)\, Geldrop. Als u nog niet op de lijst staat\, bel Aggie tel. 06 364 04180. Bijdrage € 7
URL:https://bcpz.nl/event/samen-eten-op-donderdag-22/
CATEGORIES:Samen Eten
END:VEVENT
BEGIN:VEVENT
DTSTART;TZID=Europe/Amsterdam:20231018T160000
DTEND;TZID=Europe/Amsterdam:20231018T183000
DTSTAMP:20260420T062843
CREATED:20230513T133020Z
LAST-MODIFIED:20230513T133020Z
UID:1031-1697644800-1697653800@bcpz.nl
SUMMARY:Samen eten op woensdag
DESCRIPTION:Josephinehof\, Josephinehof 2A (ingang in Gildestraat)\, Geldrop. Als u nog niet op de lijst staat\, bel Aggie tel. 06 364 04180. Bijdrage € 7
URL:https://bcpz.nl/event/samen-eten-op-woensdag-21/
CATEGORIES:Samen Eten
END:VEVENT
BEGIN:VEVENT
DTSTART;TZID=Europe/Amsterdam:20231012T160000
DTEND;TZID=Europe/Amsterdam:20231012T183000
DTSTAMP:20260420T062843
CREATED:20230513T132647Z
LAST-MODIFIED:20230513T132647Z
UID:1023-1697126400-1697135400@bcpz.nl
SUMMARY:Samen eten op donderdag
DESCRIPTION:Josephinehof\, Josephinehof 2A (ingang in Gildestraat)\, Geldrop. Als u nog niet op de lijst staat\, bel Aggie tel. 06 364 04180. Bijdrage € 7
URL:https://bcpz.nl/event/samen-eten-op-donderdag-21/
CATEGORIES:Samen Eten
END:VEVENT
BEGIN:VEVENT
DTSTART;TZID=Europe/Amsterdam:20230920T160000
DTEND;TZID=Europe/Amsterdam:20230920T183000
DTSTAMP:20260420T062843
CREATED:20230513T132938Z
LAST-MODIFIED:20230513T132938Z
UID:1029-1695225600-1695234600@bcpz.nl
SUMMARY:Samen eten op  woensdag
DESCRIPTION:Josephinehof\, Josephinehof 2A (ingang in Gildestraat)\, Geldrop. Als u nog niet op de lijst staat\, bel Aggie tel. 06 364 04180. Bijdrage € 7
URL:https://bcpz.nl/event/samen-eten-op-woensdag-20/
CATEGORIES:Samen Eten
END:VEVENT
BEGIN:VEVENT
DTSTART;TZID=Europe/Amsterdam:20230914T160000
DTEND;TZID=Europe/Amsterdam:20230914T183000
DTSTAMP:20260420T062843
CREATED:20230513T132607Z
LAST-MODIFIED:20230513T132607Z
UID:1021-1694707200-1694716200@bcpz.nl
SUMMARY:Samen eten op donderdag
DESCRIPTION:Josephinehof\, Josephinehof 2A (ingang in Gildestraat)\, Geldrop. Als u nog niet op de lijst staat\, bel Aggie tel. 06 364 04180. Bijdrage € 7
URL:https://bcpz.nl/event/samen-eten-op-donderdag-20/
CATEGORIES:Samen Eten
END:VEVENT
BEGIN:VEVENT
DTSTART;TZID=Europe/Amsterdam:20230816T160000
DTEND;TZID=Europe/Amsterdam:20230816T183000
DTSTAMP:20260420T062843
CREATED:20230513T132846Z
LAST-MODIFIED:20230513T132846Z
UID:1027-1692201600-1692210600@bcpz.nl
SUMMARY:Samen eten op woensdag
DESCRIPTION:Josephinehof\, Josephinehof 2A (ingang in Gildestraat)\, Geldrop. Als u nog niet op de lijst staat\, bel Aggie tel. 06 364 04180. Bijdrage € 7
URL:https://bcpz.nl/event/samen-eten-op-woensdag-19/
CATEGORIES:Samen Eten
END:VEVENT
BEGIN:VEVENT
DTSTART;TZID=Europe/Amsterdam:20230810T160000
DTEND;TZID=Europe/Amsterdam:20230810T183000
DTSTAMP:20260420T062843
CREATED:20230513T132505Z
LAST-MODIFIED:20230513T132505Z
UID:1019-1691683200-1691692200@bcpz.nl
SUMMARY:Samen eten op donderdag
DESCRIPTION:Josephinehof\, Josephinehof 2A (ingang in Gildestraat)\, Geldrop. Als u nog niet op de lijst staat\, bel Aggie tel. 06 364 04180. Bijdrage € 7
URL:https://bcpz.nl/event/samen-eten-op-donderdag-19/
CATEGORIES:Samen Eten
END:VEVENT
BEGIN:VEVENT
DTSTART;TZID=Europe/Amsterdam:20230719T160000
DTEND;TZID=Europe/Amsterdam:20230719T183000
DTSTAMP:20260420T062843
CREATED:20230211T173734Z
LAST-MODIFIED:20230211T173734Z
UID:873-1689782400-1689791400@bcpz.nl
SUMMARY:Samen eten op woensdag
DESCRIPTION:Josephinehof\, Josephinehof 2A (ingang in Gildestraat)\, Geldrop. Als u nog niet op de lijst staat\, bel Aggie tel. 06 364 04180. Bijdrage € 7
URL:https://bcpz.nl/event/samen-eten-op-woensdag-18/
CATEGORIES:Samen Eten
END:VEVENT
BEGIN:VEVENT
DTSTART;TZID=Europe/Amsterdam:20230713T160000
DTEND;TZID=Europe/Amsterdam:20230713T183000
DTSTAMP:20260420T062843
CREATED:20230211T173406Z
LAST-MODIFIED:20230211T173406Z
UID:865-1689264000-1689273000@bcpz.nl
SUMMARY:Samen eten op donderdag
DESCRIPTION:Josephinehof\, Josephinehof 2A (ingang in Gildestraat)\, Geldrop. Als u nog niet op de lijst staat\, bel Aggie tel. 06 364 04180. Bijdrage € 7
URL:https://bcpz.nl/event/samen-eten-op-donderdag-18/
CATEGORIES:Samen Eten
END:VEVENT
BEGIN:VEVENT
DTSTART;TZID=Europe/Amsterdam:20230614T160000
DTEND;TZID=Europe/Amsterdam:20230614T183000
DTSTAMP:20260420T062843
CREATED:20230211T173633Z
LAST-MODIFIED:20230211T173633Z
UID:871-1686758400-1686767400@bcpz.nl
SUMMARY:Samen eten op woensdag
DESCRIPTION:Josephinehof\, Josephinehof 2A (ingang in Gildestraat)\, Geldrop. Als u nog niet op de lijst staat\, bel Aggie tel. 06 364 04180. Bijdrage € 7
URL:https://bcpz.nl/event/samen-eten-op-woensdag-17/
CATEGORIES:Samen Eten
END:VEVENT
BEGIN:VEVENT
DTSTART;TZID=Europe/Amsterdam:20230608T160000
DTEND;TZID=Europe/Amsterdam:20230608T183000
DTSTAMP:20260420T062843
CREATED:20230211T173317Z
LAST-MODIFIED:20230211T173317Z
UID:863-1686240000-1686249000@bcpz.nl
SUMMARY:Samen eten op donderdag
DESCRIPTION:Josephinehof\, Josephinehof 2A (ingang in Gildestraat)\, Geldrop. Als u nog niet op de lijst staat\, bel Aggie tel. 06 364 04180. Bijdrage € 7
URL:https://bcpz.nl/event/samen-eten-op-donderdag-17/
CATEGORIES:Samen Eten
END:VEVENT
BEGIN:VEVENT
DTSTART;TZID=Europe/Amsterdam:20230517T160000
DTEND;TZID=Europe/Amsterdam:20230517T183000
DTSTAMP:20260420T062843
CREATED:20230211T173554Z
LAST-MODIFIED:20230211T173554Z
UID:869-1684339200-1684348200@bcpz.nl
SUMMARY:Samen eten op woensdag
DESCRIPTION:Josephinehof\, Josephinehof 2A (ingang in Gildestraat)\, Geldrop. Als u nog niet op de lijst staat\, bel Aggie tel. 06 364 04180. Bijdrage € 7
URL:https://bcpz.nl/event/samen-eten-op-woensdag-16/
CATEGORIES:Samen Eten
END:VEVENT
BEGIN:VEVENT
DTSTART;TZID=Europe/Amsterdam:20230511T160000
DTEND;TZID=Europe/Amsterdam:20230511T183000
DTSTAMP:20260420T062843
CREATED:20230211T173237Z
LAST-MODIFIED:20230211T173237Z
UID:861-1683820800-1683829800@bcpz.nl
SUMMARY:Samen eten op donderdag
DESCRIPTION:Josephinehof\, Josephinehof 2A (ingang in Gildestraat)\, Geldrop. Als u nog niet op de lijst staat\, bel Aggie tel. 06 364 04180. Bijdrage € 7
URL:https://bcpz.nl/event/samen-eten-op-donderdag-16/
CATEGORIES:Samen Eten
END:VEVENT
BEGIN:VEVENT
DTSTART;TZID=Europe/Amsterdam:20230419T160000
DTEND;TZID=Europe/Amsterdam:20230419T183000
DTSTAMP:20260420T062843
CREATED:20230211T173503Z
LAST-MODIFIED:20230211T173503Z
UID:867-1681920000-1681929000@bcpz.nl
SUMMARY:Samen eten op woensdag
DESCRIPTION:Josephinehof\, Josephinehof 2A (ingang in Gildestraat)\, Geldrop. Als u nog niet op de lijst staat\, bel Aggie tel. 06 364 04180. Bijdrage € 7
URL:https://bcpz.nl/event/samen-eten-op-woensdag-15/
CATEGORIES:Samen Eten
END:VEVENT
BEGIN:VEVENT
DTSTART;TZID=Europe/Amsterdam:20230413T160000
DTEND;TZID=Europe/Amsterdam:20230413T183000
DTSTAMP:20260420T062843
CREATED:20230211T173152Z
LAST-MODIFIED:20230211T173152Z
UID:859-1681401600-1681410600@bcpz.nl
SUMMARY:Samen eten op donderdag
DESCRIPTION:Josephinehof\, Josephinehof 2A (ingang in Gildestraat)\, Geldrop. Als u nog niet op de lijst staat\, bel Aggie tel. 06 364 04180. Bijdrage € 7
URL:https://bcpz.nl/event/samen-eten-op-donderdag-15/
CATEGORIES:Samen Eten
END:VEVENT
BEGIN:VEVENT
DTSTART;TZID=Europe/Amsterdam:20230315T160000
DTEND;TZID=Europe/Amsterdam:20230315T183000
DTSTAMP:20260420T062843
CREATED:20221115T142459Z
LAST-MODIFIED:20221115T142459Z
UID:691-1678896000-1678905000@bcpz.nl
SUMMARY:Samen eten op woensdag
DESCRIPTION:Josephinehof\, Josephinehof 2A (ingang in Gildestraat)\, Geldrop. Als u nog niet op de lijst staat\, bel Aggie tel. 06 364 04180. Bijdrage € 7
URL:https://bcpz.nl/event/samen-eten-op-woensdag-14/
CATEGORIES:Samen Eten
END:VEVENT
BEGIN:VEVENT
DTSTART;TZID=Europe/Amsterdam:20230309T160000
DTEND;TZID=Europe/Amsterdam:20230309T183000
DTSTAMP:20260420T062843
CREATED:20221115T142424Z
LAST-MODIFIED:20221115T142424Z
UID:689-1678377600-1678386600@bcpz.nl
SUMMARY:Samen eten op donderdag
DESCRIPTION:Josephinehof\, Josephinehof 2A (ingang in Gildestraat)\, Geldrop. Als u nog niet op de lijst staat\, bel Aggie tel. 06 364 04180. Bijdrage € 7
URL:https://bcpz.nl/event/samen-eten-op-donderdag-14/
CATEGORIES:Samen Eten
END:VEVENT
BEGIN:VEVENT
DTSTART;TZID=Europe/Amsterdam:20230215T160000
DTEND;TZID=Europe/Amsterdam:20230215T183000
DTSTAMP:20260420T062843
CREATED:20221115T142336Z
LAST-MODIFIED:20221115T142336Z
UID:687-1676476800-1676485800@bcpz.nl
SUMMARY:Samen eten op woensdag
DESCRIPTION:Josephinehof\, Josephinehof 2A (ingang in Gildestraat)\, Geldrop. Als u nog niet op de lijst staat\, bel Aggie tel. 06 364 04180. Bijdrage € 7
URL:https://bcpz.nl/event/samen-eten-op-woensdag-13/
CATEGORIES:Samen Eten
END:VEVENT
END:VCALENDAR