BEGIN:VCALENDAR
VERSION:2.0
PRODID:-//Buurtcontactpunt Zesgehuchten - ECPv6.15.20//NONSGML v1.0//EN
CALSCALE:GREGORIAN
METHOD:PUBLISH
X-ORIGINAL-URL:https://bcpz.nl
X-WR-CALDESC:Evenementen voor Buurtcontactpunt Zesgehuchten
REFRESH-INTERVAL;VALUE=DURATION:PT1H
X-Robots-Tag:noindex
X-PUBLISHED-TTL:PT1H
BEGIN:VTIMEZONE
TZID:Europe/Amsterdam
BEGIN:DAYLIGHT
TZOFFSETFROM:+0100
TZOFFSETTO:+0200
TZNAME:CEST
DTSTART:20230326T010000
END:DAYLIGHT
BEGIN:STANDARD
TZOFFSETFROM:+0200
TZOFFSETTO:+0100
TZNAME:CET
DTSTART:20231029T010000
END:STANDARD
BEGIN:DAYLIGHT
TZOFFSETFROM:+0100
TZOFFSETTO:+0200
TZNAME:CEST
DTSTART:20240331T010000
END:DAYLIGHT
BEGIN:STANDARD
TZOFFSETFROM:+0200
TZOFFSETTO:+0100
TZNAME:CET
DTSTART:20241027T010000
END:STANDARD
BEGIN:DAYLIGHT
TZOFFSETFROM:+0100
TZOFFSETTO:+0200
TZNAME:CEST
DTSTART:20250330T010000
END:DAYLIGHT
BEGIN:STANDARD
TZOFFSETFROM:+0200
TZOFFSETTO:+0100
TZNAME:CET
DTSTART:20251026T010000
END:STANDARD
BEGIN:DAYLIGHT
TZOFFSETFROM:+0100
TZOFFSETTO:+0200
TZNAME:CEST
DTSTART:20260329T010000
END:DAYLIGHT
BEGIN:STANDARD
TZOFFSETFROM:+0200
TZOFFSETTO:+0100
TZNAME:CET
DTSTART:20261025T010000
END:STANDARD
END:VTIMEZONE
BEGIN:VEVENT
DTSTART;TZID=Europe/Amsterdam:20250416T160000
DTEND;TZID=Europe/Amsterdam:20250416T190000
DTSTAMP:20260420T032627
CREATED:20250107T110114Z
LAST-MODIFIED:20250107T110114Z
UID:1535-1744819200-1744830000@bcpz.nl
SUMMARY:Samen eten op woensdag
DESCRIPTION:Josephinehof\, Josephinehof 2A (ingang in Gildestraat)\, Geldrop. Als u nog niet op de lijst staat\, bel Aggie tel. 06 364 04180. Bijdrage € 7\,50
URL:https://bcpz.nl/event/samen-eten-op-woensdag-38/
CATEGORIES:Samen Eten
END:VEVENT
BEGIN:VEVENT
DTSTART;TZID=Europe/Amsterdam:20250410T160000
DTEND;TZID=Europe/Amsterdam:20250410T190000
DTSTAMP:20260420T032627
CREATED:20250107T105916Z
LAST-MODIFIED:20250107T105916Z
UID:1529-1744300800-1744311600@bcpz.nl
SUMMARY:Samen eten op donderdag
DESCRIPTION:Josephinehof\, Josephinehof 2A (ingang in Gildestraat)\, Geldrop. Als u nog niet op de lijst staat\, bel Aggie tel. 06 364 04180. Bijdrage € 7\,50
URL:https://bcpz.nl/event/samen-eten-op-donderdag-38/
CATEGORIES:Samen Eten
END:VEVENT
BEGIN:VEVENT
DTSTART;TZID=Europe/Amsterdam:20250319T160000
DTEND;TZID=Europe/Amsterdam:20250319T190000
DTSTAMP:20260420T032627
CREATED:20250107T110039Z
LAST-MODIFIED:20250107T110039Z
UID:1533-1742400000-1742410800@bcpz.nl
SUMMARY:Samen eten op woensdag
DESCRIPTION:Josephinehof\, Josephinehof 2A (ingang in Gildestraat)\, Geldrop. Als u nog niet op de lijst staat\, bel Aggie tel. 06 364 04180. Bijdrage € 7\,50
URL:https://bcpz.nl/event/samen-eten-op-woensdag-37/
CATEGORIES:Samen Eten
END:VEVENT
BEGIN:VEVENT
DTSTART;TZID=Europe/Amsterdam:20250313T160000
DTEND;TZID=Europe/Amsterdam:20250313T190000
DTSTAMP:20260420T032627
CREATED:20250107T105803Z
LAST-MODIFIED:20250107T105803Z
UID:1527-1741881600-1741892400@bcpz.nl
SUMMARY:Samen eten op donderdag
DESCRIPTION:Josephinehof\, Josephinehof 2A (ingang in Gildestraat)\, Geldrop. Als u nog niet op de lijst staat\, bel Aggie tel. 06 364 04180. Bijdrage € 7\,50
URL:https://bcpz.nl/event/samen-eten-op-donderdag-37/
CATEGORIES:Samen Eten
END:VEVENT
BEGIN:VEVENT
DTSTART;TZID=Europe/Amsterdam:20250219T160000
DTEND;TZID=Europe/Amsterdam:20250219T190000
DTSTAMP:20260420T032627
CREATED:20241116T152952Z
LAST-MODIFIED:20250105T122555Z
UID:1505-1739980800-1739991600@bcpz.nl
SUMMARY:Samen eten op woensdag
DESCRIPTION:Josephinehof\, Josephinehof 2A (ingang in Gildestraat)\, Geldrop. Als u nog niet op de lijst staat\, bel Aggie tel. 06 364 04180. Bijdrage € 7\,50
URL:https://bcpz.nl/event/samen-eten-op-woensdag-36/
LOCATION:Josephinehof\, Josephinehof 2A (ingang in Gildestraat)\, Geldrop\, NB\, Nederland
CATEGORIES:Samen Eten
END:VEVENT
BEGIN:VEVENT
DTSTART;TZID=Europe/Amsterdam:20250213T160000
DTEND;TZID=Europe/Amsterdam:20250213T190000
DTSTAMP:20260420T032627
CREATED:20241116T152758Z
LAST-MODIFIED:20241116T152758Z
UID:1500-1739462400-1739473200@bcpz.nl
SUMMARY:Samen eten op donderdag
DESCRIPTION:Josephinehof\, Josephinehof 2A (ingang in Gildestraat)\, Geldrop. Als u nog niet op de lijst staat\, bel Aggie tel. 06 364 04180. Bijdrage € 7\,50
URL:https://bcpz.nl/event/samen-eten-op-donderdag-36/
CATEGORIES:Samen Eten
END:VEVENT
BEGIN:VEVENT
DTSTART;TZID=Europe/Amsterdam:20250115T160000
DTEND;TZID=Europe/Amsterdam:20250115T190000
DTSTAMP:20260420T032627
CREATED:20241116T152910Z
LAST-MODIFIED:20241116T152910Z
UID:1503-1736956800-1736967600@bcpz.nl
SUMMARY:Samen eten op woensdag
DESCRIPTION:Josephinehof\, Josephinehof 2A (ingang in Gildestraat)\, Geldrop. Als u nog niet op de lijst staat\, bel Aggie tel. 06 364 04180. Bijdrage € 7\,50
URL:https://bcpz.nl/event/samen-eten-op-woensdag-35/
CATEGORIES:Samen Eten
END:VEVENT
BEGIN:VEVENT
DTSTART;TZID=Europe/Amsterdam:20250109T160000
DTEND;TZID=Europe/Amsterdam:20250109T190000
DTSTAMP:20260420T032627
CREATED:20241116T152712Z
LAST-MODIFIED:20241116T152826Z
UID:1498-1736438400-1736449200@bcpz.nl
SUMMARY:Samen eten op donderdag
DESCRIPTION:Josephinehof\, Josephinehof 2A (ingang in Gildestraat)\, Geldrop. Als u nog niet op de lijst staat\, bel Aggie tel. 06 364 04180. Bijdrage € 7\,50
URL:https://bcpz.nl/event/samen-eten-op-donderdag-35/
CATEGORIES:Samen Eten
END:VEVENT
BEGIN:VEVENT
DTSTART;TZID=Europe/Amsterdam:20241218T160000
DTEND;TZID=Europe/Amsterdam:20241218T190000
DTSTAMP:20260420T032627
CREATED:20241010T075254Z
LAST-MODIFIED:20241010T075254Z
UID:1463-1734537600-1734548400@bcpz.nl
SUMMARY:Samen eten op woensdag\, kerstdiner
DESCRIPTION:Josephinehof\, Josephinehof 2A (ingang in Gildestraat)\, Geldrop. Als u nog niet op de lijst staat\, bel Aggie tel. 06 364 04180. Bijdrage € 7
URL:https://bcpz.nl/event/samen-eten-op-woensdag-kerstdiner/
CATEGORIES:Samen Eten
END:VEVENT
BEGIN:VEVENT
DTSTART;TZID=Europe/Amsterdam:20241212T160000
DTEND;TZID=Europe/Amsterdam:20241212T190000
DTSTAMP:20260420T032627
CREATED:20241010T075219Z
LAST-MODIFIED:20241010T075219Z
UID:1461-1734019200-1734030000@bcpz.nl
SUMMARY:Samen eten op donderdag\, kerstdiner
DESCRIPTION:Josephinehof\, Josephinehof 2A (ingang in Gildestraat)\, Geldrop. Als u nog niet op de lijst staat\, bel Aggie tel. 06 364 04180. Bijdrage € 7
URL:https://bcpz.nl/event/samen-eten-op-donderdag-kerstdiner/
CATEGORIES:Samen Eten
END:VEVENT
BEGIN:VEVENT
DTSTART;TZID=Europe/Amsterdam:20241120T160000
DTEND;TZID=Europe/Amsterdam:20241120T190000
DTSTAMP:20260420T032627
CREATED:20241010T074831Z
LAST-MODIFIED:20241010T074831Z
UID:1459-1732118400-1732129200@bcpz.nl
SUMMARY:Samen eten op woensdag
DESCRIPTION:Josephinehof\, Josephinehof 2A (ingang in Gildestraat)\, Geldrop. Als u nog niet op de lijst staat\, bel Aggie tel. 06 364 04180. Bijdrage € 7
URL:https://bcpz.nl/event/samen-eten-op-woensdag-34/
CATEGORIES:Samen Eten
END:VEVENT
BEGIN:VEVENT
DTSTART;TZID=Europe/Amsterdam:20241114T160000
DTEND;TZID=Europe/Amsterdam:20241114T190000
DTSTAMP:20260420T032627
CREATED:20241010T074705Z
LAST-MODIFIED:20241010T074705Z
UID:1455-1731600000-1731610800@bcpz.nl
SUMMARY:Samen eten op donderdag
DESCRIPTION:Josephinehof\, Josephinehof 2A (ingang in Gildestraat)\, Geldrop. Als u nog niet op de lijst staat\, bel Aggie tel. 06 364 04180. Bijdrage € 7
URL:https://bcpz.nl/event/samen-eten-op-donderdag-34/
CATEGORIES:Samen Eten
END:VEVENT
BEGIN:VEVENT
DTSTART;TZID=Europe/Amsterdam:20241016T160000
DTEND;TZID=Europe/Amsterdam:20241016T190000
DTSTAMP:20260420T032627
CREATED:20241010T074749Z
LAST-MODIFIED:20241010T074749Z
UID:1457-1729094400-1729105200@bcpz.nl
SUMMARY:Samen eten op woensdag
DESCRIPTION:Josephinehof\, Josephinehof 2A (ingang in Gildestraat)\, Geldrop. Als u nog niet op de lijst staat\, bel Aggie tel. 06 364 04180. Bijdrage € 7
URL:https://bcpz.nl/event/samen-eten-op-woensdag-33/
CATEGORIES:Samen Eten
END:VEVENT
BEGIN:VEVENT
DTSTART;TZID=Europe/Amsterdam:20241010T160000
DTEND;TZID=Europe/Amsterdam:20241010T190000
DTSTAMP:20260420T032627
CREATED:20241010T074622Z
LAST-MODIFIED:20241010T074622Z
UID:1453-1728576000-1728586800@bcpz.nl
SUMMARY:Samen eten op donderdag
DESCRIPTION:Josephinehof\, Josephinehof 2A (ingang in Gildestraat)\, Geldrop. Als u nog niet op de lijst staat\, bel Aggie tel. 06 364 04180. Bijdrage € 7
URL:https://bcpz.nl/event/samen-eten-op-donderdag-33/
CATEGORIES:Samen Eten
END:VEVENT
BEGIN:VEVENT
DTSTART;TZID=Europe/Amsterdam:20240918T160000
DTEND;TZID=Europe/Amsterdam:20240918T183000
DTSTAMP:20260420T032627
CREATED:20240424T181859Z
LAST-MODIFIED:20240424T181859Z
UID:1375-1726675200-1726684200@bcpz.nl
SUMMARY:Samen eten op woensdag
DESCRIPTION:Josephinehof\, Josephinehof 2A (ingang in Gildestraat)\, Geldrop. Als u nog niet op de lijst staat\, bel Aggie tel. 06 364 04180. Bijdrage € 7
URL:https://bcpz.nl/event/samen-eten-op-woensdag-32/
CATEGORIES:Samen Eten
END:VEVENT
BEGIN:VEVENT
DTSTART;TZID=Europe/Amsterdam:20240912T160000
DTEND;TZID=Europe/Amsterdam:20240912T183000
DTSTAMP:20260420T032627
CREATED:20240424T181622Z
LAST-MODIFIED:20240424T181622Z
UID:1367-1726156800-1726165800@bcpz.nl
SUMMARY:Samen eten op donderdag
DESCRIPTION:Josephinehof\, Josephinehof 2A (ingang in Gildestraat)\, Geldrop. Als u nog niet op de lijst staat\, bel Aggie tel. 06 364 04180. Bijdrage € 7
URL:https://bcpz.nl/event/samen-eten-op-donderdag-32/
CATEGORIES:Samen Eten
END:VEVENT
BEGIN:VEVENT
DTSTART;TZID=Europe/Amsterdam:20240814T160000
DTEND;TZID=Europe/Amsterdam:20240814T183000
DTSTAMP:20260420T032627
CREATED:20240424T181827Z
LAST-MODIFIED:20240424T181827Z
UID:1373-1723651200-1723660200@bcpz.nl
SUMMARY:Samen eten op woensdag
DESCRIPTION:Josephinehof\, Josephinehof 2A (ingang in Gildestraat)\, Geldrop. Als u nog niet op de lijst staat\, bel Aggie tel. 06 364 04180. Bijdrage € 7
URL:https://bcpz.nl/event/samen-eten-op-woensdag-31/
CATEGORIES:Samen Eten
END:VEVENT
BEGIN:VEVENT
DTSTART;TZID=Europe/Amsterdam:20240808T160000
DTEND;TZID=Europe/Amsterdam:20240808T183000
DTSTAMP:20260420T032627
CREATED:20240424T181549Z
LAST-MODIFIED:20240424T181549Z
UID:1365-1723132800-1723141800@bcpz.nl
SUMMARY:Samen eten op donderdag
DESCRIPTION:Josephinehof\, Josephinehof 2A (ingang in Gildestraat)\, Geldrop. Als u nog niet op de lijst staat\, bel Aggie tel. 06 364 04180. Bijdrage € 7
URL:https://bcpz.nl/event/samen-eten-op-donderdag-31/
CATEGORIES:Samen Eten
END:VEVENT
BEGIN:VEVENT
DTSTART;TZID=Europe/Amsterdam:20240717T160000
DTEND;TZID=Europe/Amsterdam:20240717T183000
DTSTAMP:20260420T032627
CREATED:20240424T181752Z
LAST-MODIFIED:20240424T181752Z
UID:1371-1721232000-1721241000@bcpz.nl
SUMMARY:Samen eten op woensdag
DESCRIPTION:Josephinehof\, Josephinehof 2A (ingang in Gildestraat)\, Geldrop. Als u nog niet op de lijst staat\, bel Aggie tel. 06 364 04180. Bijdrage € 7
URL:https://bcpz.nl/event/samen-eten-op-woensdag-30/
CATEGORIES:Samen Eten
END:VEVENT
BEGIN:VEVENT
DTSTART;TZID=Europe/Amsterdam:20240711T160000
DTEND;TZID=Europe/Amsterdam:20240711T183000
DTSTAMP:20260420T032627
CREATED:20240424T181506Z
LAST-MODIFIED:20240424T181506Z
UID:1363-1720713600-1720722600@bcpz.nl
SUMMARY:Samen eten op donderdag
DESCRIPTION:Josephinehof\, Josephinehof 2A (ingang in Gildestraat)\, Geldrop. Als u nog niet op de lijst staat\, bel Aggie tel. 06 364 04180. Bijdrage € 7
URL:https://bcpz.nl/event/samen-eten-op-donderdag-30/
CATEGORIES:Samen Eten
END:VEVENT
BEGIN:VEVENT
DTSTART;TZID=Europe/Amsterdam:20240619T160000
DTEND;TZID=Europe/Amsterdam:20240619T183000
DTSTAMP:20260420T032627
CREATED:20240424T181717Z
LAST-MODIFIED:20240424T181717Z
UID:1369-1718812800-1718821800@bcpz.nl
SUMMARY:Samen eten op woensdag
DESCRIPTION:Josephinehof\, Josephinehof 2A (ingang in Gildestraat)\, Geldrop. Als u nog niet op de lijst staat\, bel Aggie tel. 06 364 04180. Bijdrage € 7
URL:https://bcpz.nl/event/samen-eten-op-woensdag-29/
CATEGORIES:Samen Eten
END:VEVENT
BEGIN:VEVENT
DTSTART;TZID=Europe/Amsterdam:20240613T160000
DTEND;TZID=Europe/Amsterdam:20240613T183000
DTSTAMP:20260420T032627
CREATED:20240424T181425Z
LAST-MODIFIED:20240424T181425Z
UID:1361-1718294400-1718303400@bcpz.nl
SUMMARY:Samen eten op donderdag
DESCRIPTION:Josephinehof\, Josephinehof 2A (ingang in Gildestraat)\, Geldrop. Als u nog niet op de lijst staat\, bel Aggie tel. 06 364 04180. Bijdrage € 7
URL:https://bcpz.nl/event/samen-eten-op-donderdag-29/
CATEGORIES:Samen Eten
END:VEVENT
BEGIN:VEVENT
DTSTART;TZID=Europe/Amsterdam:20240515T160000
DTEND;TZID=Europe/Amsterdam:20240515T183000
DTSTAMP:20260420T032627
CREATED:20240220T101102Z
LAST-MODIFIED:20240220T101102Z
UID:1264-1715788800-1715797800@bcpz.nl
SUMMARY:Samen eten op woensdag
DESCRIPTION:Josephinehof\, Josephinehof 2A (ingang in Gildestraat)\, Geldrop. Als u nog niet op de lijst staat\, bel Aggie tel. 06 364 04180. Bijdrage € 7
URL:https://bcpz.nl/event/samen-eten-op-woensdag-28/
CATEGORIES:Samen Eten
END:VEVENT
BEGIN:VEVENT
DTSTART;TZID=Europe/Amsterdam:20240509T000000
DTEND;TZID=Europe/Amsterdam:20240509T000000
DTSTAMP:20260420T032627
CREATED:20240220T111215Z
LAST-MODIFIED:20240220T111215Z
UID:1269-1715212800-1715212800@bcpz.nl
SUMMARY:Samen eten op donderdag verplaatst naar 2 mei
DESCRIPTION:Vanwege Hemelvaartsdag is het Samen eten op donderdag verplaatst van donderdag 9 mei naar donderdag 2 mei
URL:https://bcpz.nl/event/samen-eten-op-donderdag-verplaatst-naar-2-mei/
CATEGORIES:Samen Eten
END:VEVENT
BEGIN:VEVENT
DTSTART;TZID=Europe/Amsterdam:20240502T160000
DTEND;TZID=Europe/Amsterdam:20240502T183000
DTSTAMP:20260420T032627
CREATED:20240220T100751Z
LAST-MODIFIED:20240220T111034Z
UID:1256-1714665600-1714674600@bcpz.nl
SUMMARY:Samen eten op donderdag
DESCRIPTION:Josephinehof\, Josephinehof 2A (ingang in Gildestraat)\, Geldrop. Als u nog niet op de lijst staat\, bel Aggie tel. 06 364 04180. Bijdrage € 7
URL:https://bcpz.nl/event/samen-eten-op-donderdag-28/
CATEGORIES:Samen Eten
END:VEVENT
BEGIN:VEVENT
DTSTART;TZID=Europe/Amsterdam:20240417T160000
DTEND;TZID=Europe/Amsterdam:20240417T183000
DTSTAMP:20260420T032627
CREATED:20240220T101031Z
LAST-MODIFIED:20240220T101031Z
UID:1262-1713369600-1713378600@bcpz.nl
SUMMARY:Samen eten op woensdag
DESCRIPTION:Josephinehof\, Josephinehof 2A (ingang in Gildestraat)\, Geldrop. Als u nog niet op de lijst staat\, bel Aggie tel. 06 364 04180. Bijdrage € 7
URL:https://bcpz.nl/event/samen-eten-op-woensdag-27/
CATEGORIES:Samen Eten
END:VEVENT
BEGIN:VEVENT
DTSTART;TZID=Europe/Amsterdam:20240411T160000
DTEND;TZID=Europe/Amsterdam:20240411T183000
DTSTAMP:20260420T032627
CREATED:20240220T100717Z
LAST-MODIFIED:20240220T100717Z
UID:1254-1712851200-1712860200@bcpz.nl
SUMMARY:Samen eten op donderdag
DESCRIPTION:Josephinehof\, Josephinehof 2A (ingang in Gildestraat)\, Geldrop. Als u nog niet op de lijst staat\, bel Aggie tel. 06 364 04180. Bijdrage € 7
URL:https://bcpz.nl/event/samen-eten-op-donderdag-27/
CATEGORIES:Samen Eten
END:VEVENT
BEGIN:VEVENT
DTSTART;TZID=Europe/Amsterdam:20240320T160000
DTEND;TZID=Europe/Amsterdam:20240320T183000
DTSTAMP:20260420T032627
CREATED:20240220T100833Z
LAST-MODIFIED:20240220T100833Z
UID:1258-1710950400-1710959400@bcpz.nl
SUMMARY:Samen eten op woensdag
DESCRIPTION:Josephinehof\, Josephinehof 2A (ingang in Gildestraat)\, Geldrop. Als u nog niet op de lijst staat\, bel Aggie tel. 06 364 04180. Bijdrage € 7
URL:https://bcpz.nl/event/samen-eten-op-woensdag-26/
CATEGORIES:Samen Eten
END:VEVENT
BEGIN:VEVENT
DTSTART;TZID=Europe/Amsterdam:20240314T160000
DTEND;TZID=Europe/Amsterdam:20240314T183000
DTSTAMP:20260420T032627
CREATED:20240220T100632Z
LAST-MODIFIED:20240220T100632Z
UID:1252-1710432000-1710441000@bcpz.nl
SUMMARY:Samen eten op donderdag
DESCRIPTION:Josephinehof\, Josephinehof 2A (ingang in Gildestraat)\, Geldrop. Als u nog niet op de lijst staat\, bel Aggie tel. 06 364 04180. Bijdrage € 7
URL:https://bcpz.nl/event/samen-eten-op-donderdag-26/
CATEGORIES:Samen Eten
END:VEVENT
BEGIN:VEVENT
DTSTART;TZID=Europe/Amsterdam:20240214T160000
DTEND;TZID=Europe/Amsterdam:20240214T183000
DTSTAMP:20260420T032627
CREATED:20231009T140628Z
LAST-MODIFIED:20231009T140628Z
UID:1111-1707926400-1707935400@bcpz.nl
SUMMARY:Samen eten op woensdag
DESCRIPTION:Josephinehof\, Josephinehof 2A (ingang in Gildestraat)\, Geldrop. Als u nog niet op de lijst staat\, bel Aggie tel. 06 364 04180. Bijdrage € 7
URL:https://bcpz.nl/event/samen-eten-op-woensdag-25/
CATEGORIES:Samen Eten
END:VEVENT
END:VCALENDAR