BEGIN:VCALENDAR
VERSION:2.0
PRODID:-//Buurtcontactpunt Zesgehuchten - ECPv6.15.20//NONSGML v1.0//EN
CALSCALE:GREGORIAN
METHOD:PUBLISH
X-ORIGINAL-URL:https://bcpz.nl
X-WR-CALDESC:Evenementen voor Buurtcontactpunt Zesgehuchten
REFRESH-INTERVAL;VALUE=DURATION:PT1H
X-Robots-Tag:noindex
X-PUBLISHED-TTL:PT1H
BEGIN:VTIMEZONE
TZID:Europe/Amsterdam
BEGIN:DAYLIGHT
TZOFFSETFROM:+0100
TZOFFSETTO:+0200
TZNAME:CEST
DTSTART:20230326T010000
END:DAYLIGHT
BEGIN:STANDARD
TZOFFSETFROM:+0200
TZOFFSETTO:+0100
TZNAME:CET
DTSTART:20231029T010000
END:STANDARD
BEGIN:DAYLIGHT
TZOFFSETFROM:+0100
TZOFFSETTO:+0200
TZNAME:CEST
DTSTART:20240331T010000
END:DAYLIGHT
BEGIN:STANDARD
TZOFFSETFROM:+0200
TZOFFSETTO:+0100
TZNAME:CET
DTSTART:20241027T010000
END:STANDARD
BEGIN:DAYLIGHT
TZOFFSETFROM:+0100
TZOFFSETTO:+0200
TZNAME:CEST
DTSTART:20250330T010000
END:DAYLIGHT
BEGIN:STANDARD
TZOFFSETFROM:+0200
TZOFFSETTO:+0100
TZNAME:CET
DTSTART:20251026T010000
END:STANDARD
END:VTIMEZONE
BEGIN:VEVENT
DTSTART;TZID=Europe/Amsterdam:20240902T100000
DTEND;TZID=Europe/Amsterdam:20240902T120000
DTSTAMP:20260420T062016
CREATED:20240424T180059Z
LAST-MODIFIED:20240424T180059Z
UID:1319-1725271200-1725278400@bcpz.nl
SUMMARY:Inloop met koffie en thee
DESCRIPTION:Josephinehof\, Josephinehof 2A (ingang in Gildestraat)\, Geldrop. Aanmelden hoeft niet\, kom gezellig langs. bijdrage 3 euro
URL:https://bcpz.nl/event/inloop-met-koffie-en-thee-123/
CATEGORIES:Inloop
END:VEVENT
BEGIN:VEVENT
DTSTART;TZID=Europe/Amsterdam:20240826T100000
DTEND;TZID=Europe/Amsterdam:20240826T120000
DTSTAMP:20260420T062016
CREATED:20240424T180013Z
LAST-MODIFIED:20240424T180013Z
UID:1317-1724666400-1724673600@bcpz.nl
SUMMARY:Inloop met koffie en thee
DESCRIPTION:Josephinehof\, Josephinehof 2A (ingang in Gildestraat)\, Geldrop. Aanmelden hoeft niet\, kom gezellig langs. bijdrage 3 euro
URL:https://bcpz.nl/event/inloop-met-koffie-en-thee-122/
CATEGORIES:Inloop
END:VEVENT
BEGIN:VEVENT
DTSTART;TZID=Europe/Amsterdam:20240819T100000
DTEND;TZID=Europe/Amsterdam:20240819T120000
DTSTAMP:20260420T062016
CREATED:20240424T175931Z
LAST-MODIFIED:20240424T175931Z
UID:1315-1724061600-1724068800@bcpz.nl
SUMMARY:Inloop met koffie en thee
DESCRIPTION:Josephinehof\, Josephinehof 2A (ingang in Gildestraat)\, Geldrop. Aanmelden hoeft niet\, kom gezellig langs. bijdrage 3 euro
URL:https://bcpz.nl/event/inloop-met-koffie-en-thee-121/
CATEGORIES:Inloop
END:VEVENT
BEGIN:VEVENT
DTSTART;TZID=Europe/Amsterdam:20240812T100000
DTEND;TZID=Europe/Amsterdam:20240812T120000
DTSTAMP:20260420T062016
CREATED:20240424T175844Z
LAST-MODIFIED:20240424T175844Z
UID:1313-1723456800-1723464000@bcpz.nl
SUMMARY:Inloop met koffie en thee
DESCRIPTION:Josephinehof\, Josephinehof 2A (ingang in Gildestraat)\, Geldrop. Aanmelden hoeft niet\, kom gezellig langs. bijdrage 3 euro
URL:https://bcpz.nl/event/inloop-met-koffie-en-thee-120/
CATEGORIES:Inloop
END:VEVENT
BEGIN:VEVENT
DTSTART;TZID=Europe/Amsterdam:20240805T100000
DTEND;TZID=Europe/Amsterdam:20240805T120000
DTSTAMP:20260420T062016
CREATED:20240424T175806Z
LAST-MODIFIED:20240424T175806Z
UID:1311-1722852000-1722859200@bcpz.nl
SUMMARY:Inloop met koffie en thee
DESCRIPTION:Josephinehof\, Josephinehof 2A (ingang in Gildestraat)\, Geldrop. Aanmelden hoeft niet\, kom gezellig langs. bijdrage 3 euro
URL:https://bcpz.nl/event/inloop-met-koffie-en-thee-119/
CATEGORIES:Inloop
END:VEVENT
BEGIN:VEVENT
DTSTART;TZID=Europe/Amsterdam:20240729T100000
DTEND;TZID=Europe/Amsterdam:20240729T120000
DTSTAMP:20260420T062016
CREATED:20240424T175651Z
LAST-MODIFIED:20240424T175651Z
UID:1307-1722247200-1722254400@bcpz.nl
SUMMARY:Inloop met koffie en thee
DESCRIPTION:Josephinehof\, Josephinehof 2A (ingang in Gildestraat)\, Geldrop. Aanmelden hoeft niet\, kom gezellig langs. bijdrage 3 euro
URL:https://bcpz.nl/event/inloop-met-koffie-en-thee-117/
CATEGORIES:Inloop
END:VEVENT
BEGIN:VEVENT
DTSTART;TZID=Europe/Amsterdam:20240722T100000
DTEND;TZID=Europe/Amsterdam:20240722T120000
DTSTAMP:20260420T062016
CREATED:20240424T175731Z
LAST-MODIFIED:20240424T175731Z
UID:1309-1721642400-1721649600@bcpz.nl
SUMMARY:Inloop met koffie en thee
DESCRIPTION:Josephinehof\, Josephinehof 2A (ingang in Gildestraat)\, Geldrop. Aanmelden hoeft niet\, kom gezellig langs. bijdrage 3 euro
URL:https://bcpz.nl/event/inloop-met-koffie-en-thee-118/
CATEGORIES:Inloop
END:VEVENT
BEGIN:VEVENT
DTSTART;TZID=Europe/Amsterdam:20240715T100000
DTEND;TZID=Europe/Amsterdam:20240715T120000
DTSTAMP:20260420T062016
CREATED:20240424T175614Z
LAST-MODIFIED:20240424T175614Z
UID:1305-1721037600-1721044800@bcpz.nl
SUMMARY:Inloop met koffie en thee
DESCRIPTION:Josephinehof\, Josephinehof 2A (ingang in Gildestraat)\, Geldrop. Aanmelden hoeft niet\, kom gezellig langs. bijdrage 3 euro
URL:https://bcpz.nl/event/inloop-met-koffie-en-thee-116/
CATEGORIES:Inloop
END:VEVENT
BEGIN:VEVENT
DTSTART;TZID=Europe/Amsterdam:20240708T100000
DTEND;TZID=Europe/Amsterdam:20240708T120000
DTSTAMP:20260420T062016
CREATED:20240424T175538Z
LAST-MODIFIED:20240424T175538Z
UID:1303-1720432800-1720440000@bcpz.nl
SUMMARY:Inloop met koffie en thee
DESCRIPTION:Josephinehof\, Josephinehof 2A (ingang in Gildestraat)\, Geldrop. Aanmelden hoeft niet\, kom gezellig langs. bijdrage 3 euro
URL:https://bcpz.nl/event/inloop-met-koffie-en-thee-115/
CATEGORIES:Inloop
END:VEVENT
BEGIN:VEVENT
DTSTART;TZID=Europe/Amsterdam:20240701T100000
DTEND;TZID=Europe/Amsterdam:20240701T120000
DTSTAMP:20260420T062016
CREATED:20240424T175506Z
LAST-MODIFIED:20240424T175506Z
UID:1301-1719828000-1719835200@bcpz.nl
SUMMARY:Inloop met koffie en thee
DESCRIPTION:Josephinehof\, Josephinehof 2A (ingang in Gildestraat)\, Geldrop. Aanmelden hoeft niet\, kom gezellig langs. bijdrage 3 euro
URL:https://bcpz.nl/event/inloop-met-koffie-en-thee-114/
CATEGORIES:Inloop
END:VEVENT
BEGIN:VEVENT
DTSTART;TZID=Europe/Amsterdam:20240624T100000
DTEND;TZID=Europe/Amsterdam:20240624T120000
DTSTAMP:20260420T062016
CREATED:20240424T175406Z
LAST-MODIFIED:20240424T175406Z
UID:1299-1719223200-1719230400@bcpz.nl
SUMMARY:Inloop met koffie en thee
DESCRIPTION:Josephinehof\, Josephinehof 2A (ingang in Gildestraat)\, Geldrop. Aanmelden hoeft niet\, kom gezellig langs. bijdrage 3 euro
URL:https://bcpz.nl/event/inloop-met-koffie-en-thee-113/
CATEGORIES:Inloop
END:VEVENT
BEGIN:VEVENT
DTSTART;TZID=Europe/Amsterdam:20240617T100000
DTEND;TZID=Europe/Amsterdam:20240617T120000
DTSTAMP:20260420T062016
CREATED:20240424T174746Z
LAST-MODIFIED:20240424T174746Z
UID:1297-1718618400-1718625600@bcpz.nl
SUMMARY:Inloop met koffie en thee
DESCRIPTION:Josephinehof\, Josephinehof 2A (ingang in Gildestraat)\, Geldrop. Aanmelden hoeft niet\, kom gezellig langs. bijdrage 3 euro
URL:https://bcpz.nl/event/inloop-met-koffie-en-thee-112/
CATEGORIES:Inloop
END:VEVENT
BEGIN:VEVENT
DTSTART;TZID=Europe/Amsterdam:20240610T100000
DTEND;TZID=Europe/Amsterdam:20240610T120000
DTSTAMP:20260420T062016
CREATED:20240424T174708Z
LAST-MODIFIED:20240424T174708Z
UID:1295-1718013600-1718020800@bcpz.nl
SUMMARY:Inloop met koffie en thee
DESCRIPTION:Josephinehof\, Josephinehof 2A (ingang in Gildestraat)\, Geldrop. Aanmelden hoeft niet\, kom gezellig langs. bijdrage 3 euro
URL:https://bcpz.nl/event/inloop-met-koffie-en-thee-111/
CATEGORIES:Inloop
END:VEVENT
BEGIN:VEVENT
DTSTART;TZID=Europe/Amsterdam:20240603T100000
DTEND;TZID=Europe/Amsterdam:20240603T120000
DTSTAMP:20260420T062016
CREATED:20240424T174629Z
LAST-MODIFIED:20240424T174629Z
UID:1293-1717408800-1717416000@bcpz.nl
SUMMARY:Inloop met koffie en thee
DESCRIPTION:Josephinehof\, Josephinehof 2A (ingang in Gildestraat)\, Geldrop. Aanmelden hoeft niet\, kom gezellig langs. bijdrage 3 euro
URL:https://bcpz.nl/event/inloop-met-koffie-en-thee-110/
CATEGORIES:Inloop
END:VEVENT
BEGIN:VEVENT
DTSTART;TZID=Europe/Amsterdam:20240527T100000
DTEND;TZID=Europe/Amsterdam:20240527T120000
DTSTAMP:20260420T062016
CREATED:20240220T100411Z
LAST-MODIFIED:20240220T100411Z
UID:1249-1716804000-1716811200@bcpz.nl
SUMMARY:Inloop met koffie en thee
DESCRIPTION:Josephinehof\, Josephinehof 2A (ingang in Gildestraat)\, Geldrop. Aanmelden hoeft niet\, kom gezellig langs. bijdrage 3 euro
URL:https://bcpz.nl/event/inloop-met-koffie-en-thee-109/
CATEGORIES:Inloop
END:VEVENT
BEGIN:VEVENT
DTSTART;TZID=Europe/Amsterdam:20240520T000000
DTEND;TZID=Europe/Amsterdam:20240520T000000
DTSTAMP:20260420T062016
CREATED:20240220T100340Z
LAST-MODIFIED:20240220T111343Z
UID:1247-1716163200-1716163200@bcpz.nl
SUMMARY:Geen activiteit vanwege Tweede Pinksterdag
DESCRIPTION:
URL:https://bcpz.nl/event/inloop-met-koffie-en-thee-108/
CATEGORIES:Inloop
END:VEVENT
BEGIN:VEVENT
DTSTART;TZID=Europe/Amsterdam:20240513T100000
DTEND;TZID=Europe/Amsterdam:20240513T120000
DTSTAMP:20260420T062016
CREATED:20240220T100311Z
LAST-MODIFIED:20240220T100311Z
UID:1245-1715594400-1715601600@bcpz.nl
SUMMARY:Inloop met koffie en thee
DESCRIPTION:Josephinehof\, Josephinehof 2A (ingang in Gildestraat)\, Geldrop. Aanmelden hoeft niet\, kom gezellig langs. bijdrage 3 euro
URL:https://bcpz.nl/event/inloop-met-koffie-en-thee-107/
CATEGORIES:Inloop
END:VEVENT
BEGIN:VEVENT
DTSTART;TZID=Europe/Amsterdam:20240513T100000
DTEND;TZID=Europe/Amsterdam:20240513T120000
DTSTAMP:20260420T062016
CREATED:20240220T100240Z
LAST-MODIFIED:20240220T100240Z
UID:1243-1715594400-1715601600@bcpz.nl
SUMMARY:Inloop met koffie en thee
DESCRIPTION:Josephinehof\, Josephinehof 2A (ingang in Gildestraat)\, Geldrop. Aanmelden hoeft niet\, kom gezellig langs. bijdrage 3 euro
URL:https://bcpz.nl/event/inloop-met-koffie-en-thee-106/
CATEGORIES:Inloop
END:VEVENT
BEGIN:VEVENT
DTSTART;TZID=Europe/Amsterdam:20240506T100000
DTEND;TZID=Europe/Amsterdam:20240506T120000
DTSTAMP:20260420T062016
CREATED:20240220T100203Z
LAST-MODIFIED:20240220T100203Z
UID:1241-1714989600-1714996800@bcpz.nl
SUMMARY:Inloop met koffie en thee
DESCRIPTION:Josephinehof\, Josephinehof 2A (ingang in Gildestraat)\, Geldrop. Aanmelden hoeft niet\, kom gezellig langs. bijdrage 3 euro
URL:https://bcpz.nl/event/inloop-met-koffie-en-thee-105/
CATEGORIES:Inloop
END:VEVENT
BEGIN:VEVENT
DTSTART;TZID=Europe/Amsterdam:20240429T100000
DTEND;TZID=Europe/Amsterdam:20240429T120000
DTSTAMP:20260420T062016
CREATED:20240220T100051Z
LAST-MODIFIED:20240220T100051Z
UID:1239-1714384800-1714392000@bcpz.nl
SUMMARY:Inloop met koffie en thee
DESCRIPTION:Josephinehof\, Josephinehof 2A (ingang in Gildestraat)\, Geldrop. Aanmelden hoeft niet\, kom gezellig langs. bijdrage 3 euro
URL:https://bcpz.nl/event/inloop-met-koffie-en-thee-104/
CATEGORIES:Inloop
END:VEVENT
BEGIN:VEVENT
DTSTART;TZID=Europe/Amsterdam:20240422T100000
DTEND;TZID=Europe/Amsterdam:20240422T120000
DTSTAMP:20260420T062016
CREATED:20240220T100022Z
LAST-MODIFIED:20240220T100022Z
UID:1237-1713780000-1713787200@bcpz.nl
SUMMARY:Inloop met koffie en thee
DESCRIPTION:Josephinehof\, Josephinehof 2A (ingang in Gildestraat)\, Geldrop. Aanmelden hoeft niet\, kom gezellig langs. bijdrage 3 euro
URL:https://bcpz.nl/event/inloop-met-koffie-en-thee-103/
CATEGORIES:Inloop
END:VEVENT
BEGIN:VEVENT
DTSTART;TZID=Europe/Amsterdam:20240415T100000
DTEND;TZID=Europe/Amsterdam:20240415T120000
DTSTAMP:20260420T062016
CREATED:20240220T095953Z
LAST-MODIFIED:20240220T095953Z
UID:1235-1713175200-1713182400@bcpz.nl
SUMMARY:Inloop  met koffie en thee
DESCRIPTION:Josephinehof\, Josephinehof 2A (ingang in Gildestraat)\, Geldrop. Aanmelden hoeft niet\, kom gezellig langs. bijdrage 3 euro
URL:https://bcpz.nl/event/inloop-met-koffie-en-thee-102/
CATEGORIES:Inloop
END:VEVENT
BEGIN:VEVENT
DTSTART;TZID=Europe/Amsterdam:20240408T100000
DTEND;TZID=Europe/Amsterdam:20240408T120000
DTSTAMP:20260420T062016
CREATED:20240220T095914Z
LAST-MODIFIED:20240220T095914Z
UID:1233-1712570400-1712577600@bcpz.nl
SUMMARY:Inloop met koffie en thee
DESCRIPTION:Josephinehof\, Josephinehof 2A (ingang in Gildestraat)\, Geldrop. Aanmelden hoeft niet\, kom gezellig langs. bijdrage 3 euro
URL:https://bcpz.nl/event/inloop-met-koffie-en-thee-101/
CATEGORIES:Inloop
END:VEVENT
BEGIN:VEVENT
DTSTART;TZID=Europe/Amsterdam:20240401T000000
DTEND;TZID=Europe/Amsterdam:20240401T000000
DTSTAMP:20260420T062016
CREATED:20240220T095835Z
LAST-MODIFIED:20240220T110927Z
UID:1231-1711929600-1711929600@bcpz.nl
SUMMARY:Geen activiteit vanwege Tweede Paasdag
DESCRIPTION:
URL:https://bcpz.nl/event/inloop-met-koffie-en-thee-100/
CATEGORIES:Inloop
END:VEVENT
BEGIN:VEVENT
DTSTART;TZID=Europe/Amsterdam:20240325T100000
DTEND;TZID=Europe/Amsterdam:20240325T120000
DTSTAMP:20260420T062016
CREATED:20240220T095711Z
LAST-MODIFIED:20240220T095711Z
UID:1227-1711360800-1711368000@bcpz.nl
SUMMARY:Inloop met koffie en thee
DESCRIPTION:Josephinehof\, Josephinehof 2A (ingang in Gildestraat)\, Geldrop. Aanmelden hoeft niet\, kom gezellig langs. bijdrage 3 euro
URL:https://bcpz.nl/event/inloop-met-koffie-en-thee-98/
CATEGORIES:Inloop
END:VEVENT
BEGIN:VEVENT
DTSTART;TZID=Europe/Amsterdam:20240318T100000
DTEND;TZID=Europe/Amsterdam:20240318T120000
DTSTAMP:20260420T062016
CREATED:20240220T095805Z
LAST-MODIFIED:20240220T095805Z
UID:1229-1710756000-1710763200@bcpz.nl
SUMMARY:Inloop met koffie en thee
DESCRIPTION:Josephinehof\, Josephinehof 2A (ingang in Gildestraat)\, Geldrop. Aanmelden hoeft niet\, kom gezellig langs. bijdrage 3 euro
URL:https://bcpz.nl/event/inloop-met-koffie-en-thee-99/
CATEGORIES:Inloop
END:VEVENT
BEGIN:VEVENT
DTSTART;TZID=Europe/Amsterdam:20240311T100000
DTEND;TZID=Europe/Amsterdam:20240311T120000
DTSTAMP:20260420T062016
CREATED:20240220T095639Z
LAST-MODIFIED:20240220T095639Z
UID:1225-1710151200-1710158400@bcpz.nl
SUMMARY:Inloop met koffie en thee
DESCRIPTION:Josephinehof\, Josephinehof 2A (ingang in Gildestraat)\, Geldrop. Aanmelden hoeft niet\, kom gezellig langs. bijdrage 3 euro
URL:https://bcpz.nl/event/inloop-met-koffie-en-thee-97/
CATEGORIES:Inloop
END:VEVENT
BEGIN:VEVENT
DTSTART;TZID=Europe/Amsterdam:20240304T100000
DTEND;TZID=Europe/Amsterdam:20240304T120000
DTSTAMP:20260420T062016
CREATED:20240220T095605Z
LAST-MODIFIED:20240220T095605Z
UID:1223-1709546400-1709553600@bcpz.nl
SUMMARY:Inloop met koffie en thee
DESCRIPTION:Josephinehof\, Josephinehof 2A (ingang in Gildestraat)\, Geldrop. Aanmelden hoeft niet\, kom gezellig langs. bijdrage 3 euro
URL:https://bcpz.nl/event/inloop-met-koffie-en-thee-96/
CATEGORIES:Inloop
END:VEVENT
BEGIN:VEVENT
DTSTART;TZID=Europe/Amsterdam:20240226T100000
DTEND;TZID=Europe/Amsterdam:20240226T120000
DTSTAMP:20260420T062016
CREATED:20231009T135015Z
LAST-MODIFIED:20231009T135015Z
UID:1081-1708941600-1708948800@bcpz.nl
SUMMARY:Inloop met koffie en thee
DESCRIPTION:Josephinehof\, Josephinehof 2A (ingang in Gildestraat)\, Geldrop. Aanmelden hoeft niet\, kom gezellig langs. bijdrage 3 euro
URL:https://bcpz.nl/event/inloop-met-koffie-en-thee-95/
CATEGORIES:Inloop
END:VEVENT
BEGIN:VEVENT
DTSTART;TZID=Europe/Amsterdam:20240212T100000
DTEND;TZID=Europe/Amsterdam:20240212T120000
DTSTAMP:20260420T062016
CREATED:20231009T134854Z
LAST-MODIFIED:20231009T134854Z
UID:1077-1707732000-1707739200@bcpz.nl
SUMMARY:Inloop met koffie en thee
DESCRIPTION:Josephinehof\, Josephinehof 2A (ingang in Gildestraat)\, Geldrop. Aanmelden hoeft niet\, kom gezellig langs. bijdrage 3 euro
URL:https://bcpz.nl/event/inloop-met-koffie-en-thee-93/
CATEGORIES:Inloop
END:VEVENT
END:VCALENDAR