BEGIN:VCALENDAR
VERSION:2.0
PRODID:-//Buurtcontactpunt Zesgehuchten - ECPv6.15.20//NONSGML v1.0//EN
CALSCALE:GREGORIAN
METHOD:PUBLISH
X-ORIGINAL-URL:https://bcpz.nl
X-WR-CALDESC:Evenementen voor Buurtcontactpunt Zesgehuchten
REFRESH-INTERVAL;VALUE=DURATION:PT1H
X-Robots-Tag:noindex
X-PUBLISHED-TTL:PT1H
BEGIN:VTIMEZONE
TZID:Europe/Amsterdam
BEGIN:DAYLIGHT
TZOFFSETFROM:+0100
TZOFFSETTO:+0200
TZNAME:CEST
DTSTART:20230326T010000
END:DAYLIGHT
BEGIN:STANDARD
TZOFFSETFROM:+0200
TZOFFSETTO:+0100
TZNAME:CET
DTSTART:20231029T010000
END:STANDARD
BEGIN:DAYLIGHT
TZOFFSETFROM:+0100
TZOFFSETTO:+0200
TZNAME:CEST
DTSTART:20240331T010000
END:DAYLIGHT
BEGIN:STANDARD
TZOFFSETFROM:+0200
TZOFFSETTO:+0100
TZNAME:CET
DTSTART:20241027T010000
END:STANDARD
BEGIN:DAYLIGHT
TZOFFSETFROM:+0100
TZOFFSETTO:+0200
TZNAME:CEST
DTSTART:20250330T010000
END:DAYLIGHT
BEGIN:STANDARD
TZOFFSETFROM:+0200
TZOFFSETTO:+0100
TZNAME:CET
DTSTART:20251026T010000
END:STANDARD
BEGIN:DAYLIGHT
TZOFFSETFROM:+0100
TZOFFSETTO:+0200
TZNAME:CEST
DTSTART:20260329T010000
END:DAYLIGHT
BEGIN:STANDARD
TZOFFSETFROM:+0200
TZOFFSETTO:+0100
TZNAME:CET
DTSTART:20261025T010000
END:STANDARD
END:VTIMEZONE
BEGIN:VEVENT
DTSTART;TZID=Europe/Amsterdam:20250224T080000
DTEND;TZID=Europe/Amsterdam:20250224T170000
DTSTAMP:20260420T020033
CREATED:20241116T151943Z
LAST-MODIFIED:20241116T151943Z
UID:1480-1740384000-1740416400@bcpz.nl
SUMMARY:Inloop met koffie en thee
DESCRIPTION:Josephinehof\, Josephinehof 2A (ingang in Gildestraat)\, Geldrop. Aanmelden hoeft niet\, kom gezellig langs. bijdrage 3 euro
URL:https://bcpz.nl/event/inloop-met-koffie-en-thee-147/
CATEGORIES:Inloop
END:VEVENT
BEGIN:VEVENT
DTSTART;TZID=Europe/Amsterdam:20250217T100000
DTEND;TZID=Europe/Amsterdam:20250217T120000
DTSTAMP:20260420T020033
CREATED:20241116T151830Z
LAST-MODIFIED:20241116T151830Z
UID:1478-1739786400-1739793600@bcpz.nl
SUMMARY:Inloop met koffie en thee
DESCRIPTION:Josephinehof\, Josephinehof 2A (ingang in Gildestraat)\, Geldrop. Aanmelden hoeft niet\, kom gezellig langs. bijdrage 3 euro
URL:https://bcpz.nl/event/inloop-met-koffie-en-thee-146/
CATEGORIES:Inloop
END:VEVENT
BEGIN:VEVENT
DTSTART;TZID=Europe/Amsterdam:20250210T100000
DTEND;TZID=Europe/Amsterdam:20250210T120000
DTSTAMP:20260420T020033
CREATED:20241116T151757Z
LAST-MODIFIED:20241116T151757Z
UID:1476-1739181600-1739188800@bcpz.nl
SUMMARY:Inloop met koffie en thee
DESCRIPTION:Josephinehof\, Josephinehof 2A (ingang in Gildestraat)\, Geldrop. Aanmelden hoeft niet\, kom gezellig langs. bijdrage 3 euro
URL:https://bcpz.nl/event/inloop-met-koffie-en-thee-145/
CATEGORIES:Inloop
END:VEVENT
BEGIN:VEVENT
DTSTART;TZID=Europe/Amsterdam:20250203T100000
DTEND;TZID=Europe/Amsterdam:20250203T120000
DTSTAMP:20260420T020033
CREATED:20241116T151724Z
LAST-MODIFIED:20241116T151724Z
UID:1474-1738576800-1738584000@bcpz.nl
SUMMARY:Inloop met koffie en thee
DESCRIPTION:Josephinehof\, Josephinehof 2A (ingang in Gildestraat)\, Geldrop. Aanmelden hoeft niet\, kom gezellig langs. bijdrage 3 euro
URL:https://bcpz.nl/event/inloop-met-koffie-en-thee-144/
CATEGORIES:Inloop
END:VEVENT
BEGIN:VEVENT
DTSTART;TZID=Europe/Amsterdam:20250127T100000
DTEND;TZID=Europe/Amsterdam:20250127T120000
DTSTAMP:20260420T020033
CREATED:20241116T151651Z
LAST-MODIFIED:20241116T151651Z
UID:1472-1737972000-1737979200@bcpz.nl
SUMMARY:Inloop met koffie en thee
DESCRIPTION:Josephinehof\, Josephinehof 2A (ingang in Gildestraat)\, Geldrop. Aanmelden hoeft niet\, kom gezellig langs. bijdrage 3 euro
URL:https://bcpz.nl/event/inloop-met-koffie-en-thee-143/
CATEGORIES:Inloop
END:VEVENT
BEGIN:VEVENT
DTSTART;TZID=Europe/Amsterdam:20250120T100000
DTEND;TZID=Europe/Amsterdam:20250120T120000
DTSTAMP:20260420T020033
CREATED:20241116T151614Z
LAST-MODIFIED:20241116T151614Z
UID:1470-1737367200-1737374400@bcpz.nl
SUMMARY:Inloop met koffie en thee
DESCRIPTION:Josephinehof\, Josephinehof 2A (ingang in Gildestraat)\, Geldrop. Aanmelden hoeft niet\, kom gezellig langs. bijdrage 3 euro
URL:https://bcpz.nl/event/inloop-met-koffie-en-thee-142/
CATEGORIES:Inloop
END:VEVENT
BEGIN:VEVENT
DTSTART;TZID=Europe/Amsterdam:20250113T100000
DTEND;TZID=Europe/Amsterdam:20250113T120000
DTSTAMP:20260420T020033
CREATED:20241116T151446Z
LAST-MODIFIED:20241116T151514Z
UID:1468-1736762400-1736769600@bcpz.nl
SUMMARY:Inloop met koffie en thee
DESCRIPTION:Josephinehof\, Josephinehof 2A (ingang in Gildestraat)\, Geldrop. Aanmelden hoeft niet\, kom gezellig langs. bijdrage 3 euro
URL:https://bcpz.nl/event/inloop-met-koffie-en-thee-141/
CATEGORIES:Inloop
END:VEVENT
BEGIN:VEVENT
DTSTART;TZID=Europe/Amsterdam:20250106T100000
DTEND;TZID=Europe/Amsterdam:20250106T120000
DTSTAMP:20260420T020033
CREATED:20241116T151309Z
LAST-MODIFIED:20241116T151309Z
UID:1466-1736157600-1736164800@bcpz.nl
SUMMARY:Inloop met koffie en thee
DESCRIPTION:Josephinehof\, Josephinehof 2A (ingang in Gildestraat)\, Geldrop. Aanmelden hoeft niet\, kom gezellig langs. bijdrage 3 euro
URL:https://bcpz.nl/event/inloop-met-koffie-en-thee-140/
CATEGORIES:Inloop
END:VEVENT
BEGIN:VEVENT
DTSTART;TZID=Europe/Amsterdam:20241230T100000
DTEND;TZID=Europe/Amsterdam:20241230T120000
DTSTAMP:20260420T020033
CREATED:20241010T073420Z
LAST-MODIFIED:20241010T073420Z
UID:1427-1735552800-1735560000@bcpz.nl
SUMMARY:Inloop met koffie en thee
DESCRIPTION:Josephinehof\, Josephinehof 2A (ingang in Gildestraat)\, Geldrop. Aanmelden hoeft niet\, kom gezellig langs. bijdrage 3 euro
URL:https://bcpz.nl/event/inloop-met-koffie-en-thee-139/
CATEGORIES:Inloop
END:VEVENT
BEGIN:VEVENT
DTSTART;TZID=Europe/Amsterdam:20241223T100000
DTEND;TZID=Europe/Amsterdam:20241223T120000
DTSTAMP:20260420T020033
CREATED:20241010T073345Z
LAST-MODIFIED:20241010T073345Z
UID:1425-1734948000-1734955200@bcpz.nl
SUMMARY:Inloop met koffie en thee
DESCRIPTION:Josephinehof\, Josephinehof 2A (ingang in Gildestraat)\, Geldrop. Aanmelden hoeft niet\, kom gezellig langs. bijdrage 3 euro
URL:https://bcpz.nl/event/inloop-met-koffie-en-thee-138/
CATEGORIES:Inloop
END:VEVENT
BEGIN:VEVENT
DTSTART;TZID=Europe/Amsterdam:20241216T100000
DTEND;TZID=Europe/Amsterdam:20241216T120000
DTSTAMP:20260420T020033
CREATED:20241010T073251Z
LAST-MODIFIED:20241010T073251Z
UID:1423-1734343200-1734350400@bcpz.nl
SUMMARY:Inloop met koffie en thee
DESCRIPTION:Josephinehof\, Josephinehof 2A (ingang in Gildestraat)\, Geldrop. Aanmelden hoeft niet\, kom gezellig langs. bijdrage 3 euro
URL:https://bcpz.nl/event/inloop-met-koffie-en-thee-137/
CATEGORIES:Inloop
END:VEVENT
BEGIN:VEVENT
DTSTART;TZID=Europe/Amsterdam:20241209T100000
DTEND;TZID=Europe/Amsterdam:20241209T120000
DTSTAMP:20260420T020033
CREATED:20241010T073217Z
LAST-MODIFIED:20241010T073217Z
UID:1421-1733738400-1733745600@bcpz.nl
SUMMARY:Inloop met koffie en thee
DESCRIPTION:Josephinehof\, Josephinehof 2A (ingang in Gildestraat)\, Geldrop. Aanmelden hoeft niet\, kom gezellig langs. bijdrage 3 euro
URL:https://bcpz.nl/event/inloop-met-koffie-en-thee-136/
CATEGORIES:Inloop
END:VEVENT
BEGIN:VEVENT
DTSTART;TZID=Europe/Amsterdam:20241202T100000
DTEND;TZID=Europe/Amsterdam:20241202T120000
DTSTAMP:20260420T020033
CREATED:20241010T073142Z
LAST-MODIFIED:20241010T073142Z
UID:1419-1733133600-1733140800@bcpz.nl
SUMMARY:Inloop met koffie en thee
DESCRIPTION:Josephinehof\, Josephinehof 2A (ingang in Gildestraat)\, Geldrop. Aanmelden hoeft niet\, kom gezellig langs. bijdrage 3 euro
URL:https://bcpz.nl/event/inloop-met-koffie-en-thee-135/
CATEGORIES:Inloop
END:VEVENT
BEGIN:VEVENT
DTSTART;TZID=Europe/Amsterdam:20241125T100000
DTEND;TZID=Europe/Amsterdam:20241125T120000
DTSTAMP:20260420T020033
CREATED:20241010T072459Z
LAST-MODIFIED:20241010T072459Z
UID:1417-1732528800-1732536000@bcpz.nl
SUMMARY:Inloop met koffie en thee
DESCRIPTION:Josephinehof\, Josephinehof 2A (ingang in Gildestraat)\, Geldrop. Aanmelden hoeft niet\, kom gezellig langs. bijdrage 3 euro
URL:https://bcpz.nl/event/inloop-met-koffie-en-thee-131/
CATEGORIES:Inloop
END:VEVENT
BEGIN:VEVENT
DTSTART;TZID=Europe/Amsterdam:20241118T100000
DTEND;TZID=Europe/Amsterdam:20241118T120000
DTSTAMP:20260420T020033
CREATED:20241010T072431Z
LAST-MODIFIED:20241010T072431Z
UID:1415-1731924000-1731931200@bcpz.nl
SUMMARY:Inloop met koffie en thee
DESCRIPTION:Josephinehof\, Josephinehof 2A (ingang in Gildestraat)\, Geldrop. Aanmelden hoeft niet\, kom gezellig langs. bijdrage 3 euro
URL:https://bcpz.nl/event/inloop-met-koffie-en-thee-130/
CATEGORIES:Inloop
END:VEVENT
BEGIN:VEVENT
DTSTART;TZID=Europe/Amsterdam:20241111T100000
DTEND;TZID=Europe/Amsterdam:20241111T120000
DTSTAMP:20260420T020033
CREATED:20241010T072357Z
LAST-MODIFIED:20241010T072357Z
UID:1413-1731319200-1731326400@bcpz.nl
SUMMARY:Inloop met koffie en thee
DESCRIPTION:Josephinehof\, Josephinehof 2A (ingang in Gildestraat)\, Geldrop. Aanmelden hoeft niet\, kom gezellig langs. bijdrage 3 euro
URL:https://bcpz.nl/event/inloop-met-koffie-en-thee-129/
CATEGORIES:Inloop
END:VEVENT
BEGIN:VEVENT
DTSTART;TZID=Europe/Amsterdam:20241104T100000
DTEND;TZID=Europe/Amsterdam:20241104T120000
DTSTAMP:20260420T020033
CREATED:20241010T072326Z
LAST-MODIFIED:20241010T072326Z
UID:1411-1730714400-1730721600@bcpz.nl
SUMMARY:Inloop met koffie en thee
DESCRIPTION:Josephinehof\, Josephinehof 2A (ingang in Gildestraat)\, Geldrop. Aanmelden hoeft niet\, kom gezellig langs. bijdrage 3 euro
URL:https://bcpz.nl/event/inloop-met-koffie-en-thee-128/
CATEGORIES:Inloop
END:VEVENT
BEGIN:VEVENT
DTSTART;TZID=Europe/Amsterdam:20241028T100000
DTEND;TZID=Europe/Amsterdam:20241028T120000
DTSTAMP:20260420T020033
CREATED:20241010T073009Z
LAST-MODIFIED:20241010T073009Z
UID:1409-1730109600-1730116800@bcpz.nl
SUMMARY:Inloop met koffie en thee
DESCRIPTION:Josephinehof\, Josephinehof 2A (ingang in Gildestraat)\, Geldrop. Aanmelden hoeft niet\, kom gezellig langs. bijdrage 3 euro
URL:https://bcpz.nl/event/inloop-met-koffie-en-thee-133/
CATEGORIES:Inloop
END:VEVENT
BEGIN:VEVENT
DTSTART;TZID=Europe/Amsterdam:20241021T100000
DTEND;TZID=Europe/Amsterdam:20241021T120000
DTSTAMP:20260420T020033
CREATED:20241010T073022Z
LAST-MODIFIED:20241010T073022Z
UID:1407-1729504800-1729512000@bcpz.nl
SUMMARY:Inloop met koffie en thee
DESCRIPTION:Josephinehof\, Josephinehof 2A (ingang in Gildestraat)\, Geldrop. Aanmelden hoeft niet\, kom gezellig langs. bijdrage 3 euro
URL:https://bcpz.nl/event/inloop-met-koffie-en-thee-134/
CATEGORIES:Inloop
END:VEVENT
BEGIN:VEVENT
DTSTART;TZID=Europe/Amsterdam:20241014T100000
DTEND;TZID=Europe/Amsterdam:20241014T120000
DTSTAMP:20260420T020033
CREATED:20241010T072956Z
LAST-MODIFIED:20241010T072956Z
UID:1405-1728900000-1728907200@bcpz.nl
SUMMARY:Inloop met koffie en thee
DESCRIPTION:Josephinehof\, Josephinehof 2A (ingang in Gildestraat)\, Geldrop. Aanmelden hoeft niet\, kom gezellig langs. bijdrage 3 euro
URL:https://bcpz.nl/event/inloop-met-koffie-en-thee-132/
CATEGORIES:Inloop
END:VEVENT
BEGIN:VEVENT
DTSTART;TZID=Europe/Amsterdam:20240930T100000
DTEND;TZID=Europe/Amsterdam:20240930T120000
DTSTAMP:20260420T020033
CREATED:20240424T180259Z
LAST-MODIFIED:20240424T180259Z
UID:1327-1727690400-1727697600@bcpz.nl
SUMMARY:Inloop met koffie en thee
DESCRIPTION:Josephinehof\, Josephinehof 2A (ingang in Gildestraat)\, Geldrop. Aanmelden hoeft niet\, kom gezellig langs. bijdrage 3 euro
URL:https://bcpz.nl/event/inloop-met-koffie-en-thee-127/
CATEGORIES:Inloop
END:VEVENT
BEGIN:VEVENT
DTSTART;TZID=Europe/Amsterdam:20240923T100000
DTEND;TZID=Europe/Amsterdam:20240923T120000
DTSTAMP:20260420T020033
CREATED:20240424T180231Z
LAST-MODIFIED:20240424T180231Z
UID:1325-1727085600-1727092800@bcpz.nl
SUMMARY:Inloop met koffie en thee
DESCRIPTION:Josephinehof\, Josephinehof 2A (ingang in Gildestraat)\, Geldrop. Aanmelden hoeft niet\, kom gezellig langs. bijdrage 3 euro
URL:https://bcpz.nl/event/inloop-met-koffie-en-thee-126/
CATEGORIES:Inloop
END:VEVENT
BEGIN:VEVENT
DTSTART;TZID=Europe/Amsterdam:20240916T100000
DTEND;TZID=Europe/Amsterdam:20240916T120000
DTSTAMP:20260420T020033
CREATED:20240424T180159Z
LAST-MODIFIED:20240424T180159Z
UID:1323-1726480800-1726488000@bcpz.nl
SUMMARY:Inloop met koffie en thee
DESCRIPTION:Josephinehof\, Josephinehof 2A (ingang in Gildestraat)\, Geldrop. Aanmelden hoeft niet\, kom gezellig langs. bijdrage 3 euro
URL:https://bcpz.nl/event/inloop-met-koffie-en-thee-125/
CATEGORIES:Inloop
END:VEVENT
BEGIN:VEVENT
DTSTART;TZID=Europe/Amsterdam:20240909T100000
DTEND;TZID=Europe/Amsterdam:20240909T120000
DTSTAMP:20260420T020033
CREATED:20240424T180129Z
LAST-MODIFIED:20240424T180129Z
UID:1321-1725876000-1725883200@bcpz.nl
SUMMARY:Inloop met koffie en thee
DESCRIPTION:Josephinehof\, Josephinehof 2A (ingang in Gildestraat)\, Geldrop. Aanmelden hoeft niet\, kom gezellig langs. bijdrage 3 euro
URL:https://bcpz.nl/event/inloop-met-koffie-en-thee-124/
CATEGORIES:Inloop
END:VEVENT
BEGIN:VEVENT
DTSTART;TZID=Europe/Amsterdam:20240902T100000
DTEND;TZID=Europe/Amsterdam:20240902T120000
DTSTAMP:20260420T020033
CREATED:20240424T180059Z
LAST-MODIFIED:20240424T180059Z
UID:1319-1725271200-1725278400@bcpz.nl
SUMMARY:Inloop met koffie en thee
DESCRIPTION:Josephinehof\, Josephinehof 2A (ingang in Gildestraat)\, Geldrop. Aanmelden hoeft niet\, kom gezellig langs. bijdrage 3 euro
URL:https://bcpz.nl/event/inloop-met-koffie-en-thee-123/
CATEGORIES:Inloop
END:VEVENT
BEGIN:VEVENT
DTSTART;TZID=Europe/Amsterdam:20240826T100000
DTEND;TZID=Europe/Amsterdam:20240826T120000
DTSTAMP:20260420T020033
CREATED:20240424T180013Z
LAST-MODIFIED:20240424T180013Z
UID:1317-1724666400-1724673600@bcpz.nl
SUMMARY:Inloop met koffie en thee
DESCRIPTION:Josephinehof\, Josephinehof 2A (ingang in Gildestraat)\, Geldrop. Aanmelden hoeft niet\, kom gezellig langs. bijdrage 3 euro
URL:https://bcpz.nl/event/inloop-met-koffie-en-thee-122/
CATEGORIES:Inloop
END:VEVENT
BEGIN:VEVENT
DTSTART;TZID=Europe/Amsterdam:20240819T100000
DTEND;TZID=Europe/Amsterdam:20240819T120000
DTSTAMP:20260420T020033
CREATED:20240424T175931Z
LAST-MODIFIED:20240424T175931Z
UID:1315-1724061600-1724068800@bcpz.nl
SUMMARY:Inloop met koffie en thee
DESCRIPTION:Josephinehof\, Josephinehof 2A (ingang in Gildestraat)\, Geldrop. Aanmelden hoeft niet\, kom gezellig langs. bijdrage 3 euro
URL:https://bcpz.nl/event/inloop-met-koffie-en-thee-121/
CATEGORIES:Inloop
END:VEVENT
BEGIN:VEVENT
DTSTART;TZID=Europe/Amsterdam:20240812T100000
DTEND;TZID=Europe/Amsterdam:20240812T120000
DTSTAMP:20260420T020033
CREATED:20240424T175844Z
LAST-MODIFIED:20240424T175844Z
UID:1313-1723456800-1723464000@bcpz.nl
SUMMARY:Inloop met koffie en thee
DESCRIPTION:Josephinehof\, Josephinehof 2A (ingang in Gildestraat)\, Geldrop. Aanmelden hoeft niet\, kom gezellig langs. bijdrage 3 euro
URL:https://bcpz.nl/event/inloop-met-koffie-en-thee-120/
CATEGORIES:Inloop
END:VEVENT
BEGIN:VEVENT
DTSTART;TZID=Europe/Amsterdam:20240805T100000
DTEND;TZID=Europe/Amsterdam:20240805T120000
DTSTAMP:20260420T020033
CREATED:20240424T175806Z
LAST-MODIFIED:20240424T175806Z
UID:1311-1722852000-1722859200@bcpz.nl
SUMMARY:Inloop met koffie en thee
DESCRIPTION:Josephinehof\, Josephinehof 2A (ingang in Gildestraat)\, Geldrop. Aanmelden hoeft niet\, kom gezellig langs. bijdrage 3 euro
URL:https://bcpz.nl/event/inloop-met-koffie-en-thee-119/
CATEGORIES:Inloop
END:VEVENT
BEGIN:VEVENT
DTSTART;TZID=Europe/Amsterdam:20240729T100000
DTEND;TZID=Europe/Amsterdam:20240729T120000
DTSTAMP:20260420T020033
CREATED:20240424T175651Z
LAST-MODIFIED:20240424T175651Z
UID:1307-1722247200-1722254400@bcpz.nl
SUMMARY:Inloop met koffie en thee
DESCRIPTION:Josephinehof\, Josephinehof 2A (ingang in Gildestraat)\, Geldrop. Aanmelden hoeft niet\, kom gezellig langs. bijdrage 3 euro
URL:https://bcpz.nl/event/inloop-met-koffie-en-thee-117/
CATEGORIES:Inloop
END:VEVENT
END:VCALENDAR