BEGIN:VCALENDAR
VERSION:2.0
PRODID:-//Buurtcontactpunt Zesgehuchten - ECPv6.15.20//NONSGML v1.0//EN
CALSCALE:GREGORIAN
METHOD:PUBLISH
X-WR-CALNAME:Buurtcontactpunt Zesgehuchten
X-ORIGINAL-URL:https://bcpz.nl
X-WR-CALDESC:Evenementen voor Buurtcontactpunt Zesgehuchten
REFRESH-INTERVAL;VALUE=DURATION:PT1H
X-Robots-Tag:noindex
X-PUBLISHED-TTL:PT1H
BEGIN:VTIMEZONE
TZID:Europe/Amsterdam
BEGIN:DAYLIGHT
TZOFFSETFROM:+0100
TZOFFSETTO:+0200
TZNAME:CEST
DTSTART:20210328T010000
END:DAYLIGHT
BEGIN:STANDARD
TZOFFSETFROM:+0200
TZOFFSETTO:+0100
TZNAME:CET
DTSTART:20211031T010000
END:STANDARD
BEGIN:DAYLIGHT
TZOFFSETFROM:+0100
TZOFFSETTO:+0200
TZNAME:CEST
DTSTART:20220327T010000
END:DAYLIGHT
BEGIN:STANDARD
TZOFFSETFROM:+0200
TZOFFSETTO:+0100
TZNAME:CET
DTSTART:20221030T010000
END:STANDARD
BEGIN:DAYLIGHT
TZOFFSETFROM:+0100
TZOFFSETTO:+0200
TZNAME:CEST
DTSTART:20230326T010000
END:DAYLIGHT
BEGIN:STANDARD
TZOFFSETFROM:+0200
TZOFFSETTO:+0100
TZNAME:CET
DTSTART:20231029T010000
END:STANDARD
BEGIN:DAYLIGHT
TZOFFSETFROM:+0100
TZOFFSETTO:+0200
TZNAME:CEST
DTSTART:20240331T010000
END:DAYLIGHT
BEGIN:STANDARD
TZOFFSETFROM:+0200
TZOFFSETTO:+0100
TZNAME:CET
DTSTART:20241027T010000
END:STANDARD
END:VTIMEZONE
BEGIN:VEVENT
DTSTART;TZID=Europe/Amsterdam:20230116T100000
DTEND;TZID=Europe/Amsterdam:20230116T120000
DTSTAMP:20260423T170012
CREATED:20221115T140041Z
LAST-MODIFIED:20221115T140041Z
UID:633-1673863200-1673870400@bcpz.nl
SUMMARY:Inloop met koffie en thee
DESCRIPTION:Josephinehof\, Josephinehof 2A (ingang in Gildestraat)\, Geldrop. \nAanmelden hoeft niet\, kom gezellig langs. bijdrage 3 euro
URL:https://bcpz.nl/event/inloop-met-koffie-en-thee-39/
CATEGORIES:Inloop
END:VEVENT
BEGIN:VEVENT
DTSTART;TZID=Europe/Amsterdam:20230109T100000
DTEND;TZID=Europe/Amsterdam:20230109T120000
DTSTAMP:20260423T170012
CREATED:20221115T140004Z
LAST-MODIFIED:20221115T140004Z
UID:631-1673258400-1673265600@bcpz.nl
SUMMARY:Inloop met koffie en thee
DESCRIPTION:Josephinehof\, Josephinehof 2A (ingang in Gildestraat)\, Geldrop. \nAanmelden hoeft niet\, kom gezellig langs. bijdrage 3 euro
URL:https://bcpz.nl/event/inloop-met-koffie-en-thee-38/
CATEGORIES:Inloop
END:VEVENT
BEGIN:VEVENT
DTSTART;TZID=Europe/Amsterdam:20230102T100000
DTEND;TZID=Europe/Amsterdam:20230102T120000
DTSTAMP:20260423T170012
CREATED:20221115T135857Z
LAST-MODIFIED:20221115T135857Z
UID:629-1672653600-1672660800@bcpz.nl
SUMMARY:Inloop met koffie en thee
DESCRIPTION:Josephinehof\, Josephinehof 2A (ingang in Gildestraat)\, Geldrop. \nAanmelden hoeft niet\, kom gezellig langs. bijdrage 3 euro
URL:https://bcpz.nl/event/inloop-met-koffie-en-thee-37/
CATEGORIES:Inloop
END:VEVENT
BEGIN:VEVENT
DTSTART;TZID=Europe/Amsterdam:20221219T100000
DTEND;TZID=Europe/Amsterdam:20221219T120000
DTSTAMP:20260423T170012
CREATED:20220728T093523Z
LAST-MODIFIED:20220728T093523Z
UID:559-1671444000-1671451200@bcpz.nl
SUMMARY:Inloop met koffie en thee
DESCRIPTION:Josephinehof\, Josephinehof 2A (ingang in Gildestraat)\, Geldrop.\nAanmelden hoeft niet\, kom gezellig langs.\nbijdrage 3 euro
URL:https://bcpz.nl/event/inloop-met-koffie-en-thee-35/
CATEGORIES:Inloop
END:VEVENT
BEGIN:VEVENT
DTSTART;TZID=Europe/Amsterdam:20221205T100000
DTEND;TZID=Europe/Amsterdam:20221205T120000
DTSTAMP:20260423T170012
CREATED:20220728T093411Z
LAST-MODIFIED:20220728T093411Z
UID:555-1670234400-1670241600@bcpz.nl
SUMMARY:Inloop met koffie en thee
DESCRIPTION:Josephinehof\, Josephinehof 2A (ingang in Gildestraat)\, Geldrop.\nAanmelden hoeft niet\, kom gezellig langs.\nbijdrage 3 euro
URL:https://bcpz.nl/event/inloop-met-koffie-en-thee-33/
CATEGORIES:Inloop
END:VEVENT
BEGIN:VEVENT
DTSTART;TZID=Europe/Amsterdam:20221128T100000
DTEND;TZID=Europe/Amsterdam:20221128T120000
DTSTAMP:20260423T170012
CREATED:20220728T093334Z
LAST-MODIFIED:20220728T093334Z
UID:553-1669629600-1669636800@bcpz.nl
SUMMARY:Inloop met koffie en thee
DESCRIPTION:Josephinehof\, Josephinehof 2A (ingang in Gildestraat)\, Geldrop.\nAanmelden hoeft niet\, kom gezellig langs.\nbijdrage 3 euro
URL:https://bcpz.nl/event/inloop-met-koffie-en-thee-32/
CATEGORIES:Inloop
END:VEVENT
BEGIN:VEVENT
DTSTART;TZID=Europe/Amsterdam:20221121T100000
DTEND;TZID=Europe/Amsterdam:20221121T120000
DTSTAMP:20260423T170012
CREATED:20220728T093245Z
LAST-MODIFIED:20220728T093245Z
UID:551-1669024800-1669032000@bcpz.nl
SUMMARY:Inloop met koffie en thee
DESCRIPTION:Josephinehof\, Josephinehof 2A (ingang in Gildestraat)\, Geldrop.\nAanmelden hoeft niet\, kom gezellig langs.\nbijdrage 3 euro
URL:https://bcpz.nl/event/inloop-met-koffie-en-thee-31/
CATEGORIES:Inloop
END:VEVENT
BEGIN:VEVENT
DTSTART;TZID=Europe/Amsterdam:20221114T100000
DTEND;TZID=Europe/Amsterdam:20221114T120000
DTSTAMP:20260423T170012
CREATED:20220728T093206Z
LAST-MODIFIED:20220728T093206Z
UID:549-1668420000-1668427200@bcpz.nl
SUMMARY:Inloop met koffie en thee
DESCRIPTION:Josephinehof\, Josephinehof 2A (ingang in Gildestraat)\, Geldrop.\nAanmelden hoeft niet\, kom gezellig langs.\nbijdrage 3 euro
URL:https://bcpz.nl/event/inloop-met-koffie-en-thee-30/
CATEGORIES:Inloop
END:VEVENT
BEGIN:VEVENT
DTSTART;TZID=Europe/Amsterdam:20221107T100000
DTEND;TZID=Europe/Amsterdam:20221107T120000
DTSTAMP:20260423T170012
CREATED:20220728T093103Z
LAST-MODIFIED:20220728T093103Z
UID:547-1667815200-1667822400@bcpz.nl
SUMMARY:Inloop met koffie en thee
DESCRIPTION:Josephinehof\, Josephinehof 2A (ingang in Gildestraat)\, Geldrop.\nAanmelden hoeft niet\, kom gezellig langs.\nbijdrage 3 euro
URL:https://bcpz.nl/event/inloop-met-koffie-en-thee-29/
CATEGORIES:Inloop
END:VEVENT
BEGIN:VEVENT
DTSTART;TZID=Europe/Amsterdam:20221031T100000
DTEND;TZID=Europe/Amsterdam:20221031T120000
DTSTAMP:20260423T170012
CREATED:20220607T145109Z
LAST-MODIFIED:20220607T145109Z
UID:482-1667210400-1667217600@bcpz.nl
SUMMARY:Inloop met koffie en thee
DESCRIPTION:Josephinehof\, Josephinehof 2A (ingang in Gildestraat)\, Geldrop.\nAanmelden hoeft niet\, kom gezellig langs.\nbijdrage 3 euro
URL:https://bcpz.nl/event/inloop-met-koffie-en-thee-28/
CATEGORIES:Inloop
END:VEVENT
BEGIN:VEVENT
DTSTART;TZID=Europe/Amsterdam:20221024T100000
DTEND;TZID=Europe/Amsterdam:20221024T120000
DTSTAMP:20260423T170012
CREATED:20220607T145037Z
LAST-MODIFIED:20220607T145037Z
UID:480-1666605600-1666612800@bcpz.nl
SUMMARY:Inloop met koffie en thee
DESCRIPTION:Josephinehof\, Josephinehof 2A (ingang in Gildestraat)\, Geldrop.\nAanmelden hoeft niet\, kom gezellig langs.\nbijdrage 3 euro
URL:https://bcpz.nl/event/inloop-met-koffie-en-thee-27/
CATEGORIES:Inloop
END:VEVENT
BEGIN:VEVENT
DTSTART;TZID=Europe/Amsterdam:20221017T100000
DTEND;TZID=Europe/Amsterdam:20221017T120000
DTSTAMP:20260423T170012
CREATED:20220607T144951Z
LAST-MODIFIED:20220607T144951Z
UID:478-1666000800-1666008000@bcpz.nl
SUMMARY:Inloop met koffie en thee
DESCRIPTION:Josephinehof\, Josephinehof 2A (ingang in Gildestraat)\, Geldrop.\nAanmelden hoeft niet\, kom gezellig langs.\nbijdrage 3 euro
URL:https://bcpz.nl/event/inloop-met-koffie-en-thee-26/
CATEGORIES:Inloop
END:VEVENT
BEGIN:VEVENT
DTSTART;TZID=Europe/Amsterdam:20221010T100000
DTEND;TZID=Europe/Amsterdam:20221010T120000
DTSTAMP:20260423T170012
CREATED:20220607T144916Z
LAST-MODIFIED:20220607T144916Z
UID:476-1665396000-1665403200@bcpz.nl
SUMMARY:Inloop met koffie en thee
DESCRIPTION:Josephinehof\, Josephinehof 2A (ingang in Gildestraat)\, Geldrop.\nAanmelden hoeft niet\, kom gezellig langs.\nbijdrage 3 euro
URL:https://bcpz.nl/event/inloop-met-koffie-en-thee-25/
CATEGORIES:Inloop
END:VEVENT
BEGIN:VEVENT
DTSTART;TZID=Europe/Amsterdam:20221003T100000
DTEND;TZID=Europe/Amsterdam:20221003T120000
DTSTAMP:20260423T170012
CREATED:20220607T144838Z
LAST-MODIFIED:20220607T144838Z
UID:474-1664791200-1664798400@bcpz.nl
SUMMARY:Inloop met koffie en thee
DESCRIPTION:Josephinehof\, Josephinehof 2A (ingang in Gildestraat)\, Geldrop.\nAanmelden hoeft niet\, kom gezellig langs.\nbijdrage 3 euro
URL:https://bcpz.nl/event/inloop-met-koffie-en-thee-24/
CATEGORIES:Inloop
END:VEVENT
BEGIN:VEVENT
DTSTART;TZID=Europe/Amsterdam:20220926T100000
DTEND;TZID=Europe/Amsterdam:20220926T120000
DTSTAMP:20260423T170012
CREATED:20220607T144750Z
LAST-MODIFIED:20220607T144750Z
UID:472-1664186400-1664193600@bcpz.nl
SUMMARY:Inloop met koffie en thee
DESCRIPTION:Josephinehof\, Josephinehof 2A (ingang in Gildestraat)\, Geldrop.\nAanmelden hoeft niet\, kom gezellig langs.\nbijdrage 3 euro
URL:https://bcpz.nl/event/inloop-met-koffie-en-thee-23/
CATEGORIES:Inloop
END:VEVENT
BEGIN:VEVENT
DTSTART;TZID=Europe/Amsterdam:20220919T100000
DTEND;TZID=Europe/Amsterdam:20220919T120000
DTSTAMP:20260423T170012
CREATED:20220607T144708Z
LAST-MODIFIED:20220607T144708Z
UID:470-1663581600-1663588800@bcpz.nl
SUMMARY:Inloop met koffie en thee
DESCRIPTION:Josephinehof\, Josephinehof 2A (ingang in Gildestraat)\, Geldrop.\nAanmelden hoeft niet\, kom gezellig langs.\nbijdrage 3 euro
URL:https://bcpz.nl/event/inloop-met-koffie-en-thee-22/
CATEGORIES:Inloop
END:VEVENT
BEGIN:VEVENT
DTSTART;TZID=Europe/Amsterdam:20220912T100000
DTEND;TZID=Europe/Amsterdam:20220912T120000
DTSTAMP:20260423T170012
CREATED:20220607T144628Z
LAST-MODIFIED:20220607T144628Z
UID:468-1662976800-1662984000@bcpz.nl
SUMMARY:Inloop met koffie en thee
DESCRIPTION:Josephinehof\, Josephinehof 2A (ingang in Gildestraat)\, Geldrop.\nAanmelden hoeft niet\, kom gezellig langs.\nbijdrage 3 euro
URL:https://bcpz.nl/event/inloop-met-koffie-en-thee-21/
CATEGORIES:Inloop
END:VEVENT
BEGIN:VEVENT
DTSTART;TZID=Europe/Amsterdam:20220801T100000
DTEND;TZID=Europe/Amsterdam:20220801T120000
DTSTAMP:20260423T170012
CREATED:20220607T144252Z
LAST-MODIFIED:20220607T144252Z
UID:456-1659348000-1659355200@bcpz.nl
SUMMARY:Inloop met koffie en thee
DESCRIPTION:Josephinehof\, Josephinehof 2A (ingang in Gildestraat)\, Geldrop.\nAanmelden hoeft niet\, kom gezellig langs.\nbijdrage 3 euro
URL:https://bcpz.nl/event/inloop-met-koffie-en-thee-15/
CATEGORIES:Inloop
END:VEVENT
BEGIN:VEVENT
DTSTART;TZID=Europe/Amsterdam:20220725T100000
DTEND;TZID=Europe/Amsterdam:20220725T120000
DTSTAMP:20260423T170012
CREATED:20220607T144142Z
LAST-MODIFIED:20220607T144142Z
UID:454-1658743200-1658750400@bcpz.nl
SUMMARY:Inloop met koffie en thee
DESCRIPTION:Josephinehof\, Josephinehof 2A (ingang in Gildestraat)\, Geldrop.\nAanmelden hoeft niet\, kom gezellig langs.\nbijdrage 3 euro
URL:https://bcpz.nl/event/inloop-met-koffie-en-thee-14/
CATEGORIES:Inloop
END:VEVENT
BEGIN:VEVENT
DTSTART;TZID=Europe/Amsterdam:20220718T100000
DTEND;TZID=Europe/Amsterdam:20220718T120000
DTSTAMP:20260423T170012
CREATED:20220414T104449Z
LAST-MODIFIED:20220414T104449Z
UID:434-1658138400-1658145600@bcpz.nl
SUMMARY:Inloop met koffie en thee
DESCRIPTION:Josephinehof\, Josephinehof 2A (ingang in Gildestraat)\, Geldrop.\nAanmelden hoeft niet\, kom gezellig langs.\nbijdrage 3 euro
URL:https://bcpz.nl/event/inloop-met-koffie-en-thee-13/
CATEGORIES:Inloop
END:VEVENT
BEGIN:VEVENT
DTSTART;TZID=Europe/Amsterdam:20220711T100000
DTEND;TZID=Europe/Amsterdam:20220711T120000
DTSTAMP:20260423T170012
CREATED:20220414T104414Z
LAST-MODIFIED:20220414T104414Z
UID:432-1657533600-1657540800@bcpz.nl
SUMMARY:Inloop met koffie en thee
DESCRIPTION:Josephinehof\, Josephinehof 2A (ingang in Gildestraat)\, Geldrop.\nAanmelden hoeft niet\, kom gezellig langs.\nbijdrage 3 euro
URL:https://bcpz.nl/event/inloop-met-koffie-en-thee-12/
CATEGORIES:Inloop
END:VEVENT
BEGIN:VEVENT
DTSTART;TZID=Europe/Amsterdam:20220704T100000
DTEND;TZID=Europe/Amsterdam:20220704T120000
DTSTAMP:20260423T170012
CREATED:20220414T104340Z
LAST-MODIFIED:20220414T104340Z
UID:430-1656928800-1656936000@bcpz.nl
SUMMARY:Inloop met koffie en thee
DESCRIPTION:Josephinehof\, Josephinehof 2A (ingang in Gildestraat)\, Geldrop.\nAanmelden hoeft niet\, kom gezellig langs.\nbijdrage 3 euro
URL:https://bcpz.nl/event/inloop-met-koffie-en-thee-11/
CATEGORIES:Inloop
END:VEVENT
BEGIN:VEVENT
DTSTART;TZID=Europe/Amsterdam:20220627T100000
DTEND;TZID=Europe/Amsterdam:20220627T130000
DTSTAMP:20260423T170012
CREATED:20220414T104256Z
LAST-MODIFIED:20220414T104256Z
UID:428-1656324000-1656334800@bcpz.nl
SUMMARY:Inloop met koffie en thee
DESCRIPTION:Josephinehof\, Josephinehof 2A (ingang in Gildestraat)\, Geldrop.\nAanmelden hoeft niet\, kom gezellig langs.\nbijdrage 3 euro
URL:https://bcpz.nl/event/inloop-met-koffie-en-thee-10/
CATEGORIES:Inloop
END:VEVENT
BEGIN:VEVENT
DTSTART;TZID=Europe/Amsterdam:20220620T100000
DTEND;TZID=Europe/Amsterdam:20220620T120000
DTSTAMP:20260423T170012
CREATED:20220414T104220Z
LAST-MODIFIED:20220414T104220Z
UID:426-1655719200-1655726400@bcpz.nl
SUMMARY:Inloop met koffie en thee
DESCRIPTION:Josephinehof\, Josephinehof 2A (ingang in Gildestraat)\, Geldrop.\nAanmelden hoeft niet\, kom gezellig langs.\nbijdrage 3 euro
URL:https://bcpz.nl/event/inloop-met-koffie-en-thee-9/
CATEGORIES:Inloop
END:VEVENT
BEGIN:VEVENT
DTSTART;TZID=Europe/Amsterdam:20220606T100000
DTEND;TZID=Europe/Amsterdam:20220606T120000
DTSTAMP:20260423T170012
CREATED:20220414T104033Z
LAST-MODIFIED:20220414T104033Z
UID:422-1654509600-1654516800@bcpz.nl
SUMMARY:Geen inloop
DESCRIPTION:Deze week geen inloop i.v.m. tweede Pinksterdag
URL:https://bcpz.nl/event/geen-inloop/
CATEGORIES:Inloop
END:VEVENT
BEGIN:VEVENT
DTSTART;TZID=Europe/Amsterdam:20220530T100000
DTEND;TZID=Europe/Amsterdam:20220530T120000
DTSTAMP:20260423T170012
CREATED:20220414T103904Z
LAST-MODIFIED:20220414T103904Z
UID:420-1653904800-1653912000@bcpz.nl
SUMMARY:Inloop met koffie en thee
DESCRIPTION:Josephinehof\, Josephinehof 2A (ingang in Gildestraat)\, Geldrop.\nAanmelden hoeft niet\, kom gezellig langs.\nbijdrage 3 euro
URL:https://bcpz.nl/event/inloop-met-koffie-en-thee-7/
CATEGORIES:Inloop
END:VEVENT
BEGIN:VEVENT
DTSTART;TZID=Europe/Amsterdam:20220523T100000
DTEND;TZID=Europe/Amsterdam:20220523T120000
DTSTAMP:20260423T170012
CREATED:20220414T103827Z
LAST-MODIFIED:20220414T103827Z
UID:418-1653300000-1653307200@bcpz.nl
SUMMARY:Inloop met koffie en thee
DESCRIPTION:Josephinehof\, Josephinehof 2A (ingang in Gildestraat)\, Geldrop.\nAanmelden hoeft niet\, kom gezellig langs.\nbijdrage 3 euro
URL:https://bcpz.nl/event/inloop-met-koffie-en-thee-6/
CATEGORIES:Inloop
END:VEVENT
BEGIN:VEVENT
DTSTART;TZID=Europe/Amsterdam:20220516T100000
DTEND;TZID=Europe/Amsterdam:20220516T120000
DTSTAMP:20260423T170012
CREATED:20220414T103746Z
LAST-MODIFIED:20220414T103746Z
UID:416-1652695200-1652702400@bcpz.nl
SUMMARY:Inloop met koffie en thee
DESCRIPTION:Josephinehof\, Josephinehof 2A (ingang in Gildestraat)\, Geldrop.\nAanmelden hoeft niet\, kom gezellig langs.\nbijdrage 3 euro
URL:https://bcpz.nl/event/inloop-met-koffie-en-thee-5/
CATEGORIES:Inloop
END:VEVENT
BEGIN:VEVENT
DTSTART;TZID=Europe/Amsterdam:20220509T100000
DTEND;TZID=Europe/Amsterdam:20220509T120000
DTSTAMP:20260423T170012
CREATED:20220414T103710Z
LAST-MODIFIED:20220414T103710Z
UID:414-1652090400-1652097600@bcpz.nl
SUMMARY:Inloop met koffie en thee
DESCRIPTION:Josephinehof\, Josephinehof 2A (ingang in Gildestraat)\, Geldrop.\nAanmelden hoeft niet\, kom gezellig langs.\nbijdrage 3 euro
URL:https://bcpz.nl/event/inloop-met-koffie-en-thee-4/
CATEGORIES:Inloop
END:VEVENT
BEGIN:VEVENT
DTSTART;TZID=Europe/Amsterdam:20220502T100000
DTEND;TZID=Europe/Amsterdam:20220502T120000
DTSTAMP:20260423T170012
CREATED:20220414T103632Z
LAST-MODIFIED:20220414T103632Z
UID:412-1651485600-1651492800@bcpz.nl
SUMMARY:Inloop met koffie en thee
DESCRIPTION:Josephinehof\, Josephinehof 2A (ingang in Gildestraat)\, Geldrop.\nAanmelden hoeft niet\, kom gezellig langs.\nbijdrage 3 euro
URL:https://bcpz.nl/event/inloop-met-koffie-en-thee-3/
CATEGORIES:Inloop
END:VEVENT
END:VCALENDAR