BEGIN:VCALENDAR
VERSION:2.0
PRODID:-//Buurtcontactpunt Zesgehuchten - ECPv6.15.20//NONSGML v1.0//EN
CALSCALE:GREGORIAN
METHOD:PUBLISH
X-ORIGINAL-URL:https://bcpz.nl
X-WR-CALDESC:Evenementen voor Buurtcontactpunt Zesgehuchten
REFRESH-INTERVAL;VALUE=DURATION:PT1H
X-Robots-Tag:noindex
X-PUBLISHED-TTL:PT1H
BEGIN:VTIMEZONE
TZID:Europe/Amsterdam
BEGIN:DAYLIGHT
TZOFFSETFROM:+0100
TZOFFSETTO:+0200
TZNAME:CEST
DTSTART:20220327T010000
END:DAYLIGHT
BEGIN:STANDARD
TZOFFSETFROM:+0200
TZOFFSETTO:+0100
TZNAME:CET
DTSTART:20221030T010000
END:STANDARD
BEGIN:DAYLIGHT
TZOFFSETFROM:+0100
TZOFFSETTO:+0200
TZNAME:CEST
DTSTART:20230326T010000
END:DAYLIGHT
BEGIN:STANDARD
TZOFFSETFROM:+0200
TZOFFSETTO:+0100
TZNAME:CET
DTSTART:20231029T010000
END:STANDARD
BEGIN:DAYLIGHT
TZOFFSETFROM:+0100
TZOFFSETTO:+0200
TZNAME:CEST
DTSTART:20240331T010000
END:DAYLIGHT
BEGIN:STANDARD
TZOFFSETFROM:+0200
TZOFFSETTO:+0100
TZNAME:CET
DTSTART:20241027T010000
END:STANDARD
END:VTIMEZONE
BEGIN:VEVENT
DTSTART;TZID=Europe/Amsterdam:20231211T100000
DTEND;TZID=Europe/Amsterdam:20231211T120000
DTSTAMP:20260420T113356
CREATED:20231009T134012Z
LAST-MODIFIED:20231009T134012Z
UID:1063-1702288800-1702296000@bcpz.nl
SUMMARY:Inloop met koffie en thee
DESCRIPTION:Josephinehof\, Josephinehof 2A (ingang in Gildestraat)\, Geldrop. Aanmelden hoeft niet\, kom gezellig langs. bijdrage 3 euro
URL:https://bcpz.nl/event/inloop-met-koffie-en-thee-86/
CATEGORIES:Inloop
END:VEVENT
BEGIN:VEVENT
DTSTART;TZID=Europe/Amsterdam:20231204T100000
DTEND;TZID=Europe/Amsterdam:20231204T120000
DTSTAMP:20260420T113356
CREATED:20231009T133931Z
LAST-MODIFIED:20231009T133931Z
UID:1061-1701684000-1701691200@bcpz.nl
SUMMARY:Inloop met koffie en thee
DESCRIPTION:Josephinehof\, Josephinehof 2A (ingang in Gildestraat)\, Geldrop. Aanmelden hoeft niet\, kom gezellig langs. bijdrage 3 euro
URL:https://bcpz.nl/event/inloop-met-koffie-en-thee-85/
CATEGORIES:Inloop
END:VEVENT
BEGIN:VEVENT
DTSTART;TZID=Europe/Amsterdam:20231127T100000
DTEND;TZID=Europe/Amsterdam:20231127T120000
DTSTAMP:20260420T113356
CREATED:20230513T130745Z
LAST-MODIFIED:20230513T130745Z
UID:979-1701079200-1701086400@bcpz.nl
SUMMARY:Inloop met koffie en thee
DESCRIPTION:Josephinehof\, Josephinehof 2A (ingang in Gildestraat)\, Geldrop. Aanmelden hoeft niet\, kom gezellig langs. bijdrage 3 euro
URL:https://bcpz.nl/event/inloop-met-koffie-en-thee-84/
CATEGORIES:Inloop
END:VEVENT
BEGIN:VEVENT
DTSTART;TZID=Europe/Amsterdam:20231120T100000
DTEND;TZID=Europe/Amsterdam:20231120T120000
DTSTAMP:20260420T113356
CREATED:20230513T130701Z
LAST-MODIFIED:20230513T130701Z
UID:977-1700474400-1700481600@bcpz.nl
SUMMARY:Inloop met koffie en thee
DESCRIPTION:Josephinehof\, Josephinehof 2A (ingang in Gildestraat)\, Geldrop. Aanmelden hoeft niet\, kom gezellig langs. bijdrage 3 euro
URL:https://bcpz.nl/event/inloop-met-koffie-en-thee-83/
CATEGORIES:Inloop
END:VEVENT
BEGIN:VEVENT
DTSTART;TZID=Europe/Amsterdam:20231113T100000
DTEND;TZID=Europe/Amsterdam:20231113T120000
DTSTAMP:20260420T113356
CREATED:20230513T130617Z
LAST-MODIFIED:20230513T130617Z
UID:975-1699869600-1699876800@bcpz.nl
SUMMARY:Inloop met koffie en thee
DESCRIPTION:Josephinehof\, Josephinehof 2A (ingang in Gildestraat)\, Geldrop. Aanmelden hoeft niet\, kom gezellig langs. bijdrage 3 euro
URL:https://bcpz.nl/event/inloop-met-koffie-en-thee-82/
CATEGORIES:Inloop
END:VEVENT
BEGIN:VEVENT
DTSTART;TZID=Europe/Amsterdam:20231106T100000
DTEND;TZID=Europe/Amsterdam:20231106T120000
DTSTAMP:20260420T113356
CREATED:20230513T130541Z
LAST-MODIFIED:20230513T130541Z
UID:972-1699264800-1699272000@bcpz.nl
SUMMARY:Inloop met koffie en thee
DESCRIPTION:Josephinehof\, Josephinehof 2A (ingang in Gildestraat)\, Geldrop. Aanmelden hoeft niet\, kom gezellig langs. bijdrage 3 euro
URL:https://bcpz.nl/event/inloop-met-koffie-en-thee-81/
CATEGORIES:Inloop
END:VEVENT
BEGIN:VEVENT
DTSTART;TZID=Europe/Amsterdam:20231030T100000
DTEND;TZID=Europe/Amsterdam:20231030T120000
DTSTAMP:20260420T113356
CREATED:20230513T130338Z
LAST-MODIFIED:20230513T130338Z
UID:970-1698660000-1698667200@bcpz.nl
SUMMARY:Inloop met koffie en thee
DESCRIPTION:Josephinehof\, Josephinehof 2A (ingang in Gildestraat)\, Geldrop. Aanmelden hoeft niet\, kom gezellig langs. bijdrage 3 euro
URL:https://bcpz.nl/event/inloop-met-koffie-en-thee-80/
CATEGORIES:Inloop
END:VEVENT
BEGIN:VEVENT
DTSTART;TZID=Europe/Amsterdam:20231023T100000
DTEND;TZID=Europe/Amsterdam:20231023T120000
DTSTAMP:20260420T113356
CREATED:20230513T130256Z
LAST-MODIFIED:20230513T130256Z
UID:968-1698055200-1698062400@bcpz.nl
SUMMARY:Inloop met koffie en thee
DESCRIPTION:Josephinehof\, Josephinehof 2A (ingang in Gildestraat)\, Geldrop. Aanmelden hoeft niet\, kom gezellig langs. bijdrage 3 euro
URL:https://bcpz.nl/event/inloop-met-koffie-en-thee-79/
CATEGORIES:Inloop
END:VEVENT
BEGIN:VEVENT
DTSTART;TZID=Europe/Amsterdam:20231016T100000
DTEND;TZID=Europe/Amsterdam:20231016T120000
DTSTAMP:20260420T113356
CREATED:20230513T130207Z
LAST-MODIFIED:20230513T130207Z
UID:966-1697450400-1697457600@bcpz.nl
SUMMARY:Inloop met koffie en thee
DESCRIPTION:Josephinehof\, Josephinehof 2A (ingang in Gildestraat)\, Geldrop. Aanmelden hoeft niet\, kom gezellig langs. bijdrage 3 euro
URL:https://bcpz.nl/event/inloop-met-koffie-en-thee-78/
CATEGORIES:Inloop
END:VEVENT
BEGIN:VEVENT
DTSTART;TZID=Europe/Amsterdam:20231009T100000
DTEND;TZID=Europe/Amsterdam:20231009T120000
DTSTAMP:20260420T113356
CREATED:20230513T130132Z
LAST-MODIFIED:20230513T130132Z
UID:964-1696845600-1696852800@bcpz.nl
SUMMARY:Inloop met koffie en thee
DESCRIPTION:Josephinehof\, Josephinehof 2A (ingang in Gildestraat)\, Geldrop. Aanmelden hoeft niet\, kom gezellig langs. bijdrage 3 euro
URL:https://bcpz.nl/event/inloop-met-koffie-en-thee-77/
CATEGORIES:Inloop
END:VEVENT
BEGIN:VEVENT
DTSTART;TZID=Europe/Amsterdam:20231002T100000
DTEND;TZID=Europe/Amsterdam:20231002T120000
DTSTAMP:20260420T113356
CREATED:20230513T130057Z
LAST-MODIFIED:20230513T130057Z
UID:962-1696240800-1696248000@bcpz.nl
SUMMARY:Inloop met koffie en thee
DESCRIPTION:Josephinehof\, Josephinehof 2A (ingang in Gildestraat)\, Geldrop. Aanmelden hoeft niet\, kom gezellig langs. bijdrage 3 euro
URL:https://bcpz.nl/event/inloop-met-koffie-en-thee-76/
CATEGORIES:Inloop
END:VEVENT
BEGIN:VEVENT
DTSTART;TZID=Europe/Amsterdam:20230925T100000
DTEND;TZID=Europe/Amsterdam:20230925T120000
DTSTAMP:20260420T113356
CREATED:20230513T130007Z
LAST-MODIFIED:20230513T130007Z
UID:960-1695636000-1695643200@bcpz.nl
SUMMARY:Inloop met koffie en thee
DESCRIPTION:Josephinehof\, Josephinehof 2A (ingang in Gildestraat)\, Geldrop. Aanmelden hoeft niet\, kom gezellig langs. bijdrage 3 euro
URL:https://bcpz.nl/event/inloop-met-koffie-en-thee-75/
CATEGORIES:Inloop
END:VEVENT
BEGIN:VEVENT
DTSTART;TZID=Europe/Amsterdam:20230918T100000
DTEND;TZID=Europe/Amsterdam:20230918T120000
DTSTAMP:20260420T113356
CREATED:20230513T125932Z
LAST-MODIFIED:20230513T125932Z
UID:958-1695031200-1695038400@bcpz.nl
SUMMARY:Inloop met koffie en thee
DESCRIPTION:Josephinehof\, Josephinehof 2A (ingang in Gildestraat)\, Geldrop. Aanmelden hoeft niet\, kom gezellig langs. bijdrage 3 euro
URL:https://bcpz.nl/event/inloop-met-koffie-en-thee-74/
CATEGORIES:Inloop
END:VEVENT
BEGIN:VEVENT
DTSTART;TZID=Europe/Amsterdam:20230911T100000
DTEND;TZID=Europe/Amsterdam:20230911T120000
DTSTAMP:20260420T113356
CREATED:20230513T125854Z
LAST-MODIFIED:20230513T125854Z
UID:956-1694426400-1694433600@bcpz.nl
SUMMARY:Inloop met koffie en thee
DESCRIPTION:Josephinehof\, Josephinehof 2A (ingang in Gildestraat)\, Geldrop. Aanmelden hoeft niet\, kom gezellig langs. bijdrage 3 euro
URL:https://bcpz.nl/event/inloop-met-koffie-en-thee-73/
CATEGORIES:Inloop
END:VEVENT
BEGIN:VEVENT
DTSTART;TZID=Europe/Amsterdam:20230904T100000
DTEND;TZID=Europe/Amsterdam:20230904T120000
DTSTAMP:20260420T113356
CREATED:20230513T125812Z
LAST-MODIFIED:20230513T125812Z
UID:954-1693821600-1693828800@bcpz.nl
SUMMARY:Inloop met koffie en thee
DESCRIPTION:Josephinehof\, Josephinehof 2A (ingang in Gildestraat)\, Geldrop. Aanmelden hoeft niet\, kom gezellig langs. bijdrage 3 euro
URL:https://bcpz.nl/event/inloop-met-koffie-en-thee-72/
CATEGORIES:Inloop
END:VEVENT
BEGIN:VEVENT
DTSTART;TZID=Europe/Amsterdam:20230828T100000
DTEND;TZID=Europe/Amsterdam:20230828T120000
DTSTAMP:20260420T113356
CREATED:20230513T125733Z
LAST-MODIFIED:20230513T125733Z
UID:952-1693216800-1693224000@bcpz.nl
SUMMARY:Inloop met koffie en thee
DESCRIPTION:Josephinehof\, Josephinehof 2A (ingang in Gildestraat)\, Geldrop. Aanmelden hoeft niet\, kom gezellig langs. bijdrage 3 euro
URL:https://bcpz.nl/event/inloop-met-koffie-en-thee-71/
CATEGORIES:Inloop
END:VEVENT
BEGIN:VEVENT
DTSTART;TZID=Europe/Amsterdam:20230821T100000
DTEND;TZID=Europe/Amsterdam:20230821T120000
DTSTAMP:20260420T113356
CREATED:20230513T125650Z
LAST-MODIFIED:20230513T125650Z
UID:950-1692612000-1692619200@bcpz.nl
SUMMARY:Inloop met koffie en thee
DESCRIPTION:Josephinehof\, Josephinehof 2A (ingang in Gildestraat)\, Geldrop. Aanmelden hoeft niet\, kom gezellig langs. bijdrage 3 euro
URL:https://bcpz.nl/event/inloop-met-koffie-en-thee-70/
CATEGORIES:Inloop
END:VEVENT
BEGIN:VEVENT
DTSTART;TZID=Europe/Amsterdam:20230814T100000
DTEND;TZID=Europe/Amsterdam:20230814T120000
DTSTAMP:20260420T113356
CREATED:20230513T125615Z
LAST-MODIFIED:20230513T125615Z
UID:948-1692007200-1692014400@bcpz.nl
SUMMARY:Inloop met koffie en thee
DESCRIPTION:Josephinehof\, Josephinehof 2A (ingang in Gildestraat)\, Geldrop. Aanmelden hoeft niet\, kom gezellig langs. bijdrage 3 euro
URL:https://bcpz.nl/event/inloop-met-koffie-en-thee-69/
CATEGORIES:Inloop
END:VEVENT
BEGIN:VEVENT
DTSTART;TZID=Europe/Amsterdam:20230807T100000
DTEND;TZID=Europe/Amsterdam:20230807T120000
DTSTAMP:20260420T113356
CREATED:20230513T125537Z
LAST-MODIFIED:20230513T125537Z
UID:946-1691402400-1691409600@bcpz.nl
SUMMARY:Inloop met koffie en thee
DESCRIPTION:Josephinehof\, Josephinehof 2A (ingang in Gildestraat)\, Geldrop. Aanmelden hoeft niet\, kom gezellig langs. bijdrage 3 euro
URL:https://bcpz.nl/event/inloop-met-koffie-en-thee-68/
CATEGORIES:Inloop
END:VEVENT
BEGIN:VEVENT
DTSTART;TZID=Europe/Amsterdam:20230731T100000
DTEND;TZID=Europe/Amsterdam:20230731T120000
DTSTAMP:20260420T113356
CREATED:20230211T171326Z
LAST-MODIFIED:20230211T171326Z
UID:823-1690797600-1690804800@bcpz.nl
SUMMARY:Inloop met koffie en thee
DESCRIPTION:Josephinehof\, Josephinehof 2A (ingang in Gildestraat)\, Geldrop. Aanmelden hoeft niet\, kom gezellig langs. bijdrage 3 euro
URL:https://bcpz.nl/event/inloop-met-koffie-en-thee-67/
CATEGORIES:Inloop
END:VEVENT
BEGIN:VEVENT
DTSTART;TZID=Europe/Amsterdam:20230724T100000
DTEND;TZID=Europe/Amsterdam:20230724T120000
DTSTAMP:20260420T113356
CREATED:20230211T171243Z
LAST-MODIFIED:20230211T171243Z
UID:821-1690192800-1690200000@bcpz.nl
SUMMARY:Inloop met koffie en thee
DESCRIPTION:Josephinehof\, Josephinehof 2A (ingang in Gildestraat)\, Geldrop. Aanmelden hoeft niet\, kom gezellig langs. bijdrage 3 euro
URL:https://bcpz.nl/event/inloop-met-koffie-en-thee-66/
CATEGORIES:Inloop
END:VEVENT
BEGIN:VEVENT
DTSTART;TZID=Europe/Amsterdam:20230717T100000
DTEND;TZID=Europe/Amsterdam:20230717T120000
DTSTAMP:20260420T113356
CREATED:20230211T171151Z
LAST-MODIFIED:20230211T171151Z
UID:819-1689588000-1689595200@bcpz.nl
SUMMARY:Inloop met koffie en thee
DESCRIPTION:Josephinehof\, Josephinehof 2A (ingang in Gildestraat)\, Geldrop. Aanmelden hoeft niet\, kom gezellig langs. bijdrage 3 euro
URL:https://bcpz.nl/event/inloop-met-koffie-en-thee-65/
CATEGORIES:Inloop
END:VEVENT
BEGIN:VEVENT
DTSTART;TZID=Europe/Amsterdam:20230710T100000
DTEND;TZID=Europe/Amsterdam:20230710T120000
DTSTAMP:20260420T113356
CREATED:20230211T171107Z
LAST-MODIFIED:20230211T171107Z
UID:817-1688983200-1688990400@bcpz.nl
SUMMARY:Inloop met koffie en thee
DESCRIPTION:Josephinehof\, Josephinehof 2A (ingang in Gildestraat)\, Geldrop. Aanmelden hoeft niet\, kom gezellig langs. bijdrage 3 euro
URL:https://bcpz.nl/event/inloop-met-koffie-en-thee-64/
CATEGORIES:Inloop
END:VEVENT
BEGIN:VEVENT
DTSTART;TZID=Europe/Amsterdam:20230703T100000
DTEND;TZID=Europe/Amsterdam:20230703T120000
DTSTAMP:20260420T113356
CREATED:20230211T171029Z
LAST-MODIFIED:20230211T171029Z
UID:815-1688378400-1688385600@bcpz.nl
SUMMARY:Inloop met koffie en thee
DESCRIPTION:Josephinehof\, Josephinehof 2A (ingang in Gildestraat)\, Geldrop. Aanmelden hoeft niet\, kom gezellig langs. bijdrage 3 euro
URL:https://bcpz.nl/event/inloop-met-koffie-en-thee-63/
CATEGORIES:Inloop
END:VEVENT
BEGIN:VEVENT
DTSTART;TZID=Europe/Amsterdam:20230626T100000
DTEND;TZID=Europe/Amsterdam:20230626T120000
DTSTAMP:20260420T113356
CREATED:20230211T170935Z
LAST-MODIFIED:20230211T170935Z
UID:813-1687773600-1687780800@bcpz.nl
SUMMARY:Inloop met koffie en thee
DESCRIPTION:Josephinehof\, Josephinehof 2A (ingang in Gildestraat)\, Geldrop. Aanmelden hoeft niet\, kom gezellig langs. bijdrage 3 euro
URL:https://bcpz.nl/event/inloop-met-koffie-en-thee-62/
CATEGORIES:Inloop
END:VEVENT
BEGIN:VEVENT
DTSTART;TZID=Europe/Amsterdam:20230619T100000
DTEND;TZID=Europe/Amsterdam:20230619T120000
DTSTAMP:20260420T113356
CREATED:20230211T170856Z
LAST-MODIFIED:20230211T170856Z
UID:811-1687168800-1687176000@bcpz.nl
SUMMARY:Inloop met koffie en thee
DESCRIPTION:Josephinehof\, Josephinehof 2A (ingang in Gildestraat)\, Geldrop. Aanmelden hoeft niet\, kom gezellig langs. bijdrage 3 euro
URL:https://bcpz.nl/event/inloop-met-koffie-en-thee-61/
CATEGORIES:Inloop
END:VEVENT
BEGIN:VEVENT
DTSTART;TZID=Europe/Amsterdam:20230612T100000
DTEND;TZID=Europe/Amsterdam:20230612T120000
DTSTAMP:20260420T113356
CREATED:20230211T170805Z
LAST-MODIFIED:20230211T170805Z
UID:809-1686564000-1686571200@bcpz.nl
SUMMARY:Inloop met koffie en thee
DESCRIPTION:Josephinehof\, Josephinehof 2A (ingang in Gildestraat)\, Geldrop. Aanmelden hoeft niet\, kom gezellig langs. bijdrage 3 euro
URL:https://bcpz.nl/event/inloop-met-koffie-en-thee-60/
CATEGORIES:Inloop
END:VEVENT
BEGIN:VEVENT
DTSTART;TZID=Europe/Amsterdam:20230605T100000
DTEND;TZID=Europe/Amsterdam:20230605T120000
DTSTAMP:20260420T113356
CREATED:20230211T170723Z
LAST-MODIFIED:20230211T170723Z
UID:807-1685959200-1685966400@bcpz.nl
SUMMARY:Inloop met koffie en thee
DESCRIPTION:Josephinehof\, Josephinehof 2A (ingang in Gildestraat)\, Geldrop. Aanmelden hoeft niet\, kom gezellig langs. bijdrage 3 euro
URL:https://bcpz.nl/event/inloop-met-koffie-en-thee-59/
CATEGORIES:Inloop
END:VEVENT
BEGIN:VEVENT
DTSTART;TZID=Europe/Amsterdam:20230529T000000
DTEND;TZID=Europe/Amsterdam:20230529T000000
DTSTAMP:20260420T113356
CREATED:20230211T170547Z
LAST-MODIFIED:20230213T084428Z
UID:803-1685318400-1685318400@bcpz.nl
SUMMARY:Geen activiteit vanwege Tweede Pinksterdag
DESCRIPTION:
URL:https://bcpz.nl/event/inloop-met-koffie-en-thee-57/
CATEGORIES:Inloop
END:VEVENT
BEGIN:VEVENT
DTSTART;TZID=Europe/Amsterdam:20230522T100000
DTEND;TZID=Europe/Amsterdam:20230522T120000
DTSTAMP:20260420T113356
CREATED:20230211T170635Z
LAST-MODIFIED:20230211T170635Z
UID:805-1684749600-1684756800@bcpz.nl
SUMMARY:Inloop met koffie en thee
DESCRIPTION:Josephinehof\, Josephinehof 2A (ingang in Gildestraat)\, Geldrop. Aanmelden hoeft niet\, kom gezellig langs. bijdrage 3 euro
URL:https://bcpz.nl/event/inloop-met-koffie-en-thee-58/
CATEGORIES:Inloop
END:VEVENT
END:VCALENDAR