BEGIN:VCALENDAR
VERSION:2.0
PRODID:-//Buurtcontactpunt Zesgehuchten - ECPv6.15.20//NONSGML v1.0//EN
CALSCALE:GREGORIAN
METHOD:PUBLISH
X-WR-CALNAME:Buurtcontactpunt Zesgehuchten
X-ORIGINAL-URL:https://bcpz.nl
X-WR-CALDESC:Evenementen voor Buurtcontactpunt Zesgehuchten
REFRESH-INTERVAL;VALUE=DURATION:PT1H
X-Robots-Tag:noindex
X-PUBLISHED-TTL:PT1H
BEGIN:VTIMEZONE
TZID:Europe/Amsterdam
BEGIN:DAYLIGHT
TZOFFSETFROM:+0100
TZOFFSETTO:+0200
TZNAME:CEST
DTSTART:20220327T010000
END:DAYLIGHT
BEGIN:STANDARD
TZOFFSETFROM:+0200
TZOFFSETTO:+0100
TZNAME:CET
DTSTART:20221030T010000
END:STANDARD
BEGIN:DAYLIGHT
TZOFFSETFROM:+0100
TZOFFSETTO:+0200
TZNAME:CEST
DTSTART:20230326T010000
END:DAYLIGHT
BEGIN:STANDARD
TZOFFSETFROM:+0200
TZOFFSETTO:+0100
TZNAME:CET
DTSTART:20231029T010000
END:STANDARD
BEGIN:DAYLIGHT
TZOFFSETFROM:+0100
TZOFFSETTO:+0200
TZNAME:CEST
DTSTART:20240331T010000
END:DAYLIGHT
BEGIN:STANDARD
TZOFFSETFROM:+0200
TZOFFSETTO:+0100
TZNAME:CET
DTSTART:20241027T010000
END:STANDARD
BEGIN:DAYLIGHT
TZOFFSETFROM:+0100
TZOFFSETTO:+0200
TZNAME:CEST
DTSTART:20250330T010000
END:DAYLIGHT
BEGIN:STANDARD
TZOFFSETFROM:+0200
TZOFFSETTO:+0100
TZNAME:CET
DTSTART:20251026T010000
END:STANDARD
END:VTIMEZONE
BEGIN:VEVENT
DTSTART;TZID=Europe/Amsterdam:20240328T140000
DTEND;TZID=Europe/Amsterdam:20240328T160000
DTSTAMP:20260421T204005
CREATED:20240302T151316Z
LAST-MODIFIED:20240302T151316Z
UID:1278-1711634400-1711641600@bcpz.nl
SUMMARY:Paasstukje maken
DESCRIPTION:Een gezellige middag om een mooi tafelstukje te maken voor op de paastafel…\nnatuurlijk is er gratis koffie en thee en de mogelijkheid om tegen betaling een drankje te bestellen. \nDatum: donderdag 28 maar\nTijd: 14.00 tot 16.00 uur\nWaar: BuurtContactpunt Zesgehuchten \nKosten: 5 euro inclusief alle materialen voor het paasstukje \nSchrijf je snel in (voor 22 maart) bij Aggie. Mobiel 06 36 404 180
URL:https://bcpz.nl/event/paasstukje-maken-2/
CATEGORIES:Extra activiteiten
END:VEVENT
BEGIN:VEVENT
DTSTART;TZID=Europe/Amsterdam:20240228T140000
DTEND;TZID=Europe/Amsterdam:20240228T160000
DTSTAMP:20260421T204005
CREATED:20240208T101114Z
LAST-MODIFIED:20240208T101114Z
UID:1189-1709128800-1709136000@bcpz.nl
SUMMARY:Natuurfilm Cor Speek
DESCRIPTION:Cor Speek laat ons meegenieten van zijn prachtige natuurfilms gemaakt in de Geldropse kasteeltuin\, maar ook in de fraaie natuur rondom Geldrop.\nKomt dat zien\, komt dat zien!! \nNatuurlijk is er vooraf gratis koffie en thee en is er de mogelijkheid om tegen betaling een drankje te bestellen. Uiteraard zorgen wij voor een knabbeltje tijdens de film. \nBijdrage: 5 euro \nTijd: vanaf 14.00 uur tot ongeveer 16.00 uur \nWaar: Buurtcontactpunt Zesgehuchten\, Josephinehof 2A \nOpgeven bij Aggie:  06-36404180
URL:https://bcpz.nl/event/natuurfilm-cor-speek/
CATEGORIES:Extra activiteiten
END:VEVENT
BEGIN:VEVENT
DTSTART;TZID=Europe/Amsterdam:20240219T100000
DTEND;TZID=Europe/Amsterdam:20240219T120000
DTSTAMP:20260421T204005
CREATED:20231009T134938Z
LAST-MODIFIED:20231009T134938Z
UID:1079-1708336800-1708344000@bcpz.nl
SUMMARY:Inloop met koffie en thee
DESCRIPTION:Josephinehof\, Josephinehof 2A (ingang in Gildestraat)\, Geldrop. Aanmelden hoeft niet\, kom gezellig langs. bijdrage 3 euro
URL:https://bcpz.nl/event/inloop-met-koffie-en-thee-94/
CATEGORIES:Extra activiteiten
END:VEVENT
BEGIN:VEVENT
DTSTART;TZID=Europe/Amsterdam:20240112T150000
DTEND;TZID=Europe/Amsterdam:20240112T170000
DTSTAMP:20260421T204005
CREATED:20231016T123127Z
LAST-MODIFIED:20231016T140619Z
UID:1154-1705071600-1705078800@bcpz.nl
SUMMARY:Nieuwjaarsreceptie
DESCRIPTION:Wij willen graag op deze middag samen met alle gasten\, vrijwilligers met partner en het bestuur van het BCP het nieuwe jaar inluiden. \nDe familie van de Broek zal deze middag weer muzikaal opvrolijken. \nVoor deze middag aanmelden bij Aggie\, tel. 06 364 04180 \nDe receptie is in de grote zaal van het BCP in de Josephine hof. \n     
URL:https://bcpz.nl/event/nieuwjaarsreceptie/
CATEGORIES:Extra activiteiten
END:VEVENT
BEGIN:VEVENT
DTSTART;TZID=Europe/Amsterdam:20231122T140000
DTEND;TZID=Europe/Amsterdam:20231122T160000
DTSTAMP:20260421T204005
CREATED:20231010T183317Z
LAST-MODIFIED:20231010T192824Z
UID:1140-1700661600-1700668800@bcpz.nl
SUMMARY:We gaan weer kienen .......
DESCRIPTION:Een gezellige kien middag\, met vele mooie prijzen!!\nUiteraard met een lekker kopje koffie of thee met iets lekkers. \nTijd: vanaf 14.00 uur tot ongeveer 16.00 uur \nWaar: Buurtcontactpunt Zesgehuchten\, Josephinehof 2A \nKosten: 5 euro \nOpgeven bij Aggie:  06-36404180   Graag opgeven voor donderdag 16 november \n \n  \n  \n 
URL:https://bcpz.nl/event/we-gaan-weer-kienen/
CATEGORIES:Extra activiteiten
END:VEVENT
BEGIN:VEVENT
DTSTART;TZID=Europe/Amsterdam:20231026T140000
DTEND;TZID=Europe/Amsterdam:20231026T160000
DTSTAMP:20260421T204005
CREATED:20231010T182115Z
LAST-MODIFIED:20231010T193023Z
UID:1135-1698328800-1698336000@bcpz.nl
SUMMARY:Workshop kleien
DESCRIPTION:Onder begeleiding kunt u kennismaken met het werken met klei.\nWe hebben een eenvoudig model gekozen dat voor iedereen te maken is.\nGezellig met een kopje koffie of thee. \nDatum: donderdag 26 oktober \nTijd: van 14.00 uur tot ongeveer 16.00 uur \nWaar: Buurt Contactpunt Zesgehuchten \nJosephinehof 2A \nKosten: 5 euro \nOpgeven bij: Aggie 06-36404180
URL:https://bcpz.nl/event/workshop-kleien-2/
CATEGORIES:Extra activiteiten
END:VEVENT
BEGIN:VEVENT
DTSTART;TZID=Europe/Amsterdam:20230823T140000
DTEND;TZID=Europe/Amsterdam:20230823T160000
DTSTAMP:20260421T204005
CREATED:20230711T140915Z
LAST-MODIFIED:20230711T141503Z
UID:1049-1692799200-1692806400@bcpz.nl
SUMMARY:De Straotzangers!!
DESCRIPTION:Een gezellige muzikale middag met de Straotzangers.\nMeezingen en meegenieten!\nHet begint om 14.00 uur tot 16.00 uur. \nWij zorgen voor een koffie\, thee en lekkere hapjes. \nJosephinehof\, Josephinehof 2A (ingang in Gildestraat)\, Geldrop. \nBijdrage € 5 \nAls u wilt aanmelden\, bel Aggie tel. 06 364 04180
URL:https://bcpz.nl/event/de-straotzangers/
CATEGORIES:Extra activiteiten
END:VEVENT
BEGIN:VEVENT
DTSTART;TZID=Europe/Amsterdam:20230726T140000
DTEND;TZID=Europe/Amsterdam:20230726T160000
DTSTAMP:20260421T204005
CREATED:20230711T140451Z
LAST-MODIFIED:20230711T141929Z
UID:1044-1690380000-1690387200@bcpz.nl
SUMMARY:Versieren met servetten
DESCRIPTION:Een gezellige middag knutselen en frutselen onder het genot van een lekker kopje thee of koffie. Het begint om 14.00 uur tot ongeveer 16.00 uur. \nJosephinehof\, Josephinehof 2A (ingang in Gildestraat)\, Geldrop. \nBijdrage € 5 \nAls u wilt aanmelden\, bel Aggie tel. 06 364 04180
URL:https://bcpz.nl/event/versieren-met-servetten/
CATEGORIES:Extra activiteiten
END:VEVENT
BEGIN:VEVENT
DTSTART;TZID=Europe/Amsterdam:20230531T123000
DTEND;TZID=Europe/Amsterdam:20230531T150000
DTSTAMP:20260421T204005
CREATED:20230505T092207Z
LAST-MODIFIED:20230505T092207Z
UID:932-1685536200-1685545200@bcpz.nl
SUMMARY:Feestelijke High Tea
DESCRIPTION:We organiseren een feestelijke High Tea. Het begint om 12.30 uur\ntot ongeveer 15.00 uur. \nJosephinehof\, Josephinehof 2A (ingang in Gildestraat)\, Geldrop. \nAls u wilt aanmelden\, graag voor 24 mei. bel Aggie tel. 06 364 04180. Bijdrage € 5
URL:https://bcpz.nl/event/feestelijke-high-tea/
CATEGORIES:Extra activiteiten
END:VEVENT
BEGIN:VEVENT
DTSTART;TZID=Europe/Amsterdam:20230330T140000
DTEND;TZID=Europe/Amsterdam:20230330T160000
DTSTAMP:20260421T204005
CREATED:20230309T091457Z
LAST-MODIFIED:20230309T123143Z
UID:893-1680184800-1680192000@bcpz.nl
SUMMARY:Samen Paasschilderijtje maken
DESCRIPTION:Donderdag 30 maart hebben we de workshop Paasschilderijtje. Dit is gemakkelijk te maken en staat of hangt gezellig met de Pasen. \nWij zorgen voor de materialen. \nJosephinehof\, Josephinehof 2A (ingang in Gildestraat)\, Geldrop. \nAls u wilt aanmelden\, bel Aggie tel. 06 364 04180. Bijdrage € 5
URL:https://bcpz.nl/event/samen-paasstukjes-maken/
CATEGORIES:Extra activiteiten
END:VEVENT
END:VCALENDAR