BEGIN:VCALENDAR
VERSION:2.0
PRODID:-//Buurtcontactpunt Zesgehuchten - ECPv6.15.20//NONSGML v1.0//EN
CALSCALE:GREGORIAN
METHOD:PUBLISH
X-ORIGINAL-URL:https://bcpz.nl
X-WR-CALDESC:Evenementen voor Buurtcontactpunt Zesgehuchten
REFRESH-INTERVAL;VALUE=DURATION:PT1H
X-Robots-Tag:noindex
X-PUBLISHED-TTL:PT1H
BEGIN:VTIMEZONE
TZID:Europe/Amsterdam
BEGIN:DAYLIGHT
TZOFFSETFROM:+0100
TZOFFSETTO:+0200
TZNAME:CEST
DTSTART:20240331T010000
END:DAYLIGHT
BEGIN:STANDARD
TZOFFSETFROM:+0200
TZOFFSETTO:+0100
TZNAME:CET
DTSTART:20241027T010000
END:STANDARD
BEGIN:DAYLIGHT
TZOFFSETFROM:+0100
TZOFFSETTO:+0200
TZNAME:CEST
DTSTART:20250330T010000
END:DAYLIGHT
BEGIN:STANDARD
TZOFFSETFROM:+0200
TZOFFSETTO:+0100
TZNAME:CET
DTSTART:20251026T010000
END:STANDARD
BEGIN:DAYLIGHT
TZOFFSETFROM:+0100
TZOFFSETTO:+0200
TZNAME:CEST
DTSTART:20260329T010000
END:DAYLIGHT
BEGIN:STANDARD
TZOFFSETFROM:+0200
TZOFFSETTO:+0100
TZNAME:CET
DTSTART:20261025T010000
END:STANDARD
END:VTIMEZONE
BEGIN:VEVENT
DTSTART;TZID=Europe/Amsterdam:20250724T140000
DTEND;TZID=Europe/Amsterdam:20250724T160000
DTSTAMP:20260423T111545
CREATED:20250608T124848Z
LAST-MODIFIED:20250608T125047Z
UID:1741-1753365600-1753372800@bcpz.nl
SUMMARY:Zomerspektakel met de Hizzer Zeenioren
DESCRIPTION:Kom meezingen met de Hizzer Zeenioren.\nInhakken maar en meedeinen!\nWij zorgen voor de feeststemming\, met koffie\, thee en iets lekkers.\nNatuurlijk met de mogelijkheid om tegen betaling een drankje te bestellen. \nTijd: 14.00 -16.00 uur\nKosten: 5 euro\nAanmelden via Aggie: mobiel 06 36 40 41 80 \n \n 
URL:https://bcpz.nl/event/zomerspektakel-met-de-hizzer-zeenioren/
CATEGORIES:Extra activiteiten
END:VEVENT
END:VCALENDAR