BEGIN:VCALENDAR
VERSION:2.0
PRODID:-//Buurtcontactpunt Zesgehuchten - ECPv6.15.20//NONSGML v1.0//EN
CALSCALE:GREGORIAN
METHOD:PUBLISH
X-WR-CALNAME:Buurtcontactpunt Zesgehuchten
X-ORIGINAL-URL:https://bcpz.nl
X-WR-CALDESC:Evenementen voor Buurtcontactpunt Zesgehuchten
REFRESH-INTERVAL;VALUE=DURATION:PT1H
X-Robots-Tag:noindex
X-PUBLISHED-TTL:PT1H
BEGIN:VTIMEZONE
TZID:Europe/Amsterdam
BEGIN:DAYLIGHT
TZOFFSETFROM:+0100
TZOFFSETTO:+0200
TZNAME:CEST
DTSTART:20240331T010000
END:DAYLIGHT
BEGIN:STANDARD
TZOFFSETFROM:+0200
TZOFFSETTO:+0100
TZNAME:CET
DTSTART:20241027T010000
END:STANDARD
BEGIN:DAYLIGHT
TZOFFSETFROM:+0100
TZOFFSETTO:+0200
TZNAME:CEST
DTSTART:20250330T010000
END:DAYLIGHT
BEGIN:STANDARD
TZOFFSETFROM:+0200
TZOFFSETTO:+0100
TZNAME:CET
DTSTART:20251026T010000
END:STANDARD
BEGIN:DAYLIGHT
TZOFFSETFROM:+0100
TZOFFSETTO:+0200
TZNAME:CEST
DTSTART:20260329T010000
END:DAYLIGHT
BEGIN:STANDARD
TZOFFSETFROM:+0200
TZOFFSETTO:+0100
TZNAME:CET
DTSTART:20261025T010000
END:STANDARD
END:VTIMEZONE
BEGIN:VEVENT
DTSTART;TZID=Europe/Amsterdam:20250227T140000
DTEND;TZID=Europe/Amsterdam:20250227T160000
DTSTAMP:20260424T220101
CREATED:20250130T151441Z
LAST-MODIFIED:20250130T151520Z
UID:1597-1740664800-1740672000@bcpz.nl
SUMMARY:Carnavals muziekbingo
DESCRIPTION:Met uiteraard veel mooie prijzen …..\nNatuurlijk is er gratis koffie en thee en de mogelijkheid om tegen betaling een drankje te bestellen. \nWanneer: donderdag 27 februari\nTijd: 14.00 uur tot ongeveer 16.00 uur \nKosten: 5 euro \nOpgeven bij Aggie: 06 36 40 41 80 \nP.S. Je mag verkleed komen\, niet verplicht hoor!!
URL:https://bcpz.nl/event/muziekbingo/
CATEGORIES:Extra activiteiten
END:VEVENT
END:VCALENDAR